BEGIN:VCALENDAR
VERSION:2.0
PRODID:-//Eventi in Toscana By Toscana Tascabile - ECPv6.15.12.2//NONSGML v1.0//EN
CALSCALE:GREGORIAN
METHOD:PUBLISH
X-WR-CALNAME:Eventi in Toscana By Toscana Tascabile
X-ORIGINAL-URL:https://www.eventiintoscana.it
X-WR-CALDESC:Eventi per Eventi in Toscana By Toscana Tascabile
REFRESH-INTERVAL;VALUE=DURATION:PT1H
X-Robots-Tag:noindex
X-PUBLISHED-TTL:PT1H
BEGIN:VTIMEZONE
TZID:Europe/Rome
BEGIN:DAYLIGHT
TZOFFSETFROM:+0100
TZOFFSETTO:+0200
TZNAME:CEST
DTSTART:20150329T010000
END:DAYLIGHT
BEGIN:STANDARD
TZOFFSETFROM:+0200
TZOFFSETTO:+0100
TZNAME:CET
DTSTART:20151025T010000
END:STANDARD
BEGIN:DAYLIGHT
TZOFFSETFROM:+0100
TZOFFSETTO:+0200
TZNAME:CEST
DTSTART:20160327T010000
END:DAYLIGHT
BEGIN:STANDARD
TZOFFSETFROM:+0200
TZOFFSETTO:+0100
TZNAME:CET
DTSTART:20161030T010000
END:STANDARD
BEGIN:DAYLIGHT
TZOFFSETFROM:+0100
TZOFFSETTO:+0200
TZNAME:CEST
DTSTART:20170326T010000
END:DAYLIGHT
BEGIN:STANDARD
TZOFFSETFROM:+0200
TZOFFSETTO:+0100
TZNAME:CET
DTSTART:20171029T010000
END:STANDARD
END:VTIMEZONE
BEGIN:VEVENT
DTSTART;VALUE=DATE:20160917
DTEND;VALUE=DATE:20160919
DTSTAMP:20260420T004322
CREATED:20160913T103124Z
LAST-MODIFIED:20160914T213336Z
UID:217950-1474070400-1474243199@www.eventiintoscana.it
SUMMARY:Wired Next Fest - La prima volta a Firenze
DESCRIPTION:Il tema della prima edizione fiorentina del festival dell’innovazione di Wired è la bellezza\, intesa non solo in senso artistico-estetico ma anche come motore di cambiamento.\n\nI temi\nForte del successo di 4 edizioni milanesi il Wired Next Fest\, festival dell’innovazione promosso da Wired Italia\, arriverà a Firenze il 17 e 18 settembre con una formula ormai consolidata: raccontare l’economia\, la cultura\, la scienza\, la tecnologia\, il web (la contemporaneità\, insomma) attraverso conferenze\, laboratori e performance artistiche.\n\nGli ospiti\nI protagonisti del Next Fest saranno gli oltre 100 ospiti italiani e internazionali\, fra i quali spiccano i giganti dell’innovazione e della tecnologia di consumo: si va da Lorenzo Thione\, il padre di Bing\, a Joris Evers\, vicepresidente di Netflix; da Scott Fahlman\, inventore degli emoticon\, a Luciano Floridi\, direttore della ricerca all’Oxford Internet Institute. L’innovazione però è trattata non solo nel senso di avanzamento tecnologico ma anche di progresso socio-culturale:  fra gli ospiti ci saranno anche Monica Cirinnà\, la senatrice prima firmataria della legge sulle unioni civili tra persone dello stesso sesso\, il direttore generale della RAI Antonio Campo Dall’Orto\, l’astronauta Luca Parmitano\, l’attore Pierfrancesco Favino\, lo chef Massimo Bottura\, i fumettisti Zerocalcare e Roberto Recchioni.\n\n \n\nDove\nGli eventi si terrano a Palazzo Vecchio (che mette a disposizione il Salone dei Cinquecento e la Sala D’Armi)\, mentre workshop e laboratori avranno base al Palagio di Parte Guelfa. La sera del 17 settembre un concerto di musica elettronica il cui protagonista sarà Jon Hopkins: musicista\, compositore e produttore britannico di fama internazionale\, regalerà al pubblico un coinvolgente dj-set. Prima di lui sul palco\, a partire dalle ore 19.30\, si alterneranno nell’ordine: Khompa (co-fondatore degli Stearica e session man già noto dietro i fusti di Baustelle\, Roy Paci Aretuska ed LN Ripley\, a dare il via all’evento serale con un live act audio-visuale unico al mondo)\, Joan Thiele\, M+A e Playroom\, la nuova identità musicale dei Motel Connection.\n\nPer il biglietto\nL’accesso al Wired Next Fest è gratuito ma occorre registrarsi sul sito della manifestazione (dove potete anche trovare la lista completa degli ospiti).
URL:https://www.eventiintoscana.it/evento/wired-next-fest
LOCATION:Firenze\, Firenze\, Italia
CATEGORIES:Firenze
ATTACH;FMTTYPE=image/jpeg:https://www.eventiintoscana.it/wp-content/uploads/2016/09/wired-next-fest-1.jpg
END:VEVENT
END:VCALENDAR