BEGIN:VCALENDAR
VERSION:2.0
PRODID:-//Eventi in Toscana By Toscana Tascabile - ECPv6.15.12.2//NONSGML v1.0//EN
CALSCALE:GREGORIAN
METHOD:PUBLISH
X-WR-CALNAME:Eventi in Toscana By Toscana Tascabile
X-ORIGINAL-URL:https://www.eventiintoscana.it
X-WR-CALDESC:Eventi per Eventi in Toscana By Toscana Tascabile
REFRESH-INTERVAL;VALUE=DURATION:PT1H
X-Robots-Tag:noindex
X-PUBLISHED-TTL:PT1H
BEGIN:VTIMEZONE
TZID:Europe/Rome
BEGIN:DAYLIGHT
TZOFFSETFROM:+0100
TZOFFSETTO:+0200
TZNAME:CEST
DTSTART:20170326T010000
END:DAYLIGHT
BEGIN:STANDARD
TZOFFSETFROM:+0200
TZOFFSETTO:+0100
TZNAME:CET
DTSTART:20171029T010000
END:STANDARD
BEGIN:DAYLIGHT
TZOFFSETFROM:+0100
TZOFFSETTO:+0200
TZNAME:CEST
DTSTART:20180325T010000
END:DAYLIGHT
BEGIN:STANDARD
TZOFFSETFROM:+0200
TZOFFSETTO:+0100
TZNAME:CET
DTSTART:20181028T010000
END:STANDARD
BEGIN:DAYLIGHT
TZOFFSETFROM:+0100
TZOFFSETTO:+0200
TZNAME:CEST
DTSTART:20190331T010000
END:DAYLIGHT
BEGIN:STANDARD
TZOFFSETFROM:+0200
TZOFFSETTO:+0100
TZNAME:CET
DTSTART:20191027T010000
END:STANDARD
END:VTIMEZONE
BEGIN:VEVENT
DTSTART;TZID=Europe/Rome:20180812T000000
DTEND;TZID=Europe/Rome:20180819T000000
DTSTAMP:20260424T060117
CREATED:20180327T072008Z
LAST-MODIFIED:20180813T072022Z
UID:264173-1534032000-1534636800@www.eventiintoscana.it
SUMMARY:Volterra A.D. 1398 - Centro storico\, Volterra (Pisa)
DESCRIPTION:Due appuntamenti con Volterra A. D.: il 12 e il 19 agosto.\nVolterra A.D. 1398 si immerge ancora una volta in due palcoscenici unici: il centro storico\, con gli austeri palazzi e le piazze\, e il Parco Archeologico\, dominato dalla Fortezza Medicea. Il clou della manifestazione è la Giornata di festa nell’Anno Domini 1398\, domenica 12 e 19 Agosto\, da mattina a notte. \nIn questa occasione rivive una città medievale del 1398 con spettacoli\, eventi\, mercanti\, artigiani\, musici\, giocolieri\, popolani e nobili: un’occasione unica per immergersi\, quasi per magia\, nell’atmosfera del medioevo\, in una delle più belle città della Toscana.
URL:https://www.eventiintoscana.it/evento/volterra-a-d-1398-centro-storico-volterra-pisa
LOCATION:Centro storico\, Volterra\, Toscana\, IT
CATEGORIES:Pisa,Rassegne e Sagre
ATTACH;FMTTYPE=image/jpeg:https://www.eventiintoscana.it/wp-content/uploads/2018/03/29124__volterraad1398.jpg
END:VEVENT
END:VCALENDAR