BEGIN:VCALENDAR
VERSION:2.0
PRODID:-//Eventi in Toscana By Toscana Tascabile - ECPv6.15.12.2//NONSGML v1.0//EN
CALSCALE:GREGORIAN
METHOD:PUBLISH
X-WR-CALNAME:Eventi in Toscana By Toscana Tascabile
X-ORIGINAL-URL:https://www.eventiintoscana.it
X-WR-CALDESC:Eventi per Eventi in Toscana By Toscana Tascabile
REFRESH-INTERVAL;VALUE=DURATION:PT1H
X-Robots-Tag:noindex
X-PUBLISHED-TTL:PT1H
BEGIN:VTIMEZONE
TZID:Europe/Rome
BEGIN:DAYLIGHT
TZOFFSETFROM:+0100
TZOFFSETTO:+0200
TZNAME:CEST
DTSTART:20190331T010000
END:DAYLIGHT
BEGIN:STANDARD
TZOFFSETFROM:+0200
TZOFFSETTO:+0100
TZNAME:CET
DTSTART:20191027T010000
END:STANDARD
BEGIN:DAYLIGHT
TZOFFSETFROM:+0100
TZOFFSETTO:+0200
TZNAME:CEST
DTSTART:20200329T010000
END:DAYLIGHT
BEGIN:STANDARD
TZOFFSETFROM:+0200
TZOFFSETTO:+0100
TZNAME:CET
DTSTART:20201025T010000
END:STANDARD
BEGIN:DAYLIGHT
TZOFFSETFROM:+0100
TZOFFSETTO:+0200
TZNAME:CEST
DTSTART:20210328T010000
END:DAYLIGHT
BEGIN:STANDARD
TZOFFSETFROM:+0200
TZOFFSETTO:+0100
TZNAME:CET
DTSTART:20211031T010000
END:STANDARD
END:VTIMEZONE
BEGIN:VEVENT
DTSTART;TZID=Europe/Rome:20201018T100000
DTEND;TZID=Europe/Rome:20201018T150000
DTSTAMP:20260421T114906
CREATED:20201006T162424Z
LAST-MODIFIED:20210702T073905Z
UID:287833-1603015200-1603033200@www.eventiintoscana.it
SUMMARY:Appunti di Viaggio: visita ai Giardini segreti di Buggiano Castello\, il borgo degli agrumi - Buggiano (Pistoia)
DESCRIPTION:Domenica 18 ottobre Confesercenti Pistoia organizza una visita in uno dei luoghi più nascosti ed affascinanti della Valdinievole\, Buggiano Castello\, vero gioiello medievale meglio noto come Borgo degli agrumi.\nL’evento si svolge nell’ambito della rassegna ‘Appunti di Viaggio. Racconti di Toscana tra cultura e cibo’ e prevede una visita a Buggiano Castello\, ai giardini nascosti del borgo e di Villa Sermolli e infine un pranzo al ristorante Perlage di Montecatini Terme. \nBuggiano Castello\, il Borgo degli agrumi \nSi comincia (ore 10.15-12.30) con una passeggiata a Buggiano Castello\, conosciuto appunto come Borgo degli Agrumi per il microclima particolarmente mite che favorisce la crescita di alberi da frutto.  \nIl piccolo borgo\, di circa 150 abitanti\, è un vero gioiello del Medioevo.  \nI partecipanti cammineranno per le sue stradine\, visitandone i palazzi e la chiesa della Madonna della Salute e S. Nicolao risalente al XI secolo.  \nDurante la visita verranno raccontate le storie di vita medievale\, di quando cioè il popolo viveva sulle colline per la propria sicurezza ma anche perché nella valle c’era la palude. \nGrazie ad un accordo con l’Associazione Culturale Buggiano Castello\,  davanti agli occhi dei visitatori si spalancheranno i luoghi segreti del borgo\, come il Palazzo Pretorio e i cancelli dei giardini privati degli abitanti. \n Sarà così possibile ammirare i numerosi tipi di piante e frutti che nascono in questi orti-giardini\, mantenuti con grandissima cura dai loro proprietari.  \nCome ciliegina sulla torta sarà possibile visitare anche i giardini di Villa Sermolli\, acquistata nel 1600 dall’omonima famiglia e che si distingue in paese per il suo tipico colore rosso magenta. \nVilla Sermolli \nUna visita indimenticabile\, alla fine della quale si partirà dal borgo per pranzare con un tipico menù toscano al Ristorante Perlage di Montecatini Terme. \nProgramma della giornata (Costo evento 25\,00 €\, prenotazione obbligatoria entro venerdì 16 ottobre):\nOre 10.00 ritrovo presso il parcheggio del ristorante Sant’Elena\, Via Gavine 29\, 51011 Buggiano (PT) \nOre 10.15 – 12.30 visita del borgo e dei giardini \nOre 12.30 trasferimento con i mezzi propri per il pranzo al ristorante Perlage (Via Pistoiese 59\, 51016 Montecatini Terme) \nMenù del Ristorante Perlage: \nAntipasto del contadino (prosciutto toscano DOP\, salame\, polenta fritta\, olive\, crostini toscani) \nBis di pappa al pomodoro e farinata di cavolo nero della vecchia tradizione  \nO in alternativa pasta al ragù tipico toscano \nFritto dell’ aia (pollo coniglio e verdure fritte) \nGelato alla crema con cialda di Montecatini \nAcqua\, vino caffè  \nCosto evento: 25\,00 € con prenotazione obbligatoria entro venerdì 16 ottobre 2020\n\n			\n				\n			\n			\n				\n			\n			\n				\n			\n			\n				\n			\n			\n				\n			\n			\n				\n			\n		\n\nAlcune foto dei piatti del Ristorante Perlage di Montecatini Terme \n\nPer info e prenotazioni:  \nToscana Turismo & Congressi/Primavera Viaggi  \ndalle 9.00 alle 13.00 e dalle 14.30 alle 18.00 dal lunedì alla domenica  \ntel. 3664091762\, anche su whatsapp \nMail: stefania@primaveraviaggi.it \nL’evento si svolgerà nel rispetto della normativa anti-covid. \n\nInfo sull’evento: \n– Evento Facebook  \n– Sito Confesercenti Pistoia \nPer avere informazioni su tutti gli itinerari di “Appunti di Viaggio: racconti di Toscana tra cultura e cibo” organizzati da Confesercenti Pistoia\, Confesercenti Prato\, Confesercenti Siena e Confesercenti Livorno consultate la Pagina Facebook della manifestazione \n\nIniziativa organizzata da Confesercenti Pistoia con il contributo di Camera di Commercio di Pistoia e Vetrina Toscana\, il progetto di Regione e Unioncamere Toscana che promuove ristoranti e botteghe che utilizzano prodotti tipici del territorio.
URL:https://www.eventiintoscana.it/evento/appunti-di-viaggio-visita-ai-giardini-segreti-di-buggiano-castello-il-borgo-degli-agrumi-buggiano-pistoia
CATEGORIES:Natura e Sport,Pistoia
ATTACH;FMTTYPE=image/jpeg:https://www.eventiintoscana.it/wp-content/uploads/2020/10/740x345_appunti-di-viaggio_visita-buggiano-castello.jpg
END:VEVENT
END:VCALENDAR