BEGIN:VCALENDAR
VERSION:2.0
PRODID:-//Eventi in Toscana By Toscana Tascabile - ECPv6.15.12.2//NONSGML v1.0//EN
CALSCALE:GREGORIAN
METHOD:PUBLISH
X-WR-CALNAME:Eventi in Toscana By Toscana Tascabile
X-ORIGINAL-URL:https://www.eventiintoscana.it
X-WR-CALDESC:Eventi per Eventi in Toscana By Toscana Tascabile
REFRESH-INTERVAL;VALUE=DURATION:PT1H
X-Robots-Tag:noindex
X-PUBLISHED-TTL:PT1H
BEGIN:VTIMEZONE
TZID:Europe/Rome
BEGIN:DAYLIGHT
TZOFFSETFROM:+0100
TZOFFSETTO:+0200
TZNAME:CEST
DTSTART:20180325T010000
END:DAYLIGHT
BEGIN:STANDARD
TZOFFSETFROM:+0200
TZOFFSETTO:+0100
TZNAME:CET
DTSTART:20181028T010000
END:STANDARD
BEGIN:DAYLIGHT
TZOFFSETFROM:+0100
TZOFFSETTO:+0200
TZNAME:CEST
DTSTART:20190331T010000
END:DAYLIGHT
BEGIN:STANDARD
TZOFFSETFROM:+0200
TZOFFSETTO:+0100
TZNAME:CET
DTSTART:20191027T010000
END:STANDARD
BEGIN:DAYLIGHT
TZOFFSETFROM:+0100
TZOFFSETTO:+0200
TZNAME:CEST
DTSTART:20200329T010000
END:DAYLIGHT
BEGIN:STANDARD
TZOFFSETFROM:+0200
TZOFFSETTO:+0100
TZNAME:CET
DTSTART:20201025T010000
END:STANDARD
END:VTIMEZONE
BEGIN:VEVENT
DTSTART;TZID=Europe/Rome:20191116T160000
DTEND;TZID=Europe/Rome:20191117T190000
DTSTAMP:20260419T151256
CREATED:20191111T182803Z
LAST-MODIFIED:20191111T182803Z
UID:280959-1573920000-1574017200@www.eventiintoscana.it
SUMMARY:Vinolionovo - Pratovecchio Stia (Arezzo)
DESCRIPTION:Sabato 16 e domenica 17 novembre si tiene a Pratovecchio Stia Vinolionovo\, la mostra mercato dell’olio e del vino.\nPossibilità di assaggiare il Menù ‘Degustolio’: \n\n\n\n\nBruschetta\nTortelli di patate\nCarne di maiale con funghi porcini\nFagioli bianchi\nAcqua e vino\nDolce e caffè\n€ 18\,00 \n\n\n\n\n***\nInfo:  333 232 3007 \nvinolionovo@libero.it \n 
URL:https://www.eventiintoscana.it/evento/vinolionovo-pratovecchio-stia-arezzo
CATEGORIES:arezzo,Rassegne e Sagre
ATTACH;FMTTYPE=image/jpeg:https://www.eventiintoscana.it/wp-content/uploads/2019/11/vinolionovo-pratovecchio-stia.jpg
END:VEVENT
END:VCALENDAR