BEGIN:VCALENDAR
VERSION:2.0
PRODID:-//Eventi in Toscana By Toscana Tascabile - ECPv6.15.12.2//NONSGML v1.0//EN
CALSCALE:GREGORIAN
METHOD:PUBLISH
X-WR-CALNAME:Eventi in Toscana By Toscana Tascabile
X-ORIGINAL-URL:https://www.eventiintoscana.it
X-WR-CALDESC:Eventi per Eventi in Toscana By Toscana Tascabile
REFRESH-INTERVAL;VALUE=DURATION:PT1H
X-Robots-Tag:noindex
X-PUBLISHED-TTL:PT1H
BEGIN:VTIMEZONE
TZID:Europe/Rome
BEGIN:DAYLIGHT
TZOFFSETFROM:+0100
TZOFFSETTO:+0200
TZNAME:CEST
DTSTART:20170326T010000
END:DAYLIGHT
BEGIN:STANDARD
TZOFFSETFROM:+0200
TZOFFSETTO:+0100
TZNAME:CET
DTSTART:20171029T010000
END:STANDARD
BEGIN:DAYLIGHT
TZOFFSETFROM:+0100
TZOFFSETTO:+0200
TZNAME:CEST
DTSTART:20180325T010000
END:DAYLIGHT
BEGIN:STANDARD
TZOFFSETFROM:+0200
TZOFFSETTO:+0100
TZNAME:CET
DTSTART:20181028T010000
END:STANDARD
BEGIN:DAYLIGHT
TZOFFSETFROM:+0100
TZOFFSETTO:+0200
TZNAME:CEST
DTSTART:20190331T010000
END:DAYLIGHT
BEGIN:STANDARD
TZOFFSETFROM:+0200
TZOFFSETTO:+0100
TZNAME:CET
DTSTART:20191027T010000
END:STANDARD
END:VTIMEZONE
BEGIN:VEVENT
DTSTART;TZID=Europe/Rome:20180526T000000
DTEND;TZID=Europe/Rome:20180603T000000
DTSTAMP:20260423T221021
CREATED:20180411T072824Z
LAST-MODIFIED:20180604T070315Z
UID:264755-1527292800-1527984000@www.eventiintoscana.it
SUMMARY:61ª Mostra del Chianti - Piazza del Popolo\, Montespertoli (Firenze)
DESCRIPTION:Dal 26 maggio al 3 giugno si rinnova l’appuntamento con la Mostra del Chianti di Montespertoli\, la manifestazione vinicola tra le più antiche d’Italia\, giunta quest’anno alla 61ª edizione.\nUn traguardo importante per un paese che fonda sul vino non solo la propria economia\, ma la propria cultura e identità. L’obiettivo della Mostra è di coniugare tradizione e innovazione partendo dal vino\, dal territorio e dalla cultura e puntando sulla partecipazione e il coinvolgimento di tutta la comunità: per questo è in programma una molteplicità di iniziative che si dipaneranno fino a domenica 3 giugno. \nAnche quest’anno sono previsti ospiti importanti quali lo scrittore Saverio Tommasi\, il cantautore Tricarico e la band ska I Meganoidi\, oltre ai localissimi Cecco e Cipo. \n60Â° Mostra del Chianti 2017\nGrande attesa per il ritorno del Comitato ‘Le Contrade di Montespertoli’ con i giochi storici\, ma non mancheranno ovviamente la Sfilata Rievocativa del Gruppo ‘900\, la consueta Asta benefica delle bottiglie magnum a favore dell’Ospedale Pediatrico Meyer e il concorso di allestimento floreale ‘Montespertoli: un fiore di città’. \nInfo e programma sul sito della manifestazione.
URL:https://www.eventiintoscana.it/evento/61a-mostra-del-chianti-piazza-del-popolo-montespertoli-firenze
LOCATION:Piazza del Popolo\, Montespertoli\, Montespertoli\, Firenze\, 50025\, Italia
CATEGORIES:Fiere e Mercatini,Firenze
ATTACH;FMTTYPE=image/jpeg:https://www.eventiintoscana.it/wp-content/uploads/2018/05/29298__39531261124_fd9d87c42f_z.jpg
END:VEVENT
END:VCALENDAR