BEGIN:VCALENDAR
VERSION:2.0
PRODID:-//Eventi in Toscana By Toscana Tascabile - ECPv6.15.12.2//NONSGML v1.0//EN
CALSCALE:GREGORIAN
METHOD:PUBLISH
X-ORIGINAL-URL:https://www.eventiintoscana.it
X-WR-CALDESC:Eventi per Eventi in Toscana By Toscana Tascabile
REFRESH-INTERVAL;VALUE=DURATION:PT1H
X-Robots-Tag:noindex
X-PUBLISHED-TTL:PT1H
BEGIN:VTIMEZONE
TZID:Europe/Rome
BEGIN:DAYLIGHT
TZOFFSETFROM:+0100
TZOFFSETTO:+0200
TZNAME:CEST
DTSTART:20180325T010000
END:DAYLIGHT
BEGIN:STANDARD
TZOFFSETFROM:+0200
TZOFFSETTO:+0100
TZNAME:CET
DTSTART:20181028T010000
END:STANDARD
BEGIN:DAYLIGHT
TZOFFSETFROM:+0100
TZOFFSETTO:+0200
TZNAME:CEST
DTSTART:20190331T010000
END:DAYLIGHT
BEGIN:STANDARD
TZOFFSETFROM:+0200
TZOFFSETTO:+0100
TZNAME:CET
DTSTART:20191027T010000
END:STANDARD
BEGIN:DAYLIGHT
TZOFFSETFROM:+0100
TZOFFSETTO:+0200
TZNAME:CEST
DTSTART:20200329T010000
END:DAYLIGHT
BEGIN:STANDARD
TZOFFSETFROM:+0200
TZOFFSETTO:+0100
TZNAME:CET
DTSTART:20201025T010000
END:STANDARD
BEGIN:DAYLIGHT
TZOFFSETFROM:+0100
TZOFFSETTO:+0200
TZNAME:CEST
DTSTART:20210328T010000
END:DAYLIGHT
BEGIN:STANDARD
TZOFFSETFROM:+0200
TZOFFSETTO:+0100
TZNAME:CET
DTSTART:20211031T010000
END:STANDARD
END:VTIMEZONE
BEGIN:VEVENT
DTSTART;TZID=Europe/Rome:20200119T100000
DTEND;TZID=Europe/Rome:20200229T180000
DTSTAMP:20260423T222922
CREATED:20200113T154539Z
LAST-MODIFIED:20200113T154539Z
UID:283955-1579428000-1582999200@www.eventiintoscana.it
SUMMARY:Tra Guerra e Battaglia - Sale espositive Museo Leonardiano\, Vinci (Firenze)
DESCRIPTION:Il Museo Leonardiano adiVinci (Fi)\, tra il 19 gennaio e il 29 febbraio 2020\, ospita una grande mostra di due dei più grandi fotografi italiani: Letizia Battaglia e Pino Guerra.\nLa mostra intitolata Tra Guerra e Battaglia è curata dal Foto Club Vinci\, con il patrocinio del Comune di Vinci\, e mostrerà la mafia sotto due profili tanto lontani quanto indissolubili.  \nDa un lato la dimostrazione di forza e violenza ostentata a tutti i costi e immortalata nelle brutali quanto belle immagini della reporter di fama internazionale Letizia Battaglia; dall’altra\, grazie alla forte sensibilità del fotografo Pino Guerra\, sbirceremo nell’intimità quotidiana delle famiglie delle Vele di Scampia\, i cui occhi sembrano comunicare una sincera e ferma volontà di riscatto. \nEntrambi dotati di una sensibilità fuori dal comune hanno dedicato anima e corpo a raccontare le “cose di mafia” con uno strumento tanto immediato quanto potente: l’immagine fotografica. \n“Prima che l’obbiettivo della macchina fotografica\, dovevamo metterci il cuore\, per frugare tra le croste spellate dell’animo” dice Pino Guerra che nel suo reportage di umanità dentro le mura delle Vele a Scampia ricerca sempre “immagini nelle quali\, alla crudezza della sua evidenza\, [… ] si contrapponga un segno di intatta purezza”. \n“Reportage può significare tante cose\, per ognuno cose diverse [… ] per me significa andare al cuore delle cose\, di un luogo\, di una città [… ]” dice Letizia Battaglia che con le sue foto sembra rievocare il neorealismo cinematografico italiano e ci mostra la dura e spietata realtà senza mai dimenticare l’ingrediente per lei più importante: l’Amore.\nIl percorso espositivo\, ordinato tematicamente\, vi avvolgerà a 360 gradi mostrando la dura e cruda quotidianità di quei luoghi. Il risultato sarà un esperienza formativa di grande spessore e dotata di una forte carica emotiva. \nLuogo delle mostre: \nSale espositive Museo Leonardiano \nvia Montalbano 6 \n50059 Vinci \nORARI E PREZZI\n\nTUTTE LE MOSTRE SONO VISITABILI GRATUITAMENTE\nL'ORARIO DELLE MOSTRE è:\nDAL LUNEDì AL VENERDI   10.00 - 13.00  - 15.00 - 18.00\nSABATO 10.00 - 18.00 CON ORARIO CONTINUATO\n\n*EVENTUALI CAMBIAMENTI DI ORARIO VERRANNO CAMBIATO IN CORSO DI SVOLGIMENTO\nPer maggiori informazioni www.vinciphotofestival.com
URL:https://www.eventiintoscana.it/evento/tra-guerra-e-battaglia-sale-espositive-museo-leonardiano-vinci-firenze
CATEGORIES:Firenze,Mostre d'Arte
ATTACH;FMTTYPE=image/jpeg:https://www.eventiintoscana.it/wp-content/uploads/2020/01/reportage-fotografico-nei-luoghi-di-mafia-e-camorra.jpg
END:VEVENT
BEGIN:VEVENT
DTSTART;TZID=Europe/Rome:20190927T190000
DTEND;TZID=Europe/Rome:20191006T230000
DTSTAMP:20260423T222922
CREATED:20191001T142441Z
LAST-MODIFIED:20191001T142441Z
UID:279479-1569610800-1570402800@www.eventiintoscana.it
SUMMARY:Sagra del fungo porcino e della bistecca - San Donato\, Vinci (Firenze)
DESCRIPTION:Da venerdì 27 a domenica 29 settembre e ancora da venerdì 4 a domenica 6 ottobre torna a San Donato\, Vinci\, la Sagra del fungo porcino e della bistecca.\nAppuntamento la sera a cena\, domenica anche a pranzo.
URL:https://www.eventiintoscana.it/evento/sagra-del-fungo-porcino-della-bistecca-san-donato-vinci-firenze
LOCATION:Circolo Arci San Donato\, San Donato\, Vinci (Firenze)
CATEGORIES:Firenze,Rassegne e Sagre
ATTACH;FMTTYPE=image/jpeg:https://www.eventiintoscana.it/wp-content/uploads/2019/07/sagra-della-bistecca.jpg
END:VEVENT
END:VCALENDAR