BEGIN:VCALENDAR
VERSION:2.0
PRODID:-//Eventi in Toscana By Toscana Tascabile - ECPv6.15.12.2//NONSGML v1.0//EN
CALSCALE:GREGORIAN
METHOD:PUBLISH
X-WR-CALNAME:Eventi in Toscana By Toscana Tascabile
X-ORIGINAL-URL:https://www.eventiintoscana.it
X-WR-CALDESC:Eventi per Eventi in Toscana By Toscana Tascabile
REFRESH-INTERVAL;VALUE=DURATION:PT1H
X-Robots-Tag:noindex
X-PUBLISHED-TTL:PT1H
BEGIN:VTIMEZONE
TZID:Europe/Rome
BEGIN:DAYLIGHT
TZOFFSETFROM:+0100
TZOFFSETTO:+0200
TZNAME:CEST
DTSTART:20160327T010000
END:DAYLIGHT
BEGIN:STANDARD
TZOFFSETFROM:+0200
TZOFFSETTO:+0100
TZNAME:CET
DTSTART:20161030T010000
END:STANDARD
BEGIN:DAYLIGHT
TZOFFSETFROM:+0100
TZOFFSETTO:+0200
TZNAME:CEST
DTSTART:20170326T010000
END:DAYLIGHT
BEGIN:STANDARD
TZOFFSETFROM:+0200
TZOFFSETTO:+0100
TZNAME:CET
DTSTART:20171029T010000
END:STANDARD
BEGIN:DAYLIGHT
TZOFFSETFROM:+0100
TZOFFSETTO:+0200
TZNAME:CEST
DTSTART:20180325T010000
END:DAYLIGHT
BEGIN:STANDARD
TZOFFSETFROM:+0200
TZOFFSETTO:+0100
TZNAME:CET
DTSTART:20181028T010000
END:STANDARD
END:VTIMEZONE
BEGIN:VEVENT
DTSTART;TZID=Europe/Rome:20171104T000000
DTEND;TZID=Europe/Rome:20171226T000000
DTSTAMP:20260422T202545
CREATED:20171024T070840Z
LAST-MODIFIED:20171127T142626Z
UID:252488-1509753600-1514246400@www.eventiintoscana.it
SUMMARY:Il Paese di Babbo Natale - Parco Acqua Santa\, Chianciano Terme (Siena)
DESCRIPTION:Nel cuore della Toscana\, dal 4 novembre al 26 dicembre  Chianciano Terme si trasforma in un paese incantato dove Babbo Natale ha stabilito la sua dimora e il suo quartier generale\, in cui gli elfi  vivono e creano i giocattoli per tutti i bambini\, le sue fedelissime renne si riposano prima di spiccare il volo e la slitta viene preparata per consegnare i regali a tutti i bambini.\nVisitando Chianciano Terme sarà quindi possibile entrare in un’atmosfera incantata con attrazioni\, luminarie\, colori e profumi natalizi che faranno da sfondo al Paese di Babbo Natale: un meraviglioso parco a tema per grandi e piccini dove vivere nel modo più autentico l’attesa del periodo più bello dell’anno. Il parco si sviluppa in varie location del paese ma il cuore della manifestazione è nel Parco Acqua Santa (il meraviglioso parco delle Terme Sensoriali). \nLa magica esperienza del Natale potrà essere arricchita da qualche ora di totale relax per tutta la famiglia alle Piscine Termali Theia. Novità di questa edizione è il Mondo delle fiabe\, in cui rivivere le storie più amate di sempre! \nLe date: appuntamento al Parco Acqua Santa il 4-5\, 11-12\, 18-19\, 24-26 novembre e l’1-3\, 6-10\, 15-17\, 23-26 dicembre.
URL:https://www.eventiintoscana.it/evento/il-paese-di-babbo-natale-parco-acqua-santa-chianciano-terme-siena
LOCATION:Parco Acqua Santa\, Piazza Martiri Perugini\, 3\, Chianciano Terme\, Toscana\, 53042\, Italia
CATEGORIES:Fiere e Mercatini,Siena
ATTACH;FMTTYPE=image/png:https://www.eventiintoscana.it/wp-content/uploads/2017/10/il-paese-di-babbo-natale-chianciano.png
END:VEVENT
END:VCALENDAR