BEGIN:VCALENDAR
VERSION:2.0
PRODID:-//Eventi in Toscana By Toscana Tascabile - ECPv6.15.12.2//NONSGML v1.0//EN
CALSCALE:GREGORIAN
METHOD:PUBLISH
X-ORIGINAL-URL:https://www.eventiintoscana.it
X-WR-CALDESC:Eventi per Eventi in Toscana By Toscana Tascabile
REFRESH-INTERVAL;VALUE=DURATION:PT1H
X-Robots-Tag:noindex
X-PUBLISHED-TTL:PT1H
BEGIN:VTIMEZONE
TZID:Europe/Rome
BEGIN:DAYLIGHT
TZOFFSETFROM:+0100
TZOFFSETTO:+0200
TZNAME:CEST
DTSTART:20180325T010000
END:DAYLIGHT
BEGIN:STANDARD
TZOFFSETFROM:+0200
TZOFFSETTO:+0100
TZNAME:CET
DTSTART:20181028T010000
END:STANDARD
BEGIN:DAYLIGHT
TZOFFSETFROM:+0100
TZOFFSETTO:+0200
TZNAME:CEST
DTSTART:20190331T010000
END:DAYLIGHT
BEGIN:STANDARD
TZOFFSETFROM:+0200
TZOFFSETTO:+0100
TZNAME:CET
DTSTART:20191027T010000
END:STANDARD
BEGIN:DAYLIGHT
TZOFFSETFROM:+0100
TZOFFSETTO:+0200
TZNAME:CEST
DTSTART:20200329T010000
END:DAYLIGHT
BEGIN:STANDARD
TZOFFSETFROM:+0200
TZOFFSETTO:+0100
TZNAME:CET
DTSTART:20201025T010000
END:STANDARD
BEGIN:DAYLIGHT
TZOFFSETFROM:+0100
TZOFFSETTO:+0200
TZNAME:CEST
DTSTART:20210328T010000
END:DAYLIGHT
BEGIN:STANDARD
TZOFFSETFROM:+0200
TZOFFSETTO:+0100
TZNAME:CET
DTSTART:20211031T010000
END:STANDARD
END:VTIMEZONE
BEGIN:VEVENT
DTSTART;TZID=Europe/Rome:20200131T153000
DTEND;TZID=Europe/Rome:20200131T170000
DTSTAMP:20260421T183751
CREATED:20200126T104855Z
LAST-MODIFIED:20200126T104855Z
UID:284087-1580484600-1580490000@www.eventiintoscana.it
SUMMARY:Laboratori della Cartapesta - Cittadella del Carnevale\, Viareggio (Lucca)
DESCRIPTION:Nell’ambito degli eventi collegati al Carnevale di Viareggio 2020\, Sabato 18 gennaio e Venerdì31 Gennaio\, presso la Cittadella del Carnevale di Viareggio\, sarà possibile partecipare ai Laboratori della cartapesta.\nBambini ed adulti avranno modo di scoprire come nasce il processo per la realizzazione dei famosi carri e potranno toccare con mano la materia prima con cui vengono creati. \nInizio attività : ore 15.30 \nIngresso 4 euro. \nInfo e prenotazioni: 342 9207959 \nMail: cittadelladelcarnevale@ilcarnevale.com \nMaggiori info: ilcarnevale.com \nTutti gli eventi della Versilia nella pagina Eventi.
URL:https://www.eventiintoscana.it/evento/laboratori-della-cartapesta-cittadella-del-carnevale-viareggio-lucca
CATEGORIES:Feste e Folklore,Lucca
ATTACH;FMTTYPE=image/jpeg:https://www.eventiintoscana.it/wp-content/uploads/2020/01/laboratorio.jpg
END:VEVENT
BEGIN:VEVENT
DTSTART;TZID=Europe/Rome:20200111T100000
DTEND;TZID=Europe/Rome:20200112T200000
DTSTAMP:20260421T183751
CREATED:20200103T182229Z
LAST-MODIFIED:20200103T182229Z
UID:283905-1578736800-1578859200@www.eventiintoscana.it
SUMMARY:Viareggio Sposi - Grand Hotel Principe di Piemonte\, Viareggio (Lucca)
DESCRIPTION:Sabato 11 e domenica 12 gennaio si tiene rand Hotel Principe di Piemonte di Viareggio la manifestazione Viareggio Sposi.\nOttima occasione per i futuri sposi per organizzare la propria cerimonia di nozze curiosando tra gli stand\, che saranno allestiti con la massima cura ed eleganza dai professionisti del settore. \nIngresso gratuito\, ore 10-20.
URL:https://www.eventiintoscana.it/evento/viareggio-sposi-grand-hotel-principe-di-piemonte-viareggio-lucca-2
CATEGORIES:Fiere e Mercatini,Lucca
ATTACH;FMTTYPE=image/jpeg:https://www.eventiintoscana.it/wp-content/uploads/2020/01/viareggio-sposi-2020.jpg
END:VEVENT
BEGIN:VEVENT
DTSTART;TZID=Europe/Rome:20190803T210000
DTEND;TZID=Europe/Rome:20190803T235500
DTSTAMP:20260421T183752
CREATED:20190724T074242Z
LAST-MODIFIED:20190724T074242Z
UID:277775-1564866000-1564876500@www.eventiintoscana.it
SUMMARY:8° Peperoncino Day - Piazza Mazzini\, Viareggio (Lucca)
DESCRIPTION:Sabato 3 agosto in Piazza Mazzini a Viareggio si tiene l’ottava edizione del Peperoncino Day – Tentativo di Record Mondiale per la Collezione esposta di Peperoncino più Grande al Mondo.\nAppuntamento dalle 21 a mezzanotte circa.\nDurante l’evento sulla Passeggiata di Viareggio si tenterà di registrare il Record Mondiale per la collezione di peperoncini più grande di sempre\, con circa 100 metri di esposizione con frutti di peperoncino originari di tutto il mondo ma coltivati in Toscana. \nA condurre la serata saranno l’inviato di GEO Dario Boldrini e Alice Martinelli de Le Iene. \nSeguirà un’infuocata Gara di Mangiatori di Peperoncino. \nIn attesa di un gentile riscontro auguriamo buon lavoro. \nPer informazioni
URL:https://www.eventiintoscana.it/evento/8-peperoncino-day-piazza-mazzini-viareggio-lucca
LOCATION:Luogo Senza Nome\, Piazza Mazzini\, Viareggio (Lucca)
CATEGORIES:Lucca,Rassegne e Sagre
ATTACH;FMTTYPE=image/jpeg:https://www.eventiintoscana.it/wp-content/uploads/2019/07/Peperoncino-day-Viareggio.jpg
END:VEVENT
END:VCALENDAR