BEGIN:VCALENDAR
VERSION:2.0
PRODID:-//Eventi in Toscana By Toscana Tascabile - ECPv6.15.12.2//NONSGML v1.0//EN
CALSCALE:GREGORIAN
METHOD:PUBLISH
X-ORIGINAL-URL:https://www.eventiintoscana.it
X-WR-CALDESC:Eventi per Eventi in Toscana By Toscana Tascabile
REFRESH-INTERVAL;VALUE=DURATION:PT1H
X-Robots-Tag:noindex
X-PUBLISHED-TTL:PT1H
BEGIN:VTIMEZONE
TZID:Europe/Rome
BEGIN:DAYLIGHT
TZOFFSETFROM:+0100
TZOFFSETTO:+0200
TZNAME:CEST
DTSTART:20190331T010000
END:DAYLIGHT
BEGIN:STANDARD
TZOFFSETFROM:+0200
TZOFFSETTO:+0100
TZNAME:CET
DTSTART:20191027T010000
END:STANDARD
BEGIN:DAYLIGHT
TZOFFSETFROM:+0100
TZOFFSETTO:+0200
TZNAME:CEST
DTSTART:20200329T010000
END:DAYLIGHT
BEGIN:STANDARD
TZOFFSETFROM:+0200
TZOFFSETTO:+0100
TZNAME:CET
DTSTART:20201025T010000
END:STANDARD
BEGIN:DAYLIGHT
TZOFFSETFROM:+0100
TZOFFSETTO:+0200
TZNAME:CEST
DTSTART:20210328T010000
END:DAYLIGHT
BEGIN:STANDARD
TZOFFSETFROM:+0200
TZOFFSETTO:+0100
TZNAME:CET
DTSTART:20211031T010000
END:STANDARD
BEGIN:DAYLIGHT
TZOFFSETFROM:+0100
TZOFFSETTO:+0200
TZNAME:CEST
DTSTART:20220327T010000
END:DAYLIGHT
BEGIN:STANDARD
TZOFFSETFROM:+0200
TZOFFSETTO:+0100
TZNAME:CET
DTSTART:20221030T010000
END:STANDARD
END:VTIMEZONE
BEGIN:VEVENT
DTSTART;TZID=Europe/Rome:20210501T110000
DTEND;TZID=Europe/Rome:20210906T180000
DTSTAMP:20260422T022426
CREATED:20210430T090142Z
LAST-MODIFIED:20210707T084959Z
UID:289305-1619866800-1630951200@www.eventiintoscana.it
SUMMARY:Van Gogh e i Maledetti - Santo Stefano al Ponte\, Firenze
DESCRIPTION:Torna nella ‘Cattedrale dell’immagine’ del complesso di Santo Stefano al Ponte lo spettacolo digitale immersivo dedicato a ‘Van Gogh e i Maledetti’\, una delle produzioni di maggior successo di Crossmedia Group.\nRealizzato per la regia di Stefano Fake\, il filmato è un racconto digitale di 60 minuti\, che vuole coinvolgere il pubblico nella controversa vicenda umana e artistica di Vincent van Gogh\, uno degli artisti più celebri e amati di tutti i tempi\, a cui fanno da contrappunto le vite e i lavori di alcuni grandi pittori a lui coevi\, accomunati dall’esistenza travagliata e dall’anticonformismo: Paul Cézanne\, Paul Gauguin\, Henri de Toulouse-Lautrec\, Chaïm Soutine\, il toscano Amedeo Modigliani. \nOltre a questi compariranno anche opere di altri artisti contemporanei che con i loro lavori hanno contribuito alla rappresentazione della Parigi dell’epoca. \nLa narrazione è sviluppata per mezzo della multiproiezione a 360 gradi d’immagini ad altissima definizione e della diffusione in Dolby HD di un’avvincente colonna sonora originale che comprende Schubert\, Vivaldi\, Beethoven (‘Sonata al chiaro di luna’)\, Verdi\, Debussy\, Delibes\, Offenbach… \nTorna anche l’esclusiva esperienza degli Oculus VR. \nLa visita avviene sempre nel rispetto di tutte le misure di sicurezza \nOrario: tutti i giorni 11-18\, sabato e domenica prenotazione obbligatoria.  \n— la mostra è stata prorogata fino al 6 settembre 2021—
URL:https://www.eventiintoscana.it/evento/van-gogh-e-i-maledetti-%e2%80%a0-santo-stefano-al-ponte-firenze-firenze-2
LOCATION:Chiesa di Santo Stefano al Ponte\, Piazza di Santo Stefano 5\, Firenze\, Toscana\, 50122\, Italia
CATEGORIES:Firenze,Mostre d'Arte
ATTACH;FMTTYPE=image/jpeg:https://www.eventiintoscana.it/wp-content/uploads/2021/04/van-gogh-e-i-maledetti.jpeg
END:VEVENT
BEGIN:VEVENT
DTSTART;TZID=Europe/Rome:20200801T100000
DTEND;TZID=Europe/Rome:20201011T180000
DTSTAMP:20260422T022426
CREATED:20200820T054726Z
LAST-MODIFIED:20210702T073945Z
UID:287057-1596276000-1602439200@www.eventiintoscana.it
SUMMARY:Van Gogh e i Maledetti - Santo Stefano al Ponte\, Firenze
DESCRIPTION:Il Complesso di Santo Stefano al Ponte\, divenuto ormai la ‘Cattedrale dell’Immagine’\, ospita uno show multimediale immersivo\, dedicato questa volta alla vicenda umana e artistica di Vincent van Gogh.\nRealizzato dalla società fiorentina Crossmedia Group con la regia di Stefano Fake\,  Van Gogh e i Maledetti coinvolge emotivamente il pubblico nella controversa vicenda umana e artistica di Vincent van Gogh (Zundert\, 1853 – Auvers-sur-Oise\, 1890)\, uno degli artisti più celebri e amati di tutti i tempi. \nFanno da contrappunto ai suoi quadri le vite e i lavori di alcuni grandi pittori a lui coevi\, accomunati dall’esistenza travagliata e dall’anticonformismo: Cézanne\, Gauguin\, Toulouse-Lautrec\, Chaïm Soutine\, il livornese Amedeo Modigliani e altri artisti contemporanei che con le loro opere hanno contribuito alla rappresentazione della Parigi dell’epoca. \nSi tratta di un racconto digitale di 60 minuti\, sviluppato per mezzo della multiproiezione a 360 gradi d’immagini ad altissima definizione e della diffusione in Dolby HD di un’avvincente colonna sonora originale che comprende Beethoven\, Verdi\, Debussy\, Offenbach\, Schubert\, Vivaldi\, Musorgskij… \nArricchiscono l’esperienza multimediale una sezione didattico/introduttiva con infografiche e monitor\, le postazioni con gli Oculus per sperimentare la realtà virtuale 3D di un viaggio sensoriale all’interno di alcuni famosi quadri e l’avvolgente caleidoscopio d’immagini della ‘sala degli specchi’\, posta all’interno della sala immersiva. \nAccesso libero rispettando la capienza massima\, obbligo della mascherina e della misurazione della temperatura all’ingresso. \nOrario: ven-lun 10-18. \nInfo: 055 217418 – info@ctcrossmedia.com
URL:https://www.eventiintoscana.it/evento/van-gogh-e-i-maledetti-%e2%80%a0-santo-stefano-al-ponte-firenze-firenze
LOCATION:Chiesa di Santo Stefano al Ponte\, Piazza di Santo Stefano 5\, Firenze\, Toscana\, 50122\, Italia
CATEGORIES:Firenze,Mostre d'Arte
ATTACH;FMTTYPE=image/jpeg:https://www.eventiintoscana.it/wp-content/uploads/2020/08/van-gogh-e-i-maledetti.jpg
END:VEVENT
END:VCALENDAR