BEGIN:VCALENDAR
VERSION:2.0
PRODID:-//Eventi in Toscana By Toscana Tascabile - ECPv6.15.12.2//NONSGML v1.0//EN
CALSCALE:GREGORIAN
METHOD:PUBLISH
X-ORIGINAL-URL:https://www.eventiintoscana.it
X-WR-CALDESC:Eventi per Eventi in Toscana By Toscana Tascabile
REFRESH-INTERVAL;VALUE=DURATION:PT1H
X-Robots-Tag:noindex
X-PUBLISHED-TTL:PT1H
BEGIN:VTIMEZONE
TZID:Europe/Rome
BEGIN:DAYLIGHT
TZOFFSETFROM:+0100
TZOFFSETTO:+0200
TZNAME:CEST
DTSTART:20170326T010000
END:DAYLIGHT
BEGIN:STANDARD
TZOFFSETFROM:+0200
TZOFFSETTO:+0100
TZNAME:CET
DTSTART:20171029T010000
END:STANDARD
BEGIN:DAYLIGHT
TZOFFSETFROM:+0100
TZOFFSETTO:+0200
TZNAME:CEST
DTSTART:20180325T010000
END:DAYLIGHT
BEGIN:STANDARD
TZOFFSETFROM:+0200
TZOFFSETTO:+0100
TZNAME:CET
DTSTART:20181028T010000
END:STANDARD
BEGIN:DAYLIGHT
TZOFFSETFROM:+0100
TZOFFSETTO:+0200
TZNAME:CEST
DTSTART:20190331T010000
END:DAYLIGHT
BEGIN:STANDARD
TZOFFSETFROM:+0200
TZOFFSETTO:+0100
TZNAME:CET
DTSTART:20191027T010000
END:STANDARD
END:VTIMEZONE
BEGIN:VEVENT
DTSTART;TZID=Europe/Rome:20180125T080000
DTEND;TZID=Europe/Rome:20180225T170000
DTSTAMP:20260425T122645
CREATED:20180125T143751Z
LAST-MODIFIED:20180125T144601Z
UID:260419-1516867200-1519578000@www.eventiintoscana.it
SUMMARY:Tuscanyness: un documentario sull'architettura toscana
DESCRIPTION:Tuscanyness è un progetto dell’associazione culturale 120g\, con sede a Pisa\, formata da giovani architetti e ingegneri che si occupa di attività culturali nel campo dell’architettura. \nGuarda il film \nIl film è composto da 5 capitoli. Comincia con una descrizione realistica della situazione attuale del fare architettura in Italia: le poche occasioni lavorative\, sia pubbliche che private\, la burocrazia e il declino della cultura de costruire\, fanno sì che non si veda una prospettiva per le generazioni future. Ecco perché molti fuggono all’estero per costruirsi un futuro.
URL:https://www.eventiintoscana.it/evento/tuscanyness-un-documentario-sullarchitettura-toscana
LOCATION:Luogo Senza Nome\, Pisa
CATEGORIES:Mostra d'Arte,Pisa
ATTACH;FMTTYPE=image/jpeg:https://www.eventiintoscana.it/wp-content/uploads/2018/01/tuscanyness.jpg
END:VEVENT
END:VCALENDAR