BEGIN:VCALENDAR
VERSION:2.0
PRODID:-//Eventi in Toscana By Toscana Tascabile - ECPv6.15.12.2//NONSGML v1.0//EN
CALSCALE:GREGORIAN
METHOD:PUBLISH
X-ORIGINAL-URL:https://www.eventiintoscana.it
X-WR-CALDESC:Eventi per Eventi in Toscana By Toscana Tascabile
REFRESH-INTERVAL;VALUE=DURATION:PT1H
X-Robots-Tag:noindex
X-PUBLISHED-TTL:PT1H
BEGIN:VTIMEZONE
TZID:Europe/Rome
BEGIN:DAYLIGHT
TZOFFSETFROM:+0100
TZOFFSETTO:+0200
TZNAME:CEST
DTSTART:20180325T010000
END:DAYLIGHT
BEGIN:STANDARD
TZOFFSETFROM:+0200
TZOFFSETTO:+0100
TZNAME:CET
DTSTART:20181028T010000
END:STANDARD
BEGIN:DAYLIGHT
TZOFFSETFROM:+0100
TZOFFSETTO:+0200
TZNAME:CEST
DTSTART:20190331T010000
END:DAYLIGHT
BEGIN:STANDARD
TZOFFSETFROM:+0200
TZOFFSETTO:+0100
TZNAME:CET
DTSTART:20191027T010000
END:STANDARD
BEGIN:DAYLIGHT
TZOFFSETFROM:+0100
TZOFFSETTO:+0200
TZNAME:CEST
DTSTART:20200329T010000
END:DAYLIGHT
BEGIN:STANDARD
TZOFFSETFROM:+0200
TZOFFSETTO:+0100
TZNAME:CET
DTSTART:20201025T010000
END:STANDARD
END:VTIMEZONE
BEGIN:VEVENT
DTSTART;TZID=Europe/Rome:20191215T100000
DTEND;TZID=Europe/Rome:20191222T130000
DTSTAMP:20260419T151259
CREATED:20191205T153304Z
LAST-MODIFIED:20191205T153606Z
UID:282186-1576404000-1577019600@www.eventiintoscana.it
SUMMARY:Il respiro della foresta 1: autunno slow\, tra passi e buon cibo - Camaldoli (Poppi\, Arezzo)
DESCRIPTION:Domenica 15 dicembre dalle 10 alle 13 Altertrek organizza una camminata dal titolo Il respiro della foresta 1: autunno slow\, tra passi e buon cibo.\nE’ ancora autunno nel cuore del Parco Nazionale Foreste Casentinesi\, ancora tanta energia nel bosco che piano piano si prepara ad addormentarsi per l’inverno. \nQuesta domenica ( insieme alla domenica 22 Dicembre ) sarà realizzata parte di un percorso oltremodo suggestivo\, un percorso ad anello facile e agevole immerso nella foresta biogenetica di Camaldoli\, sulla direttrice escursionistica che collega l’Eremo di Camaldoli a Badia Prataglia. \nL’appuntamento è dunque al parcheggio dell’Eremo per entrare\, passeggiando\, nella abetina secolare\, conoscerne i segreti che l’hanno trasformata negli anni\, passando da un’idea\, un precetto religioso\, al paesaggio forestale immenso che oggi possiamo ammirare passeggiandoci sotto. \nRitrovo ore 10.00\nRientro alle auto ore 13.00\nPossibilità di sosta pranzo presso la zona del Monastero di Camaldoli \nCosto a persona € 10\,00\nNumero massimo di partecipanti con baratto: 2 \nDotazione obbligatoria:\nScarpe chiuse con suola ben scolpita e antiscivolo\, possibilmente alte\nPantaloni e calze lunghi\nCappello\nK-Way antivento/impermeabile\nBorraccia (possibilità di rifornimento acqua alla partenza) \nDotazione consigliata:\nPer chi già le utilizza: bacchette da trekking \nDati tecnici percorso:\nlunghezza totale: km 8\ndislivello positivo totale: m 300\ndifficoltà: E (facile) \n*** \nInfo: www.altertrek.it – 320 067 6766
URL:https://www.eventiintoscana.it/evento/il-respiro-della-foresta-1-autunno-slow-tra-passi-e-buon-cibo-camaldoli-poppi-arezzo
CATEGORIES:arezzo,Natura e Sport
ATTACH;FMTTYPE=image/jpeg:https://www.eventiintoscana.it/wp-content/uploads/2019/12/il-resposiro-della-foresta-altretrek.jpg
END:VEVENT
END:VCALENDAR