BEGIN:VCALENDAR
VERSION:2.0
PRODID:-//Eventi in Toscana By Toscana Tascabile - ECPv6.15.12.2//NONSGML v1.0//EN
CALSCALE:GREGORIAN
METHOD:PUBLISH
X-WR-CALNAME:Eventi in Toscana By Toscana Tascabile
X-ORIGINAL-URL:https://www.eventiintoscana.it
X-WR-CALDESC:Eventi per Eventi in Toscana By Toscana Tascabile
REFRESH-INTERVAL;VALUE=DURATION:PT1H
X-Robots-Tag:noindex
X-PUBLISHED-TTL:PT1H
BEGIN:VTIMEZONE
TZID:Europe/Rome
BEGIN:DAYLIGHT
TZOFFSETFROM:+0100
TZOFFSETTO:+0200
TZNAME:CEST
DTSTART:20160327T010000
END:DAYLIGHT
BEGIN:STANDARD
TZOFFSETFROM:+0200
TZOFFSETTO:+0100
TZNAME:CET
DTSTART:20161030T010000
END:STANDARD
BEGIN:DAYLIGHT
TZOFFSETFROM:+0100
TZOFFSETTO:+0200
TZNAME:CEST
DTSTART:20170326T010000
END:DAYLIGHT
BEGIN:STANDARD
TZOFFSETFROM:+0200
TZOFFSETTO:+0100
TZNAME:CET
DTSTART:20171029T010000
END:STANDARD
BEGIN:DAYLIGHT
TZOFFSETFROM:+0100
TZOFFSETTO:+0200
TZNAME:CEST
DTSTART:20180325T010000
END:DAYLIGHT
BEGIN:STANDARD
TZOFFSETFROM:+0200
TZOFFSETTO:+0100
TZNAME:CET
DTSTART:20181028T010000
END:STANDARD
END:VTIMEZONE
BEGIN:VEVENT
DTSTART;TZID=Europe/Rome:20170930T211500
DTEND;TZID=Europe/Rome:20170930T230000
DTSTAMP:20260421T230439
CREATED:20170912T080818Z
LAST-MODIFIED:20170912T080818Z
UID:248641-1506806100-1506812400@www.eventiintoscana.it
SUMMARY:La grande nevicata del ’29 - Teatro dell'Affratellamento\, Firenze
DESCRIPTION:Sabato 30 settembre 2017 alle 21\,15\, la compagnia teatrale Senza Sipario il Circolo Teatro l’Affratellamento  presentano lo spettacolo ‘La grande nevicata del ’29’\n\nRegia di Marco Consorti su testo di Bruno Giaconi; con Mattia Fornabaio\, Rossella Mugnai\, Stefano Fini\, Luca Corsi\, Serena Galardi\, Tommaso Virga. \nLa grande nevicata del ’29 è una commedia che racconta uno spaccato di vita contadina\, ambientata nella campagna dell’ Impruneta durante il periodo fascista. Il testo evidenzia il contrasto fra vecchie e nuove generazioni\, tra dottrine di regime e antifascismo. \n\ninfo e prenotazioni: 329.8574777 – 333.2883802 – costo biglietto: 13 euro \nbiglietti disponibili presso “VAIA Concept Store”\, Via G.P. Orsini 101 rosso\, e presso il teatro il giorno 30 settembre dalle ore 18.
URL:https://www.eventiintoscana.it/evento/la-grande-nevicata-del-29-teatro-dellaffratellamento-firenze
LOCATION:Teatro dell’Affratellamento\, Via Giampaolo Orsini 73\, Firenze
CATEGORIES:Firenze,Teatro
ATTACH;FMTTYPE=image/jpeg:https://www.eventiintoscana.it/wp-content/uploads/2017/09/la-grande-nevicata-del-29.jpg
END:VEVENT
END:VCALENDAR