BEGIN:VCALENDAR
VERSION:2.0
PRODID:-//Eventi in Toscana By Toscana Tascabile - ECPv6.15.12.2//NONSGML v1.0//EN
CALSCALE:GREGORIAN
METHOD:PUBLISH
X-ORIGINAL-URL:https://www.eventiintoscana.it
X-WR-CALDESC:Eventi per Eventi in Toscana By Toscana Tascabile
REFRESH-INTERVAL;VALUE=DURATION:PT1H
X-Robots-Tag:noindex
X-PUBLISHED-TTL:PT1H
BEGIN:VTIMEZONE
TZID:Europe/Rome
BEGIN:DAYLIGHT
TZOFFSETFROM:+0100
TZOFFSETTO:+0200
TZNAME:CEST
DTSTART:20160327T010000
END:DAYLIGHT
BEGIN:STANDARD
TZOFFSETFROM:+0200
TZOFFSETTO:+0100
TZNAME:CET
DTSTART:20161030T010000
END:STANDARD
BEGIN:DAYLIGHT
TZOFFSETFROM:+0100
TZOFFSETTO:+0200
TZNAME:CEST
DTSTART:20170326T010000
END:DAYLIGHT
BEGIN:STANDARD
TZOFFSETFROM:+0200
TZOFFSETTO:+0100
TZNAME:CET
DTSTART:20171029T010000
END:STANDARD
BEGIN:DAYLIGHT
TZOFFSETFROM:+0100
TZOFFSETTO:+0200
TZNAME:CEST
DTSTART:20180325T010000
END:DAYLIGHT
BEGIN:STANDARD
TZOFFSETFROM:+0200
TZOFFSETTO:+0100
TZNAME:CET
DTSTART:20181028T010000
END:STANDARD
END:VTIMEZONE
BEGIN:VEVENT
DTSTART;TZID=Europe/Rome:20171202T080000
DTEND;TZID=Europe/Rome:20171203T220000
DTSTAMP:20260422T001252
CREATED:20171201T093933Z
LAST-MODIFIED:20171201T093933Z
UID:255133-1512201600-1512338400@www.eventiintoscana.it
SUMMARY:Strings City - Luoghi vari nella città di Firenze
DESCRIPTION:Si svolgerà il 2 e il 3 dicembre Strings City\, il festival dedicato agli strumenti a corda che trasformerà oltre 50 luoghi della città di Firenze\, tra musei\, chiese\, biblioteche e teatri\, nel palcoscenico di  80 esibizioni musicali\, realizzati solo con strumenti a corda\, dal violino alla voce\, per un totale di 50 ore di pura musica.\nL’evento è organizzato dal Comune di Firenze\, a cura di Scuola di Musica di Fiesole\, Conservatorio di Musica Luigi Cherubini\, Maggio Musicale Fiorentino e Orchestra della Toscana\, con la partecipazione di Amici della Musica di Firenze e Orchestra da Camera Fiorentina. \nIl 2 dicembre\, tra i tantissimi eventi in programma\, troviamo il momento musicale del Quartetto Manfredi\, a cura della Scuola di Musica di Fiesole\, che si esibirà alle ore 12 nel Salone Magliabechiano della Biblioteca degli Uffizi\, con musiche di Haydn\, Ricci\, Debussy; alle ore 10.00 alla Biblioteca Medicea Laurenziana\, troviamo l’interpretazione delle Variazioni Goldberg di Bach con il violinista Giacomo Rafanelli\, il violista Andrea Pavani\, la violoncellista Beatrice Guarducci\, a cura del Maggio Musicale Fiorentino \n  \nIl 3 dicembre sarà invece dedicato agli eventi nella Città Metropolitana: a cura del Maggio Musicale\, presso il  Museo Manzi di Campi Bisenzio alle 10.30\, si esibiranno Boriana Nakeva (violino) Lia Previtali (viola) e Sara Nanni (violoncello)\, e alle 12 Corinne Curtaz (violino)\, Emilio Di Stefano (violino)\, Dezi Herber (viola) e Simao Alcoforado (violoncello).  Al Museo Bandini di Fiesole\, alle ore 11\,  il Conservatorio Cherubini proporrà le Suggestioni per arpa\, con musiche di Renié\, Rota\, Hasselmans\, Paradisi\, Händel\, nel concerto dell’arpista Floriandre Dezaire\, mentre alle 12 presso il Teatro Studio Mila Pieralli di Scandicci l’Orchestra della Toscana replicherà il suo concerto con l’Orchestra d’Archi\, con musiche di Dvořák e Čaikovskij. \nProgramma completo sul sito
URL:https://www.eventiintoscana.it/evento/strings-city-luoghi-vari-nella-citta-firenze
LOCATION:Firenze\, Firenze\, Italia
CATEGORIES:Firenze,Musica e festival
ATTACH;FMTTYPE=image/jpeg:https://www.eventiintoscana.it/wp-content/uploads/2017/11/Strings-City.jpg
END:VEVENT
END:VCALENDAR