BEGIN:VCALENDAR
VERSION:2.0
PRODID:-//Eventi in Toscana By Toscana Tascabile - ECPv6.15.12.2//NONSGML v1.0//EN
CALSCALE:GREGORIAN
METHOD:PUBLISH
X-WR-CALNAME:Eventi in Toscana By Toscana Tascabile
X-ORIGINAL-URL:https://www.eventiintoscana.it
X-WR-CALDESC:Eventi per Eventi in Toscana By Toscana Tascabile
REFRESH-INTERVAL;VALUE=DURATION:PT1H
X-Robots-Tag:noindex
X-PUBLISHED-TTL:PT1H
BEGIN:VTIMEZONE
TZID:Europe/Rome
BEGIN:DAYLIGHT
TZOFFSETFROM:+0100
TZOFFSETTO:+0200
TZNAME:CEST
DTSTART:20170326T010000
END:DAYLIGHT
BEGIN:STANDARD
TZOFFSETFROM:+0200
TZOFFSETTO:+0100
TZNAME:CET
DTSTART:20171029T010000
END:STANDARD
BEGIN:DAYLIGHT
TZOFFSETFROM:+0100
TZOFFSETTO:+0200
TZNAME:CEST
DTSTART:20180325T010000
END:DAYLIGHT
BEGIN:STANDARD
TZOFFSETFROM:+0200
TZOFFSETTO:+0100
TZNAME:CET
DTSTART:20181028T010000
END:STANDARD
BEGIN:DAYLIGHT
TZOFFSETFROM:+0100
TZOFFSETTO:+0200
TZNAME:CEST
DTSTART:20190331T010000
END:DAYLIGHT
BEGIN:STANDARD
TZOFFSETFROM:+0200
TZOFFSETTO:+0100
TZNAME:CET
DTSTART:20191027T010000
END:STANDARD
END:VTIMEZONE
BEGIN:VEVENT
DTSTART;TZID=Europe/Rome:20180504T080000
DTEND;TZID=Europe/Rome:20180506T230000
DTSTAMP:20260423T012010
CREATED:20180426T205123Z
LAST-MODIFIED:20180506T190405Z
UID:265465-1525420800-1525647600@www.eventiintoscana.it
SUMMARY:Camaiore Street Food - Centro storico\, Camaiore (Lucca)
DESCRIPTION:Da venerdì 4 a domenica 6 maggio il centro storico di Camaiore si anima grazie allo street food targato Luna Eventi.\nL’occasione migliore per assaggiare le  migliori declinazioni italiane\, e non solo\, delle cucine su quattro ruote… Scoprite tutti i food truck presenti sulla pagina Facebook dell’evento! \n\nVenerdì 4 Maggio dalle h.17:00 alle h.24:00\nSabato 5 e Domenica 6 Maggio dalle h.11:00 alle h.24:00\nPartner della manifestazione Radio Nostalgia: \nVenerdi sera DJset a cura di Radio Nostalgia\, Andrea Secci in diretta dalla street food con il contest per il miglior truck.\nSpecial Guest della serata Guido Genovesi\, ex concorrente del Grande Fratello.\nSabato e domenica\, a pranzo e a cena\, intrattenimento musicale di Radio Nostalgia. \nArea giochi bimbi\, Piazza XXIX Maggio.
URL:https://www.eventiintoscana.it/evento/camaiore-street-food-camaiore-lucca
LOCATION:Centro Storico\, Camaiore\, Lucca
CATEGORIES:Lucca,Rassegne e Sagre
ATTACH;FMTTYPE=image/jpeg:https://www.eventiintoscana.it/wp-content/uploads/2018/04/camaiore-street-food_650x300.jpg
ORGANIZER;CN="Luna Eventi":MAILTO:lunaeventi2016@gmail.com
END:VEVENT
BEGIN:VEVENT
DTSTART;TZID=Europe/Rome:20180413T000000
DTEND;TZID=Europe/Rome:20180415T000000
DTSTAMP:20260423T012010
CREATED:20180222T104649Z
LAST-MODIFIED:20180408T185736Z
UID:262720-1523577600-1523750400@www.eventiintoscana.it
SUMMARY:Tonfano Street Food - Tonfano\, Pietrasanta (Lucca)
DESCRIPTION:Una tre giorni all’insegna del gusto\, quella proposta a Tonfano da Luna Eventi da venerdì 13  a domenica 15 aprile: lo Street Food proposto per le vie di Tonfano vedrà infatti scendere in piazza i migliori food truck\, le cucine su ruote che proporranno tanto buon cibo ‘cotto e mangiato’ per tutti i gusti! \nAppuntamento fin dalle ore 11 in piazza XXIV maggio e in via Versilia. \nLa manifestazione\, inizialmente prevista dal 9 all’11 marzo\, è stata posticipata ad aprile a causa del maltempo. \nPagina Facebook della manifestazione \n 
URL:https://www.eventiintoscana.it/evento/tonfano-street-food-tonfano-pietrasanta-lucca
LOCATION:Tonfano\, Pietrasanta\, Toscana\, 55045\, Italia
CATEGORIES:Lucca,Rassegne e Sagre
ATTACH;FMTTYPE=image/jpeg:https://www.eventiintoscana.it/wp-content/uploads/2018/02/Tonfano-Street-Food.jpg
END:VEVENT
END:VCALENDAR