BEGIN:VCALENDAR
VERSION:2.0
PRODID:-//Eventi in Toscana By Toscana Tascabile - ECPv6.15.12.2//NONSGML v1.0//EN
CALSCALE:GREGORIAN
METHOD:PUBLISH
X-ORIGINAL-URL:https://www.eventiintoscana.it
X-WR-CALDESC:Eventi per Eventi in Toscana By Toscana Tascabile
REFRESH-INTERVAL;VALUE=DURATION:PT1H
X-Robots-Tag:noindex
X-PUBLISHED-TTL:PT1H
BEGIN:VTIMEZONE
TZID:Europe/Rome
BEGIN:DAYLIGHT
TZOFFSETFROM:+0100
TZOFFSETTO:+0200
TZNAME:CEST
DTSTART:20180325T010000
END:DAYLIGHT
BEGIN:STANDARD
TZOFFSETFROM:+0200
TZOFFSETTO:+0100
TZNAME:CET
DTSTART:20181028T010000
END:STANDARD
BEGIN:DAYLIGHT
TZOFFSETFROM:+0100
TZOFFSETTO:+0200
TZNAME:CEST
DTSTART:20190331T010000
END:DAYLIGHT
BEGIN:STANDARD
TZOFFSETFROM:+0200
TZOFFSETTO:+0100
TZNAME:CET
DTSTART:20191027T010000
END:STANDARD
BEGIN:DAYLIGHT
TZOFFSETFROM:+0100
TZOFFSETTO:+0200
TZNAME:CEST
DTSTART:20200329T010000
END:DAYLIGHT
BEGIN:STANDARD
TZOFFSETFROM:+0200
TZOFFSETTO:+0100
TZNAME:CET
DTSTART:20201025T010000
END:STANDARD
END:VTIMEZONE
BEGIN:VEVENT
DTSTART;TZID=Europe/Rome:20190411T100000
DTEND;TZID=Europe/Rome:20190414T235500
DTSTAMP:20260421T054844
CREATED:20190410T172828Z
LAST-MODIFIED:20190410T172828Z
UID:275010-1554976800-1555286100@www.eventiintoscana.it
SUMMARY:Mercato Europeo - Pisa
DESCRIPTION:Da giovedì 11 a domenica 14 aprile Piazza Vittorio Emanuele a Pisa ospita il Mercato Europeo\, con area street food ed enogastronomia da tutta Europa.\nL’evento nasce per far rivivere i colori\, i suoni\, gli odori di un Mercato artigianale ricco di cultura e storia\, con prodotti tipici del territorio. Grande spazio verrà dato ai prodotti tipici\, valorizzando la cultura del cibo\, la sostenibilità e l’educazione a km 0. \nCi sarà spazio anche per lo street food di qualità\, con cucine on the road. Si potranno gustare le prelibatezze italiane ed europee. Il tutto accompagnato dalle migliori birre artigianali. \nOrario: tutti i giorni 10-24 \nL’evento è organizzato da Anva e Confesercenti Pisa. \n— Pagina Facebook ufficiale dell’evento—
URL:https://www.eventiintoscana.it/evento/mercato-europeo-pisa
LOCATION:Luogo Senza Nome\, Piazza Vittorio Emanuele\, Pisa
CATEGORIES:Fiere e Mercatini,Pisa
ATTACH;FMTTYPE=image/jpeg:https://www.eventiintoscana.it/wp-content/uploads/2019/04/mercato-europeo-pisa-anva.jpg
END:VEVENT
END:VCALENDAR