BEGIN:VCALENDAR
VERSION:2.0
PRODID:-//Eventi in Toscana By Toscana Tascabile - ECPv6.15.12.2//NONSGML v1.0//EN
CALSCALE:GREGORIAN
METHOD:PUBLISH
X-WR-CALNAME:Eventi in Toscana By Toscana Tascabile
X-ORIGINAL-URL:https://www.eventiintoscana.it
X-WR-CALDESC:Eventi per Eventi in Toscana By Toscana Tascabile
REFRESH-INTERVAL;VALUE=DURATION:PT1H
X-Robots-Tag:noindex
X-PUBLISHED-TTL:PT1H
BEGIN:VTIMEZONE
TZID:Europe/Rome
BEGIN:DAYLIGHT
TZOFFSETFROM:+0100
TZOFFSETTO:+0200
TZNAME:CEST
DTSTART:20170326T010000
END:DAYLIGHT
BEGIN:STANDARD
TZOFFSETFROM:+0200
TZOFFSETTO:+0100
TZNAME:CET
DTSTART:20171029T010000
END:STANDARD
BEGIN:DAYLIGHT
TZOFFSETFROM:+0100
TZOFFSETTO:+0200
TZNAME:CEST
DTSTART:20180325T010000
END:DAYLIGHT
BEGIN:STANDARD
TZOFFSETFROM:+0200
TZOFFSETTO:+0100
TZNAME:CET
DTSTART:20181028T010000
END:STANDARD
BEGIN:DAYLIGHT
TZOFFSETFROM:+0100
TZOFFSETTO:+0200
TZNAME:CEST
DTSTART:20190331T010000
END:DAYLIGHT
BEGIN:STANDARD
TZOFFSETFROM:+0200
TZOFFSETTO:+0100
TZNAME:CET
DTSTART:20191027T010000
END:STANDARD
END:VTIMEZONE
BEGIN:VEVENT
DTSTART;TZID=Europe/Rome:20180616T000000
DTEND;TZID=Europe/Rome:20180617T000000
DTSTAMP:20260422T131144
CREATED:20180603T101219Z
LAST-MODIFIED:20180610T212609Z
UID:266717-1529107200-1529193600@www.eventiintoscana.it
SUMMARY:SogniinStrada - Centro storico\, Fucecchio (Firenze)
DESCRIPTION:Sabato 16 e domenica 17 giugno 2018 il Centro Storico di Fucecchio sarà protagonista della prima edizione di “SogninStrada”\, un evento incentrato sull’arte di strada in tutte le sue sfumature\, dove saranno presenti artisti di fama internazionale. \nUno spettacolo a tutto tondo in grado di coinvolgere grandi e piccini: acrobati\, mangiafuoco\, giocolieri\, musicisti\, ballerini di strada e tante altre figure animeranno il centro di Fucecchio con spettacoli coinvolgenti ed appassionanti. Vie\, piazze e vicoli\, saranno scenario di lavorazioni dal vivo di pittori\, scultori ed artigiani e laboratori per bambini. \nGli artisti si sfideranno in un contest dove potranno essere votati dal pubblico ed il preferito\, oltre a ricevere il premio\, si aggiudicherà direttamente la possibilità di partecipare all’edizione 2019. \nL’evento è organizzato da La Calamita Onlus\, associazione che si occupa di integrazione\, gioco\, formazione\, solidarietà. \nInfo e contatti: sogninstrada@gmail.com \nFacebook e Instagram: SogninStrada\, #sogninstrada
URL:https://www.eventiintoscana.it/evento/sogniinstrada-fucecchio
LOCATION:Centro storico\, Fucecchio\, FIrenze
CATEGORIES:Firenze,Musica e festival,Rassegne e Sagre
ATTACH;FMTTYPE=image/jpeg:https://www.eventiintoscana.it/wp-content/uploads/2018/06/SogninStrada_650x300.jpg
ORGANIZER;CN="Unnamed Organizzatore":MAILTO:sogninstrada@gmail.com
END:VEVENT
END:VCALENDAR