BEGIN:VCALENDAR
VERSION:2.0
PRODID:-//Eventi in Toscana By Toscana Tascabile - ECPv6.15.12.2//NONSGML v1.0//EN
CALSCALE:GREGORIAN
METHOD:PUBLISH
X-WR-CALNAME:Eventi in Toscana By Toscana Tascabile
X-ORIGINAL-URL:https://www.eventiintoscana.it
X-WR-CALDESC:Eventi per Eventi in Toscana By Toscana Tascabile
REFRESH-INTERVAL;VALUE=DURATION:PT1H
X-Robots-Tag:noindex
X-PUBLISHED-TTL:PT1H
BEGIN:VTIMEZONE
TZID:Europe/Rome
BEGIN:DAYLIGHT
TZOFFSETFROM:+0100
TZOFFSETTO:+0200
TZNAME:CEST
DTSTART:20220327T010000
END:DAYLIGHT
BEGIN:STANDARD
TZOFFSETFROM:+0200
TZOFFSETTO:+0100
TZNAME:CET
DTSTART:20221030T010000
END:STANDARD
BEGIN:DAYLIGHT
TZOFFSETFROM:+0100
TZOFFSETTO:+0200
TZNAME:CEST
DTSTART:20230326T010000
END:DAYLIGHT
BEGIN:STANDARD
TZOFFSETFROM:+0200
TZOFFSETTO:+0100
TZNAME:CET
DTSTART:20231029T010000
END:STANDARD
BEGIN:DAYLIGHT
TZOFFSETFROM:+0100
TZOFFSETTO:+0200
TZNAME:CEST
DTSTART:20240331T010000
END:DAYLIGHT
BEGIN:STANDARD
TZOFFSETFROM:+0200
TZOFFSETTO:+0100
TZNAME:CET
DTSTART:20241027T010000
END:STANDARD
END:VTIMEZONE
BEGIN:VEVENT
DTSTART;TZID=Europe/Rome:20230415T090000
DTEND;TZID=Europe/Rome:20230416T223000
DTSTAMP:20260419T163748
CREATED:20230411T144658Z
LAST-MODIFIED:20230412T091445Z
UID:275076-1681549200-1681684200@www.eventiintoscana.it
SUMMARY:Sagra del ciambellino - Rigomagno\, Sinalunga (Siena)
DESCRIPTION:Sabato 15 e domenica 16 aprile 2023 a Rigomagno si svolge la 52ª sagra del Ciambellino di Rigomagno. \nProgramma:\n Sabato 15 aprile \nore 19\,30 CENA Rigomagnese \nore 20\,00 MUSICA dal vivo \nDomenica 16 aprile \nore 9.00 RADUNO Amici del Maggiolino \nore 9\,30 Benedizione del CIAMBELLINO e Festa della Famiglia \nore 10\,00 MERCATINO artigianale \nore 12\,30 PRANZO Rigomagnese – Menù fisso \nore 16\,00 ARRIVA LA BANDA di Bettolle \nore 17\,00 ARTISTI di strada e animazione per bambini ore 19\,30 CENA a sorpresa “icchec’è c’è” \nDurante i giorni della Sagra\, sarà possibile degustare PARMIGIANO REGGIANO DOP \nCon l’occasione l’associazione vi informa che il 1° maggio\, si terrà la tradizionale MERENDA di Rigomagno \n\n\n>> Clicca qui per vedere la locandina \n\n\nPagina Facebook Proloco Rigomagno
URL:https://www.eventiintoscana.it/evento/sagra-del-ciambellino-rigomagno-sinalunga-siena
LOCATION:Luogo Senza Nome\, RIgomagno\, SInalunga (Siena)
CATEGORIES:Rassegne e Sagre,Siena
ATTACH;FMTTYPE=image/jpeg:https://www.eventiintoscana.it/wp-content/uploads/2019/04/Rigomagno-Sinalunga-Sagra-del-ciambellino.jpg
END:VEVENT
END:VCALENDAR