BEGIN:VCALENDAR
VERSION:2.0
PRODID:-//Eventi in Toscana By Toscana Tascabile - ECPv6.15.12.2//NONSGML v1.0//EN
CALSCALE:GREGORIAN
METHOD:PUBLISH
X-ORIGINAL-URL:https://www.eventiintoscana.it
X-WR-CALDESC:Eventi per Eventi in Toscana By Toscana Tascabile
REFRESH-INTERVAL;VALUE=DURATION:PT1H
X-Robots-Tag:noindex
X-PUBLISHED-TTL:PT1H
BEGIN:VTIMEZONE
TZID:Europe/Rome
BEGIN:DAYLIGHT
TZOFFSETFROM:+0100
TZOFFSETTO:+0200
TZNAME:CEST
DTSTART:20180325T010000
END:DAYLIGHT
BEGIN:STANDARD
TZOFFSETFROM:+0200
TZOFFSETTO:+0100
TZNAME:CET
DTSTART:20181028T010000
END:STANDARD
BEGIN:DAYLIGHT
TZOFFSETFROM:+0100
TZOFFSETTO:+0200
TZNAME:CEST
DTSTART:20190331T010000
END:DAYLIGHT
BEGIN:STANDARD
TZOFFSETFROM:+0200
TZOFFSETTO:+0100
TZNAME:CET
DTSTART:20191027T010000
END:STANDARD
BEGIN:DAYLIGHT
TZOFFSETFROM:+0100
TZOFFSETTO:+0200
TZNAME:CEST
DTSTART:20200329T010000
END:DAYLIGHT
BEGIN:STANDARD
TZOFFSETFROM:+0200
TZOFFSETTO:+0100
TZNAME:CET
DTSTART:20201025T010000
END:STANDARD
BEGIN:DAYLIGHT
TZOFFSETFROM:+0100
TZOFFSETTO:+0200
TZNAME:CEST
DTSTART:20210328T010000
END:DAYLIGHT
BEGIN:STANDARD
TZOFFSETFROM:+0200
TZOFFSETTO:+0100
TZNAME:CET
DTSTART:20211031T010000
END:STANDARD
END:VTIMEZONE
BEGIN:VEVENT
DTSTART;TZID=Europe/Rome:20200314T110000
DTEND;TZID=Europe/Rome:20200315T190000
DTSTAMP:20260421T234708
CREATED:20200221T155444Z
LAST-MODIFIED:20200221T155444Z
UID:285615-1584183600-1584298800@www.eventiintoscana.it
SUMMARY:Flower's Park - Parco dei Renai\, Signa (Firenze)
DESCRIPTION:Sabato 14 e domenica 15 marzo dalle 11 di mattina fino al tramonto ‘Flower’s Park’\, al Parco dei Renai di Signa\, è la mostra mercato di piante e fiori arricchita dalla presenza di esperti e artisti che offriranno incontri e approfondimenti sul tema.\nPrima di rituffarsi nell’estate\, il parco di Signa offre a tutti gli appassionati la seconda edizione di Flower’s Park\, la mostra mercato dei fiori che tanto successo ha riscosso lo scorso anno. \nHanno aderito alla manifestazione vivaisti con piante acidofile (azalee e camelie)\, agrumi\, peonie\, rose antiche\, cactus e piante grasse. In esposizione anche piante aromatiche\, fioriture di stagione\, saponi naturali. \nDurante tutta la due giorni saranno date dimostrazioni di come si intrecciano cesti a mano e i visitatori avranno la possibilità di degustare piatti tipici Toscani con Arrigo Taccetti \, ottimi Hamburger e Birra Artigianale con Van Burger\, Prodotti Siciliani \, il “Fritto della Versilia”\, piatti vegani con Ginger e molto altro ancora… \nAnche i Bambini avranno modo di divertirsi con l’animazione di Priscilla per l’intere due giornate! \nIngresso libero\, ore 11-19
URL:https://www.eventiintoscana.it/evento/flowers-park-parco-dei-renai-signa-firenze
CATEGORIES:Fiere e Mercatini,Firenze
ATTACH;FMTTYPE=image/jpeg:https://www.eventiintoscana.it/wp-content/uploads/2020/02/flowers-park-signa.jpg
END:VEVENT
BEGIN:VEVENT
DTSTART;TZID=Europe/Rome:20190906T080000
DTEND;TZID=Europe/Rome:20190907T170000
DTSTAMP:20260421T234708
CREATED:20190829T085317Z
LAST-MODIFIED:20190829T085317Z
UID:278090-1567756800-1567875600@www.eventiintoscana.it
SUMMARY:Festa Medievale - Castello di Signa\, Signa (Firenze)
DESCRIPTION:Venerdì 6 e sabato 7 settembre al Castello di Signa si tiene la nuova edizione della Festa Medievale: dimostrazione di antichi mestieri\, mercato artigianale\, esposizione di abiti storici\, mostra di quadri\, via delle torture\, dame e cavalieri.\nSarà anche possibile assaggiare\, passeggiando tra le antiche mura del Borgo di castello di Signa\,  piatti tipici come penne al cinghiale\, polenta sul cinghiale \, porchetta\, lampredotto\, minestra di pane panini con salsiccia \,arrosticini di pecora\, ficattole\, cartoccio di pollo e verdure crostini e crostoni… \nParcheggio consigliato zona scuole elementari (vicino parco Renai).
URL:https://www.eventiintoscana.it/evento/festa-medievale-castello-signa-signa-firenze
LOCATION:Castello di Signa\, Signa (Firenze)
CATEGORIES:Firenze,Rassegne e Sagre
ATTACH;FMTTYPE=image/jpeg:https://www.eventiintoscana.it/wp-content/uploads/2019/08/festa-medievale-castello-signa.jpg
END:VEVENT
BEGIN:VEVENT
DTSTART;TZID=Europe/Rome:20190704T180000
DTEND;TZID=Europe/Rome:20190707T235500
DTSTAMP:20260421T234708
CREATED:20190707T071501Z
LAST-MODIFIED:20190707T071501Z
UID:277374-1562263200-1562543700@www.eventiintoscana.it
SUMMARY:BeerRrenai - Parco dei Renai\, Signa (Firenze)
DESCRIPTION:Dal 4 Luglio al 4 Agosto torna nei 70 ettari del Parco dei Renai di Signa la quinta edizione del BeerRrenai\, il music summer festival che dalle 17 fino a tarda notte propone cibo\, birra\, musica e tanto divertimento.\nDurante la festa sarà possibile trovare mercatini artigianali\, prodotti tipici\, birra artigianale\, un’area concerti ed un’area food molto grande\, un Luna Park con giochi per tutte le età\, una pista da ballo con ristorante pizzeria\, una piscina con Cocktail Bar dove è possibile fare degli aperitivi\, e un’area giochi per i bambini da 0 a 6 anni.\n\nQuesto il calendario dei concerti 2019:
URL:https://www.eventiintoscana.it/evento/beerrrenai-parco-dei-renai-signa-firenze
LOCATION:Parco dei Renai\, Signa (Firenze)
CATEGORIES:Firenze,Musica e festival,Rassegne e Sagre
ATTACH;FMTTYPE=image/jpeg:https://www.eventiintoscana.it/wp-content/uploads/2019/07/beerrenai-signa.jpg
END:VEVENT
BEGIN:VEVENT
DTSTART;TZID=Europe/Rome:20190630T170000
DTEND;TZID=Europe/Rome:20190630T235000
DTSTAMP:20260421T234708
CREATED:20190615T105522Z
LAST-MODIFIED:20190615T105522Z
UID:276898-1561914000-1561938600@www.eventiintoscana.it
SUMMARY:Volo di Cecco Santi e Sagra del ranocchio – Lecore di Signa\, Signa (Firenze)
DESCRIPTION:Nuovo appuntamento domenica 30 giugno con le celebrazioni in occasione del Volo di Cecco Santi e sagra del ranocchio a Lecore di Signa.\nsi comincia fin dal pomeriggio di domenica  quando\, alle 17\, si tiene la Messa\, e si prosegue per tutta la giornata\, con una Processione per le vie del paese alle 18 e l’apertura degli stand gastronomici alle 19. \nPer cena sarà quindi possibile assaggiare ranocchi fritti e altri prodotti tipici della cucina toscana. Si prosegue dopo cena con musica dal vivo\, balli e\, dalle 22\, rievocazione e Corteo storico con i figuranti in costume a sfilare per le vie. \nAlle 22.30 si tiene il momento clou della manifestazione\, ovvero il Volo del Capitano di ventura Cecco Santi: leggenda vuole che la sua planata indichi agli agricoltori quale sarà l’andamento dei futuri raccolti. \nInfo: 055.8735082
URL:https://www.eventiintoscana.it/evento/volo-cecco-santi-sagra-del-ranocchio-lecore-signa-signa-firenze
LOCATION:Luogo Senza Nome\, Lecore di Signa (Firenze)
CATEGORIES:Firenze,Rassegne e Sagre
ATTACH;FMTTYPE=image/jpeg:https://www.eventiintoscana.it/wp-content/uploads/2019/06/volo-cecco-santi-lecore-di-signa.jpg
END:VEVENT
BEGIN:VEVENT
DTSTART;TZID=Europe/Rome:20190621T180000
DTEND;TZID=Europe/Rome:20190623T235500
DTSTAMP:20260421T234708
CREATED:20190521T145250Z
LAST-MODIFIED:20190521T145250Z
UID:275959-1561140000-1561334100@www.eventiintoscana.it
SUMMARY:Street Food Sound Festival - Parco dei Renai\, Signa (Firenze)
DESCRIPTION:Da venerdì 21 a domenica 23 giugno al Parco dei Renai di Signa arriva lo Street Food Sound Festival\, un villaggio di cibo\, musica e spettacolo diviso per aree tematiche.\nFood area: Food Truck e cucine da tutto il mondo per assaporare il migliori cibi di strada \nKids area: Parco giochi\, Mini Golf\, Piscina atrezzata e molti spettacoli per i nostri piccoli visitatori ! \nMarket area:  Mercatino con i migliori espositori Italiani ! \nOgni giorno dalle 17.00 alle 20.00 mega aperitivo con musica\, Birre artigianali vino ed aperitivi per tutti i gusti. \nOrario: dalle 18
URL:https://www.eventiintoscana.it/evento/street-food-parco-dei-renai-signa-firenze
LOCATION:Parco dei Renai\, Signa\, Firenze
CATEGORIES:Firenze,Rassegne e Sagre
ATTACH;FMTTYPE=image/jpeg:https://www.eventiintoscana.it/wp-content/uploads/2019/05/street-food-sound-festival-parco-renai-signa.jpg
END:VEVENT
END:VCALENDAR