BEGIN:VCALENDAR
VERSION:2.0
PRODID:-//Eventi in Toscana By Toscana Tascabile - ECPv6.15.12.2//NONSGML v1.0//EN
CALSCALE:GREGORIAN
METHOD:PUBLISH
X-ORIGINAL-URL:https://www.eventiintoscana.it
X-WR-CALDESC:Eventi per Eventi in Toscana By Toscana Tascabile
REFRESH-INTERVAL;VALUE=DURATION:PT1H
X-Robots-Tag:noindex
X-PUBLISHED-TTL:PT1H
BEGIN:VTIMEZONE
TZID:Europe/Rome
BEGIN:DAYLIGHT
TZOFFSETFROM:+0100
TZOFFSETTO:+0200
TZNAME:CEST
DTSTART:20180325T010000
END:DAYLIGHT
BEGIN:STANDARD
TZOFFSETFROM:+0200
TZOFFSETTO:+0100
TZNAME:CET
DTSTART:20181028T010000
END:STANDARD
BEGIN:DAYLIGHT
TZOFFSETFROM:+0100
TZOFFSETTO:+0200
TZNAME:CEST
DTSTART:20190331T010000
END:DAYLIGHT
BEGIN:STANDARD
TZOFFSETFROM:+0200
TZOFFSETTO:+0100
TZNAME:CET
DTSTART:20191027T010000
END:STANDARD
BEGIN:DAYLIGHT
TZOFFSETFROM:+0100
TZOFFSETTO:+0200
TZNAME:CEST
DTSTART:20200329T010000
END:DAYLIGHT
BEGIN:STANDARD
TZOFFSETFROM:+0200
TZOFFSETTO:+0100
TZNAME:CET
DTSTART:20201025T010000
END:STANDARD
END:VTIMEZONE
BEGIN:VEVENT
DTSTART;TZID=Europe/Rome:20190511T160000
DTEND;TZID=Europe/Rome:20190512T193000
DTSTAMP:20260422T064838
CREATED:20190430T153220Z
LAST-MODIFIED:20190430T153220Z
UID:275521-1557590400-1557689400@www.eventiintoscana.it
SUMMARY:Sieci si tinge di rosa - Le Sieci\, Pontassieve (Firenze)
DESCRIPTION:Sabato 11 e domenica 12 maggio sesta edizione per Sieci si tinge di rosa\, evento organizzato dalle Florence Dragon Lady della Lilt\, che propone due giorni di eventi e iniziative.\nSabato 11 alla Croce Azzurra de Le Sieci\, dopo il saluto delle autorità alle ore 16\, si esibisce alle 16.30 il Coro Cantaliberi\, e alle 18 c’è un piccolo rinfresco. \nDomenica 12 le iniziative si tengono al Circolo I Maggio: \n\nprimo Palio dei Rioni in Dragon Boat: ore 9\,00 Accredito squadre\, ore 10\,00 Inizio gare\, ore 12\,00 Conclusione gare e premiazioni\, ore 12\,30 Pasta party.\ndalle 14.30 ‘Artisti e modelli’\, Mostra estemporanea di disegno\, con artisti gli Alunni Scuola G. Galilei – Sieci e modelli le Unità cinofile Scuola Cani salvataggio – Firenze; nel mentre si tiene una dimostrazione in Arno dei cani bagnino della Scuola Cani salvataggio – Firenze. Segue premiazione mostra.\ndalle ore 16.30: In barca in Arno con gli amici delle Sieci; Grafica ad acqua sulla pelle con Cactus Tattoo; Intrattenimento musicale con i Rock Park; Merenda; Giochi e gare a premio per adulti e bambini.\n\nL’evento si conclude alle 19.30.
URL:https://www.eventiintoscana.it/evento/sieci-si-tinge-rosa-le-sieci-pontassieve-firenze
LOCATION:Croce Azzurra Le Sieci e Circolo I Maggio\, Le Sieci\, Pontassieve (Firenze)
ATTACH;FMTTYPE=image/jpeg:https://www.eventiintoscana.it/wp-content/uploads/2019/04/sieci-si-tinge-di-rosa.jpg
ORGANIZER;CN="Unnamed Organizzatore":MAILTO:info@florencedragonlady.it
END:VEVENT
END:VCALENDAR