BEGIN:VCALENDAR
VERSION:2.0
PRODID:-//Eventi in Toscana By Toscana Tascabile - ECPv6.15.12.2//NONSGML v1.0//EN
CALSCALE:GREGORIAN
METHOD:PUBLISH
X-ORIGINAL-URL:https://www.eventiintoscana.it
X-WR-CALDESC:Eventi per Eventi in Toscana By Toscana Tascabile
REFRESH-INTERVAL;VALUE=DURATION:PT1H
X-Robots-Tag:noindex
X-PUBLISHED-TTL:PT1H
BEGIN:VTIMEZONE
TZID:Europe/Rome
BEGIN:DAYLIGHT
TZOFFSETFROM:+0100
TZOFFSETTO:+0200
TZNAME:CEST
DTSTART:20180325T010000
END:DAYLIGHT
BEGIN:STANDARD
TZOFFSETFROM:+0200
TZOFFSETTO:+0100
TZNAME:CET
DTSTART:20181028T010000
END:STANDARD
BEGIN:DAYLIGHT
TZOFFSETFROM:+0100
TZOFFSETTO:+0200
TZNAME:CEST
DTSTART:20190331T010000
END:DAYLIGHT
BEGIN:STANDARD
TZOFFSETFROM:+0200
TZOFFSETTO:+0100
TZNAME:CET
DTSTART:20191027T010000
END:STANDARD
BEGIN:DAYLIGHT
TZOFFSETFROM:+0100
TZOFFSETTO:+0200
TZNAME:CEST
DTSTART:20200329T010000
END:DAYLIGHT
BEGIN:STANDARD
TZOFFSETFROM:+0200
TZOFFSETTO:+0100
TZNAME:CET
DTSTART:20201025T010000
END:STANDARD
END:VTIMEZONE
BEGIN:VEVENT
DTSTART;TZID=Europe/Rome:20190531T080000
DTEND;TZID=Europe/Rome:20190602T170000
DTSTAMP:20260421T211941
CREATED:20190521T160907Z
LAST-MODIFIED:20190521T160907Z
UID:275998-1559289600-1559494800@www.eventiintoscana.it
SUMMARY:Sgranar per colli - Buggiano (Pistoia)
DESCRIPTION:Da venerdì 31 maggio a domenica 2 giugno torna la tre giorni di Sgranar per colli a Buggiano: presso il Parco della Villa di Bellavista saranno presenti stand e caratteristici furgoncini della Street food\, musica\, teatro\, Mercato Handmade “Vicoli di Bellavista”\, il tutto tenuto insieme dal filo conduttore del “buon cibo locale”.\nLa domenica 2 giugno si terrà la camminata degustativa di circa 12 km\, il cui percorso si inerpica sui colli del Comune di Buggiano (Stignano\, Colle\, Buggiano)\, alla scoperta dei borghi\, dei sapori\, dei paesaggi che la nostra terra offre\, per giungere alla tappa finale di Villa Bellavista. \nL’iniziativa è rivolta a tutti. Bambini\, adulti\, anziani\, residenti o meno della zona della Valdinievole\, turisti\, passanti\, esperti del settore eno-gastronomico\, escursionisti professionisti e improvvisati. Non ci sono limitazioni di target\, per un’iniziativa che proprio per le sue caratteristiche è in grado di coinvolgere tutti. \n 
URL:https://www.eventiintoscana.it/evento/sgranar-colli-buggiano-pistoia
LOCATION:Luogo Senza Nome\, Buggiano\, Pistoia
CATEGORIES:Pistoia,Rassegne e Sagre
ATTACH;FMTTYPE=image/jpeg:https://www.eventiintoscana.it/wp-content/uploads/2019/05/sgranar-per-colli-buggiano.jpg
END:VEVENT
END:VCALENDAR