BEGIN:VCALENDAR
VERSION:2.0
PRODID:-//Eventi in Toscana By Toscana Tascabile - ECPv6.15.12.2//NONSGML v1.0//EN
CALSCALE:GREGORIAN
METHOD:PUBLISH
X-WR-CALNAME:Eventi in Toscana By Toscana Tascabile
X-ORIGINAL-URL:https://www.eventiintoscana.it
X-WR-CALDESC:Eventi per Eventi in Toscana By Toscana Tascabile
REFRESH-INTERVAL;VALUE=DURATION:PT1H
X-Robots-Tag:noindex
X-PUBLISHED-TTL:PT1H
BEGIN:VTIMEZONE
TZID:Europe/Rome
BEGIN:DAYLIGHT
TZOFFSETFROM:+0100
TZOFFSETTO:+0200
TZNAME:CEST
DTSTART:20150329T010000
END:DAYLIGHT
BEGIN:STANDARD
TZOFFSETFROM:+0200
TZOFFSETTO:+0100
TZNAME:CET
DTSTART:20151025T010000
END:STANDARD
BEGIN:DAYLIGHT
TZOFFSETFROM:+0100
TZOFFSETTO:+0200
TZNAME:CEST
DTSTART:20160327T010000
END:DAYLIGHT
BEGIN:STANDARD
TZOFFSETFROM:+0200
TZOFFSETTO:+0100
TZNAME:CET
DTSTART:20161030T010000
END:STANDARD
BEGIN:DAYLIGHT
TZOFFSETFROM:+0100
TZOFFSETTO:+0200
TZNAME:CEST
DTSTART:20170326T010000
END:DAYLIGHT
BEGIN:STANDARD
TZOFFSETFROM:+0200
TZOFFSETTO:+0100
TZNAME:CET
DTSTART:20171029T010000
END:STANDARD
END:VTIMEZONE
BEGIN:VEVENT
DTSTART;TZID=Europe/Rome:20160910T110000
DTEND;TZID=Europe/Rome:20160911T210000
DTSTAMP:20260423T215322
CREATED:20160905T152244Z
LAST-MODIFIED:20160905T152512Z
UID:217359-1473505200-1473627600@www.eventiintoscana.it
SUMMARY:Il Galateo nell'Era dei Social - Borgo San Lorenzo (FI)
DESCRIPTION:Il Consorzio Mugello Mediceo presenta la manifestazione ’Il Galateo nell’era dei social’ che si terrà il 10 e 11 in abbinamento con iniziative già esistenti in Mugello (dal ‘Diotto’ a Scarperia alle ‘Vie del Gusto’ a Borgo San Lorenzo) che saranno motivo in più per programmare un week end lungo nel Mugello. Il clou della manifestazione si terrà sabato 10 con un ‘processo in piazza’ (p.zza Castelvecchio). Ha senso parlare ancora di buone maniere? Come è cambiato il galateo dai tempi di Monsignor della Casa? Come si applica il bon ton nella vita social? Ne discuteranno nomi come Vittorio Sgarbi\, Selvaggia Lucarelli\, Samuele Briatore\, Guelfo Guelfi o Franco Cardini\, con una giuria presieduta da Domenico Manzione e con la partecipazione del Teatro Idea. La sera cena con i partecipanti alla giornata al Monsignor della casa Resort a Mucciano. L’11 dalle 9.30\, prima estemporanea d’arte nel centro storico di Borgo San Lorenzo. Artisti da tutta la Toscana si confronteranno sul tema del ‘galateo nell’arte’. La giornata sarà ricca di appuntamenti\, fra questi ‘Il galateo della bistecca’\, show con degustazioni di prodotti locali a cura di Dario Cecchini\, il celebre macellaio di Panzano in Chianti.
URL:https://www.eventiintoscana.it/evento/galateo-nellera-dei-social
LOCATION:Borgo San Lorenzo\, Firenze
CATEGORIES:Mostra d'Arte
ATTACH;FMTTYPE=image/png:https://www.eventiintoscana.it/wp-content/uploads/2016/09/sgarbi2.png
END:VEVENT
END:VCALENDAR