BEGIN:VCALENDAR
VERSION:2.0
PRODID:-//Eventi in Toscana By Toscana Tascabile - ECPv6.15.12.2//NONSGML v1.0//EN
CALSCALE:GREGORIAN
METHOD:PUBLISH
X-ORIGINAL-URL:https://www.eventiintoscana.it
X-WR-CALDESC:Eventi per Eventi in Toscana By Toscana Tascabile
REFRESH-INTERVAL;VALUE=DURATION:PT1H
X-Robots-Tag:noindex
X-PUBLISHED-TTL:PT1H
BEGIN:VTIMEZONE
TZID:Europe/Rome
BEGIN:DAYLIGHT
TZOFFSETFROM:+0100
TZOFFSETTO:+0200
TZNAME:CEST
DTSTART:20180325T010000
END:DAYLIGHT
BEGIN:STANDARD
TZOFFSETFROM:+0200
TZOFFSETTO:+0100
TZNAME:CET
DTSTART:20181028T010000
END:STANDARD
BEGIN:DAYLIGHT
TZOFFSETFROM:+0100
TZOFFSETTO:+0200
TZNAME:CEST
DTSTART:20190331T010000
END:DAYLIGHT
BEGIN:STANDARD
TZOFFSETFROM:+0200
TZOFFSETTO:+0100
TZNAME:CET
DTSTART:20191027T010000
END:STANDARD
BEGIN:DAYLIGHT
TZOFFSETFROM:+0100
TZOFFSETTO:+0200
TZNAME:CEST
DTSTART:20200329T010000
END:DAYLIGHT
BEGIN:STANDARD
TZOFFSETFROM:+0200
TZOFFSETTO:+0100
TZNAME:CET
DTSTART:20201025T010000
END:STANDARD
END:VTIMEZONE
BEGIN:VEVENT
DTSTART;TZID=Europe/Rome:20190901T080000
DTEND;TZID=Europe/Rome:20190926T230000
DTSTAMP:20260420T202753
CREATED:20190912T141905Z
LAST-MODIFIED:20190912T141905Z
UID:278937-1567324800-1569538800@www.eventiintoscana.it
SUMMARY:Settembre Quarratino - Quarrata (Pistoia)
DESCRIPTION:Ecco il calendario delle iniziative del Settembre Quarratino. \n\n\n\n\n12 settembre giovedì\n\nOre 17.30 Impianti sportivi Mollungo\nFesta del Comitato civico Cittadinanza attiva “Sport in gioco bambini e ragazzi dai 5 ai 13 anni – decima edizione” a seguire merenda\nCivitas in collaborazione con Giovani Rossoneri e Associazione Green Sport \nOre 21.15 Scuderie Villa Medicea La Magia\, via Vecchia Fiorentina primo tronco n. 63\, Quarrata\n29° Corso di Storia dell’arte “Leonardo: ‘il primo della maniera moderna\, che dette alle figure il moto et il fiato’” Conferenza “Leonardo: l’allievo del Verrocchio” relatrice Francesca Rachel Valle\nAssociazione Tagete arte\, territorio\, archeologia in collaborazione con Comune di Quarrata \nOre 21.15  Circolo Arci Valenzatico\nBurraco\nCircolo Arci Valenzatico \n\n\n\n\n\n\n13 settembre venerdì\nOre 21 Piazza Fabbri\, Polo tecnologico\, Salone Zampini\nLuca Giuntini presenta i pittori e gli scultori di Quarrata e l’artista del legno Diego Sarti\nMagnificoingegno – Arci Quarrata \nOre 21 Piazza Risorgimento\nSpettacolo di ballo country\nAuser \n\n\n\n\n\n14 settembre sabato \nOre 10-19 Parco Villa Medicea La Magia\n“Restate con noi” una giornata con la V.A.B.V.A.B. \nOre 16 TCQ – Impianto comunale Tennis\, via Pollaiolo 8\, Quarrata\nProve gratuite di tennis per bambini ed adulti\, dalle ore 19 festeggiamenti per l’inizio della stagione sportiva e promozione calcetto\n(info 0573 1782069)\nProgetto Sport \nOre 21 Piazza Risorgimento\n26° Marcia per la Giustizia Agliana – Quarrata\nCon partenza da Agliana alle ore 18.00\nRete Radiè Resch \nOre 21.15 Circolo Arci Valenzatico\nTombola gastronomica\nCircolo Arci Valenzatico \n\n\n\n\n\n\n\n\n15 settembre domenica\nOre 8.30 Partenza dal Parco delle Cascine di Tavola Prato – Poggio a Caiano – Poggetto – Catena – Quarrata centro – Parco Villa Medicea La Magia – Olmi – Anpil La Querciola – Tavola – Prato\nPassaggio della 2° edizione della Eco maratona pratese\nPodistica pratese in collaborazione con Federazione italiana di atletica leggera e con Comune di Prato\, Comune di Quarrata\, Comune di Poggio a Caiano\, Comune di Carmignano \nOre 9-17 Piazza Risorgimento Quarrata\n5° ritrovo “Città di Quarrata” di auto Ferrari e auto sportive\nScuderia Ferrari Club Agliana \nOre 10-23 Agriturismo Abbonbrì Montemagno Quarrata\nPrima festa del Bio distretto Montalbano: passeggiate\, giochi bambini\, informazioni su vari progetti\, esposizioni divulgative sui principi dell’agricoltura biologica e della biodinamica\, spazi espositivi per i produttori\, show cooking\, ristoro\nBio Distretto del Montalbano \n\n\n\n\n\nOre 15 Anchiano Vinci ritrovo davanti alla casa natale di Leonardo\n29° Corso di Storia dell’arte “Leonardo: ‘il primo della maniera moderna\, che dette alle figure il moto et il fiato’ Visita alla mostra “Leonardo da Vinci all’origine del genio”\, museo Leonardiano\, casa natale di Leonardo e Villa del Ferrale (info 3348778007)\nAssociazione Tagete arte\, territorio\, archeologia \nOre 16 TCQ – Impianto comunale tennis\, via Pollaiolo 8\, Quarrata\nProve gratuite di tennis per bambini ed adulti\, promozione calcetto (info 0573 1782069)\nProgetto Sport \nOre 21 Piazza Agenore Fabbri\, Polo tecnologico\, Salone Zampini\n“Gli abiti da sposa nel tempo” sfilata a cura del circolo parrocchiale MCL Santonuovo\nMagnificoingegno – Arci Quarrata \n\n\n\n\n\n\n\n\n 16 settembre lunedì\n\nOre 21 Piazza Agenore Fabbri\nTorneo di burraco in notturna\nAssociazione Burraco Club Il Ventaglio \nOre 21 Sede Misericordia\, via Brunelleschi 36\nCorso per soccorritori di livello base aperto a tutta la cittadinanza (info 0573 72391)\nMisericordia di Quarrata \n17 martedì\n\nOre 21 Piazza Agenore Fabbri\, Polo tecnologico\, Salone Vangucci (aperta fino al 22 settembre)\nMostra “La magia del fumetto”\n“Oria” Associazione no profit \n\n\n\n\n\n\n\n\n19 settembre giovedì\nOre 21.15 Scuderie Villa Medicea La Magia\, via Vecchia Fiorentina primo tronco n. 63\, Quarrata\n29° Corso di Storia dell’arte “Leonardo: ‘il primo della maniera moderna\, che dette alle figure il moto et il fiato’” Conferenza “Leonardo: mito antico e moderno” relatore Andrea Baldinotti\nAssociazione Tagete arte\, territorio\, archeologia in collaborazione con Comune di Quarrata \nOre 21.15 Circolo Arci Valenzatico\nBurraco\nCircolo Arci Valenzatico \n\n\n\n\n\n20 settembre venerdì \nOre 19.00 Piazza Risorgimento (fino a domenica 22 settembre)\nQuarrata Street Food\nA cura di TAG \nOre 21 Circolo La Tranquillona\, Ferruccia\n12^ Festa del Comitato civico Cittadinanza attiva Conferenza “Custodire il territorio tutelare l’ambiente” interverranno il Presidente ed il Direttore del Consorzio Medio Valdarno\, il Sindaco ed alcuni consiglieri del Comune di Quarrata. Breve riflessione sull’Enciclica “Laudato si’” di Papa Francesco\nCivitas – Associazione Cittadinanza Attiva \n21 sabato\n\nOre 15-19 Piazza Risorgimento\nImpariamo\, giocando\, ad amare gli animali (info: www.diversamentecuccioli.it)\nAssociazione diversamente cuccioli \nOre 17 Parrocchia San Germano Santonuovo\, via Europa n. 376\, Santonuovo\, Quarrata\nPremiazione IV edizione “Concorso poesia e narrativa Don A. Cinotti”\nParrocchia San Germano \nOre 21.15 Circolo Arci Valenzatico\nTombola gastronomica\nCircolo Arci Valenzatico \n22 settembre domenica \nOre 9 Circolo Arci Quarrata\, via Fermi (ritrovo)\n44° passeggiata panoramica (info 0573 738612)\nPodistica Quarrata \nOre 17  Casa di Zela\, Caserana\, Quarrata\nConversazione “All’aria aperta. L’igiene nella campagna toscana e l’ideologia del riciclo”\nAssociazione Amici di Casa di Zela \nOre 17.30  Area Mollungo\n12° Festa del Comitato civico Cittadinanza attiva“Arboretum” passeggiata con esperto di piante\nCivitas – Associazione Cittadinanza Attiva \n\n\n\n\n\n26 settembre giovedì \nOre 21.15 Scuderie Villa Medicea La Magia\, via Vecchia Fiorentina primo tronco n. 63\, Quarrata\n29° Corso di Storia dell’arte “Leonardo: ‘il primo della maniera moderna\, che dette alle figure il moto et il fiato’”. Conferenza “La Cabala ebraica alla corte di Cosimo I de’ Medici” relatrice Francesca Rachel Valle\nAssociazione Tagete arte\, territorio\, archeologia in collaborazione con Comune di QuarrataCircolo Arci Valenzatico \nOre 21.15\nCircolo Arci Valenzatico\nBurraco\nCircolo Arci Valenzatico
URL:https://www.eventiintoscana.it/evento/settembre-quarratino-quarrata-pistoia
LOCATION:Luogo Senza Nome\, Quarrata (Pistoia)
CATEGORIES:Pistoia,Rassegne e Sagre
ATTACH;FMTTYPE=image/jpeg:https://www.eventiintoscana.it/wp-content/uploads/2019/09/settembre-quarratino.jpg
END:VEVENT
END:VCALENDAR