BEGIN:VCALENDAR
VERSION:2.0
PRODID:-//Eventi in Toscana By Toscana Tascabile - ECPv6.15.12.2//NONSGML v1.0//EN
CALSCALE:GREGORIAN
METHOD:PUBLISH
X-WR-CALNAME:Eventi in Toscana By Toscana Tascabile
X-ORIGINAL-URL:https://www.eventiintoscana.it
X-WR-CALDESC:Eventi per Eventi in Toscana By Toscana Tascabile
REFRESH-INTERVAL;VALUE=DURATION:PT1H
X-Robots-Tag:noindex
X-PUBLISHED-TTL:PT1H
BEGIN:VTIMEZONE
TZID:Europe/Rome
BEGIN:DAYLIGHT
TZOFFSETFROM:+0100
TZOFFSETTO:+0200
TZNAME:CEST
DTSTART:20180325T010000
END:DAYLIGHT
BEGIN:STANDARD
TZOFFSETFROM:+0200
TZOFFSETTO:+0100
TZNAME:CET
DTSTART:20181028T010000
END:STANDARD
BEGIN:DAYLIGHT
TZOFFSETFROM:+0100
TZOFFSETTO:+0200
TZNAME:CEST
DTSTART:20190331T010000
END:DAYLIGHT
BEGIN:STANDARD
TZOFFSETFROM:+0200
TZOFFSETTO:+0100
TZNAME:CET
DTSTART:20191027T010000
END:STANDARD
BEGIN:DAYLIGHT
TZOFFSETFROM:+0100
TZOFFSETTO:+0200
TZNAME:CEST
DTSTART:20200329T010000
END:DAYLIGHT
BEGIN:STANDARD
TZOFFSETFROM:+0200
TZOFFSETTO:+0100
TZNAME:CET
DTSTART:20201025T010000
END:STANDARD
BEGIN:DAYLIGHT
TZOFFSETFROM:+0100
TZOFFSETTO:+0200
TZNAME:CEST
DTSTART:20210328T010000
END:DAYLIGHT
BEGIN:STANDARD
TZOFFSETFROM:+0200
TZOFFSETTO:+0100
TZNAME:CET
DTSTART:20211031T010000
END:STANDARD
END:VTIMEZONE
BEGIN:VEVENT
DTSTART;TZID=Europe/Rome:20200901T080000
DTEND;TZID=Europe/Rome:20200930T233000
DTSTAMP:20260420T042833
CREATED:20200904T085816Z
LAST-MODIFIED:20200904T085816Z
UID:287303-1598947200-1601508600@www.eventiintoscana.it
SUMMARY:Settembre Lucchese - Lucca
DESCRIPTION:Riportiamo di seguito il comunicato del Comune di Lucca rispetto alle iniziative del Settembre Lucchese 2020 sul portale Informagiovani.\n“Il Settembre Lucchese 2020 si colloca quest’anno in condizioni del tutto nuove alle quali dobbiamo fare fronte.\nSappiamo che il mese di settembre ha per i Lucchesi un significato particolare perché i cittadini vicini e lontani celebrano il proprio essere comunità rinnovando la loro devozione al Volto Santo. \nMai prima di adesso avevamo sperimentato le conseguenze di una pandemia globale. Abbiamo alle spalle due mesi di chiusura totale a causa dell’epidemia da Covid-19\, l’ormai famoso ‘coronavirus’\, con l’incertezza oltretutto di una possibile ripresa dei contagi in autunno\, anche a causa di comportamenti spesso non appropriati da parte delle persone. \n\nIl virus infatti si muove con noi e contagia attraverso di noi. In queste condizioni programmare le manifestazioni del Settembre Lucchese è stato estremamente complesso. \nE tuttavia non abbiamo voluto rinunciare a dare a quei giorni un segno distintivo secondo la serie di attività che li hanno sempre caratterizzati. Per cui abbiamo cercato di fare quello che si faceva in passato\, anche se in maniera diversa\, ossia secondo le necessità imposte dalla prudenza e dalla cautela. \nDobbiamo infatti evitare forme possibili di contagio; abbiamo voluto tuttavia fortemente che il Settembre Lucchese\, anche in un tempo complesso come quello che stiamo vivendo\, fosse comunque all’altezza della solennità della festa e della tradizione\, che dura da così tanti secoli.
URL:https://www.eventiintoscana.it/evento/settembre-lucchese-lucca-2
CATEGORIES:Feste e Folklore,Lucca
ATTACH;FMTTYPE=image/jpeg:https://www.eventiintoscana.it/wp-content/uploads/2020/09/Lucca_Pixabay.jpg
END:VEVENT
BEGIN:VEVENT
DTSTART;TZID=Europe/Rome:20190901T080000
DTEND;TZID=Europe/Rome:20190930T230000
DTSTAMP:20260420T042833
CREATED:20190909T135638Z
LAST-MODIFIED:20190909T135638Z
UID:278767-1567324800-1569884400@www.eventiintoscana.it
SUMMARY:Settembre Lucchese - Lucca
DESCRIPTION:Una festa lunga un mese\, fatta di tradizione\, di religiosità\, di cultura\, arte e storia.  Settembre\, il mese che da sempre è sinonimo di grande vitalità per Lucca\, il periodo di maggior richiamo sia per i turisti che per i tanti lucchesi che lasciata la città ritornano per ricongiungersi con familiari e amici.\nMolteplici anche quest’anno gli appuntamenti e tra gli immancabili annoveriamo la notte bianca\, la luminara di Santa Croce\, la fiera di Borgo Giannotti a cui vanno ad aggiungersi altre novità assolute\, come sua consuetudine il calendario del settembre lucchese promette di non deludere le aspettative. \nVediamo quindi quali sono i principali appuntamenti di quest’anno: si inizia con la Notte Bianca che si terrà il 24 agosto e che\, entrata ormai da qualche anno nel calendario dei lucchesi\, permetterà di vivere la città in maniera particolare\, tra concerti\, mostre ed esibizioni che dureranno fino a tardi\, si prosegue con il tradizionale Luna park di piazzale Don Baroni che intratterrà grandi e piccoli dal 24 agosto al 29 settembre. \nA cavallo tra agosto e settembre e precisamente dal 31 agosto al 1 settembre\, ritorna anche un altro suggestivo e affascinante appuntamento come Il Castello rivive\, ormai tradizionale evento di Nozzano. \nAnche tanto sport in questo settembre ricco di appuntamenti: per tutti gli appassionati\, da non perdere il 7 settembre\, la Lucca di Notte\, la tradizionale marcia non competitiva organizzata dall’associazione podismo non competitivo che si svolge di sera sulle mura e per le vie del centro. \nAltro evento attesissimo e di grande richiamo è Murabilia\, la mostra mercato dedicata a piante\, fiori e giardinaggio che quest’anno si svolgerà dal 6 al 8 settembre sui baluardi San Regolo\, La Libertà\, nell’Orto Botanico e nei sotterranei delle mura. \nAltro evento classico e grande festa dello sport\, che ogni anno consente a migliaia di persone\, bambini e appassionati di assistere ad un torneo di altissimo livello\, vedendo giocare da vicino i più grandi campioni del basket\, è il Trofeo Lovari che vedrà il 6 e 7 settembre\, sul parquet del Palasport di Lucca\, quattro meravigliose squadre di caratura europea che si affronteranno per aggiudicarsi l’ambìto trofeo. \nIl clou del settembre lucchese si toccherà ovviamente nei giorni del 13 e 14\, prima con la tradizionale Luminara\, seguita dallo spettacolo pirotecnico e\, il giorno successivo\, il Solenne pontificale della Santa Croce. \nAltro appuntamento irrinunciabile per tutti i lucchesi è la fiera di Borgo Giannotti che\, quest’anno\, si terrà il 14\, 21 e 29 settembre a cui si uniscono la Fiera del Bestiame a Foro Boario e la Fiera dei dolci e dei generi alimentari in Via delle Tagliate (zona Luna Park). \nPer le rievocazioni storiche si segnalano nei giorni 13\, 14\, 15 settembre sugli spalti della piattaforma San Frediano Occhio di Lucca e Gazzarra delle artiglierie di Santa Croce\, la rievocazione storica del sistema di comunicazione ottica della Repubblica di Lucca e spari a salve\, mentre il 22 settembre alle ore 15.30 in Piazza San Martino il consueto Palio della Balestra di Santa Croce\, la gara di tiro con la balestra fra tiratori dei Terzieri cittadini Compagnia Balestrieri Lucca e Contrada San Paolino e Sbandieratori e Musici di S. Anna. \nE poi\, altre manifestazioni e iniziative che fanno di tutto il mese di settembre\, nelle luci calde della città e nei colori che annunciano l’autunno nelle campagne\, un mese di festa.
URL:https://www.eventiintoscana.it/evento/settembre-lucchese-lucca
LOCATION:Luogo Senza Nome\, Lucca
CATEGORIES:Lucca,Rassegne e Sagre
ATTACH;FMTTYPE=image/jpeg:https://www.eventiintoscana.it/wp-content/uploads/2019/09/settembre-lucchese.jpg
END:VEVENT
END:VCALENDAR