BEGIN:VCALENDAR
VERSION:2.0
PRODID:-//Eventi in Toscana By Toscana Tascabile - ECPv6.15.12.2//NONSGML v1.0//EN
CALSCALE:GREGORIAN
METHOD:PUBLISH
X-ORIGINAL-URL:https://www.eventiintoscana.it
X-WR-CALDESC:Eventi per Eventi in Toscana By Toscana Tascabile
REFRESH-INTERVAL;VALUE=DURATION:PT1H
X-Robots-Tag:noindex
X-PUBLISHED-TTL:PT1H
BEGIN:VTIMEZONE
TZID:Europe/Rome
BEGIN:DAYLIGHT
TZOFFSETFROM:+0100
TZOFFSETTO:+0200
TZNAME:CEST
DTSTART:20180325T010000
END:DAYLIGHT
BEGIN:STANDARD
TZOFFSETFROM:+0200
TZOFFSETTO:+0100
TZNAME:CET
DTSTART:20181028T010000
END:STANDARD
BEGIN:DAYLIGHT
TZOFFSETFROM:+0100
TZOFFSETTO:+0200
TZNAME:CEST
DTSTART:20190331T010000
END:DAYLIGHT
BEGIN:STANDARD
TZOFFSETFROM:+0200
TZOFFSETTO:+0100
TZNAME:CET
DTSTART:20191027T010000
END:STANDARD
BEGIN:DAYLIGHT
TZOFFSETFROM:+0100
TZOFFSETTO:+0200
TZNAME:CEST
DTSTART:20200329T010000
END:DAYLIGHT
BEGIN:STANDARD
TZOFFSETFROM:+0200
TZOFFSETTO:+0100
TZNAME:CET
DTSTART:20201025T010000
END:STANDARD
END:VTIMEZONE
BEGIN:VEVENT
DTSTART;TZID=Europe/Rome:20190614T213000
DTEND;TZID=Europe/Rome:20190828T230000
DTSTAMP:20260419T151203
CREATED:20190707T110314Z
LAST-MODIFIED:20190901T190722Z
UID:277402-1560547800-1567033200@www.eventiintoscana.it
SUMMARY:Sere d'Estate - Montecarlo (Lucca)
DESCRIPTION:Al via il cartellone degli eventi estivi del Comune di Montecarlo: spettacoli\, cinema\, concerti\, jazz&wine: appuntamento fino al 25 agosto.\nNelle domeniche 21\, 28 luglio e 11\,18\,25 agosto sarà la volta della musica jazz grazie alla collaborazione del Circolo Lucca Jazz. \nDedicata ai bambini la giornata del 15 agosto con un doppio spettacolo di burattini in Piazza Carrara. \nPrezzo: ingresso libero\nOrario: 21:30\nt
URL:https://www.eventiintoscana.it/evento/sere-destate-montecarlo-lucca
LOCATION:Luogo Senza Nome\, Montecarlo (Lucca)
CATEGORIES:Lucca,Musica e festival
ATTACH;FMTTYPE=image/jpeg:https://www.eventiintoscana.it/wp-content/uploads/2019/07/jazz.jpg
ORGANIZER;CN="Unnamed Organizzatore":MAILTO:culturaeturismo@comune.montecarlo.lu.it
END:VEVENT
END:VCALENDAR