BEGIN:VCALENDAR
VERSION:2.0
PRODID:-//Eventi in Toscana By Toscana Tascabile - ECPv6.15.12.2//NONSGML v1.0//EN
CALSCALE:GREGORIAN
METHOD:PUBLISH
X-ORIGINAL-URL:https://www.eventiintoscana.it
X-WR-CALDESC:Eventi per Eventi in Toscana By Toscana Tascabile
REFRESH-INTERVAL;VALUE=DURATION:PT1H
X-Robots-Tag:noindex
X-PUBLISHED-TTL:PT1H
BEGIN:VTIMEZONE
TZID:Europe/Rome
BEGIN:DAYLIGHT
TZOFFSETFROM:+0100
TZOFFSETTO:+0200
TZNAME:CEST
DTSTART:20180325T010000
END:DAYLIGHT
BEGIN:STANDARD
TZOFFSETFROM:+0200
TZOFFSETTO:+0100
TZNAME:CET
DTSTART:20181028T010000
END:STANDARD
BEGIN:DAYLIGHT
TZOFFSETFROM:+0100
TZOFFSETTO:+0200
TZNAME:CEST
DTSTART:20190331T010000
END:DAYLIGHT
BEGIN:STANDARD
TZOFFSETFROM:+0200
TZOFFSETTO:+0100
TZNAME:CET
DTSTART:20191027T010000
END:STANDARD
BEGIN:DAYLIGHT
TZOFFSETFROM:+0100
TZOFFSETTO:+0200
TZNAME:CEST
DTSTART:20200329T010000
END:DAYLIGHT
BEGIN:STANDARD
TZOFFSETFROM:+0200
TZOFFSETTO:+0100
TZNAME:CET
DTSTART:20201025T010000
END:STANDARD
END:VTIMEZONE
BEGIN:VEVENT
DTSTART;TZID=Europe/Rome:20191116T093000
DTEND;TZID=Europe/Rome:20191117T193000
DTSTAMP:20260422T195057
CREATED:20191104T104153Z
LAST-MODIFIED:20191104T104153Z
UID:280514-1573896600-1574019000@www.eventiintoscana.it
SUMMARY:Santa Klaus. Mercatino di Natale - Palazzo Mediceo\, Seravezza (Lucca)
DESCRIPTION:Sabato 16 e domenica 17 novembre torna al Palazzo Mediceo di Seravezza il mercatino di Natale Santa Klaus.\nDue giorni di atmosfere natalizie grazie ai numerosi stand presenti\, che proporranno al pubblico idee regalo\, addobbi natalizi\, arredamento\, artigianato di qualità. \nSpazio anche all’area food con cioccolata\, dolci\, caldarroste e vin brulè. \nI più piccoli potranno incontrare Babbo Natale e partecipare a laboratori pensati appositamente per loro. \nIngresso libero.\nOrario: 9.30-19.30 \n***\nInfo: 347/5600197
URL:https://www.eventiintoscana.it/evento/santa-klaus-mercatino-di-natale-palazzo-mediceo-seravezza-lucca
CATEGORIES:Feste e Folklore,Lucca
ATTACH;FMTTYPE=image/jpeg:https://www.eventiintoscana.it/wp-content/uploads/2019/11/santa-klaus-seravezza.jpg
END:VEVENT
BEGIN:VEVENT
DTSTART;TZID=Europe/Rome:20190525T100000
DTEND;TZID=Europe/Rome:20190526T200000
DTSTAMP:20260422T195057
CREATED:20190523T101338Z
LAST-MODIFIED:20190523T101338Z
UID:276060-1558778400-1558900800@www.eventiintoscana.it
SUMMARY:Il giardino fiorito - Palazzo Mediceo\, Seravezza (Lucca)
DESCRIPTION:Sabato 25 e domenica 26 maggio il Palazzo Mediceo di Seravezza ospita Il giardino fiorito\, la mostra mercato di piante\, fiori\, idee per il giardino e la vita all’aria aperta.\nNumerosi gli espositori\, che proporranno al pubblico anche attrezzature per il giardinaggio\, oggettistica d’arredo\, antiquariato per l’esterno. \nOrari: 10-20. \nIngresso libero.
URL:https://www.eventiintoscana.it/evento/giardino-fiorito-palazzo-mediceo-seravezza-lucca
LOCATION:Palazzo Mediceo\, Seravezza\, Lucca
CATEGORIES:Fiere e Mercatini,Lucca
ATTACH;FMTTYPE=image/jpeg:https://www.eventiintoscana.it/wp-content/uploads/2019/05/il-giardino-fiorito-seravezza.jpg
END:VEVENT
END:VCALENDAR