BEGIN:VCALENDAR
VERSION:2.0
PRODID:-//Eventi in Toscana By Toscana Tascabile - ECPv6.15.12.2//NONSGML v1.0//EN
CALSCALE:GREGORIAN
METHOD:PUBLISH
X-WR-CALNAME:Eventi in Toscana By Toscana Tascabile
X-ORIGINAL-URL:https://www.eventiintoscana.it
X-WR-CALDESC:Eventi per Eventi in Toscana By Toscana Tascabile
REFRESH-INTERVAL;VALUE=DURATION:PT1H
X-Robots-Tag:noindex
X-PUBLISHED-TTL:PT1H
BEGIN:VTIMEZONE
TZID:Europe/Rome
BEGIN:DAYLIGHT
TZOFFSETFROM:+0100
TZOFFSETTO:+0200
TZNAME:CEST
DTSTART:20190331T010000
END:DAYLIGHT
BEGIN:STANDARD
TZOFFSETFROM:+0200
TZOFFSETTO:+0100
TZNAME:CET
DTSTART:20191027T010000
END:STANDARD
BEGIN:DAYLIGHT
TZOFFSETFROM:+0100
TZOFFSETTO:+0200
TZNAME:CEST
DTSTART:20200329T010000
END:DAYLIGHT
BEGIN:STANDARD
TZOFFSETFROM:+0200
TZOFFSETTO:+0100
TZNAME:CET
DTSTART:20201025T010000
END:STANDARD
BEGIN:DAYLIGHT
TZOFFSETFROM:+0100
TZOFFSETTO:+0200
TZNAME:CEST
DTSTART:20210328T010000
END:DAYLIGHT
BEGIN:STANDARD
TZOFFSETFROM:+0200
TZOFFSETTO:+0100
TZNAME:CET
DTSTART:20211031T010000
END:STANDARD
END:VTIMEZONE
BEGIN:VEVENT
DTSTART;TZID=Europe/Rome:20200105T140000
DTEND;TZID=Europe/Rome:20200105T180000
DTSTAMP:20260422T012431
CREATED:20200103T174044Z
LAST-MODIFIED:20200103T174044Z
UID:283886-1578232800-1578247200@www.eventiintoscana.it
SUMMARY:Scende la Befana - Piazza San Francesco\, Lucca
DESCRIPTION:Domenica 5 gennaio 2020 dalle ore 14:00 tutti in Piazza San Francesco per la classica discesa della Befana\, 23^ edizione di una grande tradizione di quartiere.\nDurante il tradizionale appuntamento si tiene lo spettacolo dei Vigili del Fuoco e la consegna delle calze a tutti i i bimbi presenti. \nCome ogni anno sarà un’occasione di festa per bambini e famiglie\, con la possibilità di ricevere la calza della befana ricca di caramelle e cioccolate. \nOrario: 14-18 \n\n\n\n\n***\nInfo:;\n\n\n\ndierre1966@gmail.com\n\n\n\n\n\n\n 
URL:https://www.eventiintoscana.it/evento/scende-la-befana-piazza-san-francesco-lucca
CATEGORIES:Feste e Folklore,Lucca
ATTACH;FMTTYPE=image/jpeg:https://www.eventiintoscana.it/wp-content/uploads/2020/01/Befana.jpg
END:VEVENT
END:VCALENDAR