BEGIN:VCALENDAR
VERSION:2.0
PRODID:-//Eventi in Toscana By Toscana Tascabile - ECPv6.15.12.2//NONSGML v1.0//EN
CALSCALE:GREGORIAN
METHOD:PUBLISH
X-WR-CALNAME:Eventi in Toscana By Toscana Tascabile
X-ORIGINAL-URL:https://www.eventiintoscana.it
X-WR-CALDESC:Eventi per Eventi in Toscana By Toscana Tascabile
REFRESH-INTERVAL;VALUE=DURATION:PT1H
X-Robots-Tag:noindex
X-PUBLISHED-TTL:PT1H
BEGIN:VTIMEZONE
TZID:Europe/Rome
BEGIN:DAYLIGHT
TZOFFSETFROM:+0100
TZOFFSETTO:+0200
TZNAME:CEST
DTSTART:20180325T010000
END:DAYLIGHT
BEGIN:STANDARD
TZOFFSETFROM:+0200
TZOFFSETTO:+0100
TZNAME:CET
DTSTART:20181028T010000
END:STANDARD
BEGIN:DAYLIGHT
TZOFFSETFROM:+0100
TZOFFSETTO:+0200
TZNAME:CEST
DTSTART:20190331T010000
END:DAYLIGHT
BEGIN:STANDARD
TZOFFSETFROM:+0200
TZOFFSETTO:+0100
TZNAME:CET
DTSTART:20191027T010000
END:STANDARD
BEGIN:DAYLIGHT
TZOFFSETFROM:+0100
TZOFFSETTO:+0200
TZNAME:CEST
DTSTART:20200329T010000
END:DAYLIGHT
BEGIN:STANDARD
TZOFFSETFROM:+0200
TZOFFSETTO:+0100
TZNAME:CET
DTSTART:20201025T010000
END:STANDARD
BEGIN:DAYLIGHT
TZOFFSETFROM:+0100
TZOFFSETTO:+0200
TZNAME:CEST
DTSTART:20210328T010000
END:DAYLIGHT
BEGIN:STANDARD
TZOFFSETFROM:+0200
TZOFFSETTO:+0100
TZNAME:CET
DTSTART:20211031T010000
END:STANDARD
END:VTIMEZONE
BEGIN:VEVENT
DTSTART;TZID=Europe/Rome:20200328T190000
DTEND;TZID=Europe/Rome:20200405T230000
DTSTAMP:20260421T205647
CREATED:20200228T103954Z
LAST-MODIFIED:20200323T103319Z
UID:285827-1585422000-1586127600@www.eventiintoscana.it
SUMMARY:---annullata--- Sagra del fritto misto - Circolo MCL\, Scarperia (Firenze)
DESCRIPTION:Nei fine settimana del 28-29 marzo e 4-5 aprile si tiene al Circolo MCL di Scarperia la Sagra del fritto misto.\nIl gran fritto farà da protagonista\, ma non solo. Il tipico tortello mugellano di patate\, accompagnato da carni alla brace\, saprà deliziare il palato. \nL’appuntamento per i golosi è al CIRCOLO MCL in Via San Martino 16 a Scarperia. \nOrari: Sabato 28 marzo dalle ore 19:00; Domenica 29 marzo dalle ore 12:00 e dalle ore 19:00\n– Sabato 4 aprile dalle ore 19:00; Domenica 5 aprile dalle ore 12:00 e dalle ore 19:00 \n*** \nInfo: Tel. 055-8468165
URL:https://www.eventiintoscana.it/evento/sagra-del-fritto-misto-circolo-mcl-scarperia-firenze
CATEGORIES:Firenze,Rassegne e Sagre
ATTACH;FMTTYPE=image/jpeg:https://www.eventiintoscana.it/wp-content/uploads/2020/02/fritto_frittura_pixabay.jpg
END:VEVENT
BEGIN:VEVENT
DTSTART;TZID=Europe/Rome:20200221T170000
DTEND;TZID=Europe/Rome:20200221T200000
DTSTAMP:20260421T205647
CREATED:20200213T143446Z
LAST-MODIFIED:20200213T143446Z
UID:285503-1582304400-1582315200@www.eventiintoscana.it
SUMMARY:Carnevale al Palazzo - Palazzo dei Vicari\, Scarperia (Firenze)
DESCRIPTION:Venerdì 21 febbraio Carnevale al Palazzo è la proposta di Scarperia per festeggiare insieme il Carnevale.\nA partire dalle ore 17\, al Palazzo dei Vicari\, sono previste attività con bambini legata al Carnevale nelle sale nobili. \nMaschera obbligatoria e tante sorprese e divertimento per tutti. \ningresso € 5\, prenotazione obbligatoria allo 055/8468165
URL:https://www.eventiintoscana.it/evento/carnevale-al-palazzo-palazzo-dei-vicari-scarperia-firenze
CATEGORIES:Feste e Folklore,Firenze
ATTACH;FMTTYPE=image/jpeg:https://www.eventiintoscana.it/wp-content/uploads/2020/02/carnevale-al-palazzo-scarperia.jpg
END:VEVENT
BEGIN:VEVENT
DTSTART;TZID=Europe/Rome:20191124T170000
DTEND;TZID=Europe/Rome:20191124T193000
DTSTAMP:20260421T205647
CREATED:20191111T164126Z
LAST-MODIFIED:20210724T124406Z
UID:280936-1574614800-1574623800@www.eventiintoscana.it
SUMMARY:Scarperia Wine - Palazzo dei Vicari\, Scarperia (Firenze)
DESCRIPTION:Domenica 24 novembre dalle ore 17 si tiene al Palazzo dei Vicari Scarperia Wine\, un pomeriggio di degustazioni di vini francesi\, prodotti nella parte bassa della Borgogna.\nA guidare la degustazione il sommelier Alessio Brachi; i vini vengono accompagnati da piatti preparati dallo chef Christian Borchi. \n\nPrenotazione obbligatoria; Costo € 40\,00 – Posti limitati. \n*** \nInfo: . 055-8468165 – informazioni@prolocoscarperia.it
URL:https://www.eventiintoscana.it/evento/scarperia-wine-palazzo-dei-vicari-scarperia-firenze-2
CATEGORIES:Firenze,Rassegne e Sagre
ATTACH;FMTTYPE=image/jpeg:https://www.eventiintoscana.it/wp-content/uploads/2019/11/scarperia-wine.jpg
END:VEVENT
END:VCALENDAR