BEGIN:VCALENDAR
VERSION:2.0
PRODID:-//Eventi in Toscana By Toscana Tascabile - ECPv6.15.12.2//NONSGML v1.0//EN
CALSCALE:GREGORIAN
METHOD:PUBLISH
X-WR-CALNAME:Eventi in Toscana By Toscana Tascabile
X-ORIGINAL-URL:https://www.eventiintoscana.it
X-WR-CALDESC:Eventi per Eventi in Toscana By Toscana Tascabile
REFRESH-INTERVAL;VALUE=DURATION:PT1H
X-Robots-Tag:noindex
X-PUBLISHED-TTL:PT1H
BEGIN:VTIMEZONE
TZID:Europe/Rome
BEGIN:DAYLIGHT
TZOFFSETFROM:+0100
TZOFFSETTO:+0200
TZNAME:CEST
DTSTART:20150329T010000
END:DAYLIGHT
BEGIN:STANDARD
TZOFFSETFROM:+0200
TZOFFSETTO:+0100
TZNAME:CET
DTSTART:20151025T010000
END:STANDARD
BEGIN:DAYLIGHT
TZOFFSETFROM:+0100
TZOFFSETTO:+0200
TZNAME:CEST
DTSTART:20160327T010000
END:DAYLIGHT
BEGIN:STANDARD
TZOFFSETFROM:+0200
TZOFFSETTO:+0100
TZNAME:CET
DTSTART:20161030T010000
END:STANDARD
BEGIN:DAYLIGHT
TZOFFSETFROM:+0100
TZOFFSETTO:+0200
TZNAME:CEST
DTSTART:20170326T010000
END:DAYLIGHT
BEGIN:STANDARD
TZOFFSETFROM:+0200
TZOFFSETTO:+0100
TZNAME:CET
DTSTART:20171029T010000
END:STANDARD
BEGIN:DAYLIGHT
TZOFFSETFROM:+0100
TZOFFSETTO:+0200
TZNAME:CEST
DTSTART:20180325T010000
END:DAYLIGHT
BEGIN:STANDARD
TZOFFSETFROM:+0200
TZOFFSETTO:+0100
TZNAME:CET
DTSTART:20181028T010000
END:STANDARD
BEGIN:DAYLIGHT
TZOFFSETFROM:+0100
TZOFFSETTO:+0200
TZNAME:CEST
DTSTART:20190331T010000
END:DAYLIGHT
BEGIN:STANDARD
TZOFFSETFROM:+0200
TZOFFSETTO:+0100
TZNAME:CET
DTSTART:20191027T010000
END:STANDARD
END:VTIMEZONE
BEGIN:VEVENT
DTSTART;VALUE=DATE:20181216
DTEND;VALUE=DATE:20181217
DTSTAMP:20260421T054810
CREATED:20181203T140221Z
LAST-MODIFIED:20181203T140221Z
UID:272990-1544918400-1545004799@www.eventiintoscana.it
SUMMARY:Festa dell'olio nuovo - Marliana (Pistoia)
DESCRIPTION:Ecco la seconda edizione della Festa dell’Olio Nuovo di Marliana (PT). L’appuntamento è per il 15 dicembre presso la Parrocchia San Niccolò (che è anche l’organizzatore dell’evento)\, a partire dalle 15. Sarà una giornata ricca di eventi\, il cui clou sarà ovviamente la distribuzione delle fettunte preparate con l’olio nuovo locale. \nPer informazioni sulla Festa dell’olio nuovo di Marliana\, andate qui. Per altri eventi come questo\, andate qui.
URL:https://www.eventiintoscana.it/evento/festa-dellolio-nuovo-marliana-pistoia
LOCATION:Marliana\, Marliana\, Toscana\, 51010\, Italia
CATEGORIES:Pistoia,Rassegne e Sagre
ATTACH;FMTTYPE=image/jpeg:https://www.eventiintoscana.it/wp-content/uploads/2018/12/fettunta2.jpg
END:VEVENT
BEGIN:VEVENT
DTSTART;VALUE=DATE:20160929
DTEND;VALUE=DATE:20161003
DTSTAMP:20260421T054810
CREATED:20160914T091318Z
LAST-MODIFIED:20160914T092405Z
UID:218196-1475107200-1475452799@www.eventiintoscana.it
SUMMARY:Sicilia viva in festa - piazza Mazzini\, Pistoia
DESCRIPTION:Torna a Pistoia per il quinto anno consecutivo la grande festa siciliana Sicilia Viva in Festa\, in Piazza Mazzini dal 29 settembre al 2 ottobre (tutti i giorni dalle 9 alle 22) tutti i giorni. \nÈ previsto un ricchissimo assortimento di dolci tipici: cassata\, i buccellati a base di marmellata di fichi\, la frutta martorana a base di farina di mandorle\, i cuddureddi (dolcetti al ripieno di miele o di ricotta o di frutta candita)\, i dolcetti alle mandorle o le reginelle (biscotti ricoperti di sesamo). E poi il re della pasticceria siciliana (e italiana\, anche): il cannolo\, che sia con granella di pistacchio\, di cioccolato oppure di scorza d’arancia. E questi sono solo alcuni dei capolavori gastronomici siciliani\, l’elenco potrebbe continuare all’infinito e comprendere il cioccolato di Modica\, le creme e i liquori di pistacchio di Bronte\, e poi salumi\, formaggi (dal caciocavallo al maiorchino)\, olive\, acciughe\, i sottolii\, i vini come il Nero d’Avola\, i liquori come Zibibbo\, Marsala\, Passito di Pantelleria\, Malvasia di Lipari\, miele\, spezie\, marmellate\, frutta e verdura. \n \nE per i più affamati Sicilia Viva in Festa quest’anno offre una novità assoluta: “a vucciria”\, lo street food tipico palermitano con arancini\, pane e panelle (sottilissime schiacciate di polenta di ceci)\, lo sfincionello al forno\, il panino con la meuza e il panino con le stigghiole (budella di ovini o vaccini allo spiedo cotti alla brace). E poi le freschissime fritture di pesce e le granite preparate seguendo le antiche ricette (una vera e propria delizia soprattutto se  accompagnate dalla brioche col tuppo). Ad affiancare il settore dei prodotti tipici c’è l’artigianato con le ceramiche di Caltagirone e i Pupi\, le marionette dell’antica tradizione dell’Opera dei Pupi che narra le gesta di leggendari cavalieri come Orlando. \n \nCompleta la festa la mostra di antichi carretti siciliani tutti decorati e dipinti a mano con i temi della tradizione cavalleresca.
URL:https://www.eventiintoscana.it/evento/sicilia-viva-festa
LOCATION:Piazza Mazzini\, Pistoia\, PT\, 51100\, Italia
CATEGORIES:Rassegne e Sagre
ATTACH;FMTTYPE=image/jpeg:https://www.eventiintoscana.it/wp-content/uploads/2016/09/sicilia-viva-in-festa-0.jpg
END:VEVENT
BEGIN:VEVENT
DTSTART;TZID=Europe/Rome:20160611T000000
DTEND;TZID=Europe/Rome:20160626T000000
DTSTAMP:20260421T054810
CREATED:20160526T180417Z
LAST-MODIFIED:20160616T104355Z
UID:210803-1465603200-1466899200@www.eventiintoscana.it
SUMMARY:Sagra delle ciliegie - Castelmartini\, Larciano (Pistoia)
DESCRIPTION:45ª edizione per la sagra delle ciliegie organizzata dalla Parrocchia di Castelmartini\, frazione di Larciano\, dove gli stand gastronomici aprono il sabato e la domenica alle 19.30 proponendo un ampio numero di specialità locali. Sono previste anche cene a base di tigelle (il 16) o cacciucco (il 24). \nMa la sagra è una vera e propria festa che prevede anche tanta musica (i Modheart l’11\, i Thunders il 16\, Madonia il 17)\, una fiera con Lunapark\, uno stand che propone i famosi bomboloni di Castelmartini. Il 19 è il giorno della solenne festa di Sant’Antonio di Padova. Il 12 giugno alle 17.30 distribuzione gratuita di ciliegie! \nLeggi il programma completo QUI \n 
URL:https://www.eventiintoscana.it/evento/sagra-delle-ciliegie-castelmartini-larciano-pistoia
LOCATION:Castelmartini\, Larciano\, Toscana\, 51036\, Italia
CATEGORIES:Pistoia,Rassegne e Sagre
ATTACH;FMTTYPE=image/jpeg:https://www.eventiintoscana.it/wp-content/uploads/2016/05/ciliegie-650x300-min.jpg
END:VEVENT
END:VCALENDAR