BEGIN:VCALENDAR
VERSION:2.0
PRODID:-//Eventi in Toscana By Toscana Tascabile - ECPv6.15.12.2//NONSGML v1.0//EN
CALSCALE:GREGORIAN
METHOD:PUBLISH
X-ORIGINAL-URL:https://www.eventiintoscana.it
X-WR-CALDESC:Eventi per Eventi in Toscana By Toscana Tascabile
REFRESH-INTERVAL;VALUE=DURATION:PT1H
X-Robots-Tag:noindex
X-PUBLISHED-TTL:PT1H
BEGIN:VTIMEZONE
TZID:Europe/Rome
BEGIN:DAYLIGHT
TZOFFSETFROM:+0100
TZOFFSETTO:+0200
TZNAME:CEST
DTSTART:20150329T010000
END:DAYLIGHT
BEGIN:STANDARD
TZOFFSETFROM:+0200
TZOFFSETTO:+0100
TZNAME:CET
DTSTART:20151025T010000
END:STANDARD
BEGIN:DAYLIGHT
TZOFFSETFROM:+0100
TZOFFSETTO:+0200
TZNAME:CEST
DTSTART:20160327T010000
END:DAYLIGHT
BEGIN:STANDARD
TZOFFSETFROM:+0200
TZOFFSETTO:+0100
TZNAME:CET
DTSTART:20161030T010000
END:STANDARD
BEGIN:DAYLIGHT
TZOFFSETFROM:+0100
TZOFFSETTO:+0200
TZNAME:CEST
DTSTART:20170326T010000
END:DAYLIGHT
BEGIN:STANDARD
TZOFFSETFROM:+0200
TZOFFSETTO:+0100
TZNAME:CET
DTSTART:20171029T010000
END:STANDARD
BEGIN:DAYLIGHT
TZOFFSETFROM:+0100
TZOFFSETTO:+0200
TZNAME:CEST
DTSTART:20180325T010000
END:DAYLIGHT
BEGIN:STANDARD
TZOFFSETFROM:+0200
TZOFFSETTO:+0100
TZNAME:CET
DTSTART:20181028T010000
END:STANDARD
BEGIN:DAYLIGHT
TZOFFSETFROM:+0100
TZOFFSETTO:+0200
TZNAME:CEST
DTSTART:20190331T010000
END:DAYLIGHT
BEGIN:STANDARD
TZOFFSETFROM:+0200
TZOFFSETTO:+0100
TZNAME:CET
DTSTART:20191027T010000
END:STANDARD
BEGIN:DAYLIGHT
TZOFFSETFROM:+0100
TZOFFSETTO:+0200
TZNAME:CEST
DTSTART:20200329T010000
END:DAYLIGHT
BEGIN:STANDARD
TZOFFSETFROM:+0200
TZOFFSETTO:+0100
TZNAME:CET
DTSTART:20201025T010000
END:STANDARD
END:VTIMEZONE
BEGIN:VEVENT
DTSTART;TZID=Europe/Rome:20190406T190000
DTEND;TZID=Europe/Rome:20190414T230000
DTSTAMP:20260419T134256
CREATED:20190405T153601Z
LAST-MODIFIED:20190412T142326Z
UID:274911-1554577200-1555282800@www.eventiintoscana.it
SUMMARY:Sagra del fritto misto\, tortello e carne alla brace - Scarperia (Firenze)
DESCRIPTION:Nei due fine settimana del 6-7 e 13-14 aprile torna a Scarperia la sagra del fritto misto\, tortello e carne alla brace organizzata dalla Pro Loco di Scarperia.\nScarperia\, nel cuore del Mugello\, è uno de I Borghi più belli d’Italia; oltre che degustare le specialità della sagra\, è quindi anche possibile fare una passeggiata nella bella cornice storica artistica offerta dal caratteristico centro storico. \nL’appuntamento è al Circolo MCL di Via San Martino 16 a Scarperia con i seguenti orari:\nSabato 6 aprile dalle ore 19\nDomenica 7 aprile dalle ore 12 e dalle ore 19 \nProtagonisti dunque il gran fritto accompagnato dal tipico tortello mugellano di patate\, servito tradizionalmente con ragù o funghi\, e dalla carne cotta alla brace. \n \n 
URL:https://www.eventiintoscana.it/evento/sagra-del-fritto-misto-tortello-carne-alla-brace-scarperia-firenze
LOCATION:Circolo Mcl\, Scarperia\, Via San Martino\, Scarperia e San Piero\, Toscana\, 50038\, Italia
CATEGORIES:Firenze,Rassegne e Sagre
ATTACH;FMTTYPE=image/jpeg:https://www.eventiintoscana.it/wp-content/uploads/2019/04/fritto.jpg
END:VEVENT
BEGIN:VEVENT
DTSTART;VALUE=DATE:20181103
DTEND;VALUE=DATE:20181112
DTSTAMP:20260419T134256
CREATED:20171024T070547Z
LAST-MODIFIED:20181028T165705Z
UID:252432-1541203200-1541980799@www.eventiintoscana.it
SUMMARY:Sagra del Tartufo Bianco e Nero - Circolo Mcl\, Scarperia e San Piero (Firenze)
DESCRIPTION:Il 3 e il 4 e il 10 e l’11 novembre torna al Circolo MCL di Scarperia\, come tutti gli anni\, la sagra del tartufo bianco e nero e la ‘Mostra Mercato del tartufo e dei prodotti tipici del Mugello’\nLa tavola sarà imbandita con moltissimi specialità: ravioli al tartufo\, lasagne\, tagliolini\, ma anche tagliata di manzo al tartufo bianco e nero oppure tagliata di maiale al tartufo nero. \nNon mancheranno i funghi\, fritti e alla brace e neanche le specialità al sugo di funghi! Per terminare in bellezza con i sapori dell’autunno\, saranno servite caldarroste rigorosamente del territorio! Un’occasione per visitare il Mugello\, le sue ricchezze e specialità.
URL:https://www.eventiintoscana.it/evento/sagra-del-tartufo-bianco-e-nero-circolo-mcl-scarperia-e-san-piero-firenze-3
LOCATION:Circolo Mcl\, Scarperia\, Via San Martino\, Scarperia e San Piero\, Toscana\, 50038\, Italia
CATEGORIES:Firenze,Rassegne e Sagre
ATTACH;FMTTYPE=image/jpeg:https://www.eventiintoscana.it/wp-content/uploads/2017/04/21176__tartufo3.jpg
END:VEVENT
BEGIN:VEVENT
DTSTART;TZID=Europe/Rome:20180824T000000
DTEND;TZID=Europe/Rome:20180902T230000
DTSTAMP:20260419T134256
CREATED:20180719T080723Z
LAST-MODIFIED:20180902T180823Z
UID:268638-1535068800-1535929200@www.eventiintoscana.it
SUMMARY:Sagra del cinghiale - Borgo S. Lorenzo (Firenze)
DESCRIPTION:La storica sagra del cinghiale organizzata dall’associazione sportiva ‘La Setola’ spegne quest’anno le sue prime quaranta candeline e torna dal 24 agosto al 2 settembre al Foro Boario di Borgo San Lorenzo. \nEcco dunque l’occasione\, lunga dieci giorni\, per assaggiare un gustoso menù che prevede\, tra gli altri piatti\, tortelli\, pappardelle e lasagne al sugo di cinghiale\, oltre a specialità a base di cinghiale e carne alla brace. \nAppuntamento al Foro Boario tutte le sere a cena\, il sabato e la domenica anche a pranzo dalle 12. La sagra si svolge anche in caso di pioggia. \nInfo: 329.2031093 – 335.6656135
URL:https://www.eventiintoscana.it/evento/sagra-del-cinghiale-2
LOCATION:Foro Boario\, Borgo San Lorenzo\, Firenze
CATEGORIES:Firenze,Rassegne e Sagre
ATTACH;FMTTYPE=image/jpeg:https://www.eventiintoscana.it/wp-content/uploads/2017/06/23191__tortelliecinghiale-1.jpg
END:VEVENT
BEGIN:VEVENT
DTSTART;TZID=Europe/Rome:20170903T120000
DTEND;TZID=Europe/Rome:20170903T230000
DTSTAMP:20260419T134256
CREATED:20170829T160106Z
LAST-MODIFIED:20170829T160106Z
UID:248301-1504440000-1504479600@www.eventiintoscana.it
SUMMARY:2ª Festa del tortello - Scarperia (Firenze)
DESCRIPTION:Domenica 3 settembre torna presso il campo sportivo di Scarperia la 2ª festa del tortello: appuntamento a pranzo dalle 12 e a cena dalle 19\n\nIl menù prevede un bis di primi\,compresi i famosi tortelli mugellani\, per poi passare ad un secondo di carne con contorno fino al dolce. \nLa sagra è organizzata dall’associazione Trisomia 21 Onlus. Il ricavato della giornata sarà devoluta a Trisomia 21\, onlus che si occupa di persone con sindrome di Down  dalla nascita fino all’età adulta con una serie di terapie logopediche e di potenziamento cognitivo\, fino a raggiungere la capacità di poter vivere la vita in modo autonomo. \nPer informazioni e prenotazioni: contattare 371-3905591\nMANIFESTO QUI
URL:https://www.eventiintoscana.it/evento/2a-festa-del-tortello-scarperia-firenze
LOCATION:Campo Sportivo\, Scarperia\, Firenze
CATEGORIES:Firenze,Rassegne e Sagre
ATTACH;FMTTYPE=image/jpeg:https://www.eventiintoscana.it/wp-content/uploads/2017/06/23191__tortelliecinghiale-1.jpg
END:VEVENT
BEGIN:VEVENT
DTSTART;TZID=Europe/Rome:20170818T000000
DTEND;TZID=Europe/Rome:20170827T000000
DTSTAMP:20260419T134256
CREATED:20170626T085134Z
LAST-MODIFIED:20170804T141127Z
UID:245021-1503014400-1503792000@www.eventiintoscana.it
SUMMARY:Sagra del Cinghiale - Foro Boario\, Borgo San Lorenzo (Firenze)
DESCRIPTION:39ª edizione per la storica sagra organizzata dall’associazione sportiva La Setola presso il Foro Boario: appuntamento da venerdì 18 a domenica 27 agosto.\nIn menù si potranno assaggiare tortelli e pappardelle al sugo di cinghiale\, specialità a base di cinghiale e carne alla brace. \nDal lunedì al venerdì aperto solo a cena\, il sabato e la domenica apertura del ristorante dalle ore 12. La sagra si svolge in locali al coperto\, quindi si tiene anche in caso di pioggia.
URL:https://www.eventiintoscana.it/evento/sagra-del-cinghiale-foro-boario-borgo-san-lorenzo-firenze
LOCATION:Foro Boario\, Borgo San Lorenzo\, Toscana\, IT
CATEGORIES:Firenze,Rassegne e Sagre
ATTACH;FMTTYPE=image/jpeg:https://www.eventiintoscana.it/wp-content/uploads/2016/03/13836__cinghiale2.jpg
END:VEVENT
BEGIN:VEVENT
DTSTART;TZID=Europe/Rome:20170817T000000
DTEND;TZID=Europe/Rome:20170827T000000
DTSTAMP:20260419T134256
CREATED:20170626T085138Z
LAST-MODIFIED:20170804T141851Z
UID:245023-1502928000-1503792000@www.eventiintoscana.it
SUMMARY:Sagra del Fungo Porcino - Ronta\, Borgo San Lorenzo (Firenze)
DESCRIPTION:La sagra si terrà dal 17 al 20 e dal 24 al 27 agosto.\nTorna a Ronta la saporita sagra del porcino\, che per due fine settimana lunghi ci aspetta nel cuore del Mugello per assaggiare alcune preparazioni tipiche locali\, ovviamente all’insegna del pregiato prodotto del bosco! \nTra i piatti proposti i tortelli di patate con ragù al sugo di funghi e la bistecca alpina con cappella. \nAppuntamento il giovedì\, venerdì e sabato dalle 18\, domenica anche a pranzo dalle 12.
URL:https://www.eventiintoscana.it/evento/sagra-del-fungo-porcino-ronta-borgo-san-lorenzo-firenze
LOCATION:Ronta\, Borgo San Lorenzo\, Toscana\, IT
CATEGORIES:Firenze,Rassegne e Sagre
ATTACH;FMTTYPE=image/jpeg:https://www.eventiintoscana.it/wp-content/uploads/2017/06/23275__porcini.jpg
END:VEVENT
BEGIN:VEVENT
DTSTART;TZID=Europe/Rome:20170623T080000
DTEND;TZID=Europe/Rome:20170702T170000
DTSTAMP:20260419T134256
CREATED:20170616T150919Z
LAST-MODIFIED:20170623T102551Z
UID:243264-1498204800-1499014800@www.eventiintoscana.it
SUMMARY:Sagra del tortello\, Ronta (Borgo San Lorenzo\, FI)
DESCRIPTION:La sagra del tortello si tiene a Ronta nelle seguenti date: 23\, 24 e 25 giugno\, 30 giugno e 1-2 luglio: specialità del menù i tortelli e i bucatini all’amatriciana\, oltre a specialità alla brace\nOrganizzata dall’A.S.D. Mugello Boxing Team\, la sagra si svolge presso il Campo Sportivo di Ronta il venerdì e il sabato a cena (dalle 19)\, la domenica anche a pranzo (dalle 12). \nSabato 1 luglio serata di boxe (10 incontri di pugilato dilettanti alle ore 21.30)!
URL:https://www.eventiintoscana.it/evento/sagra-del-tortello-ronta-borgo-san-lorenzo-fi
LOCATION:Elen Club Campo Sportivo\, Viale Fratelli Rosselli\, 50032 Ronta-Borgo San Lorenzo
CATEGORIES:Firenze,Rassegne e Sagre
ATTACH;FMTTYPE=image/jpeg:https://www.eventiintoscana.it/wp-content/uploads/2017/05/22244__tortelli2.jpg
END:VEVENT
BEGIN:VEVENT
DTSTART;TZID=Europe/Rome:20170525T000000
DTEND;TZID=Europe/Rome:20170604T000000
DTSTAMP:20260419T134256
CREATED:20170502T075925Z
LAST-MODIFIED:20170605T074824Z
UID:240056-1495670400-1496534400@www.eventiintoscana.it
SUMMARY:Sagra del prugnolo e del tortello - Foro Boario\, Borgo San Lorenzo (Firenze)
DESCRIPTION:La Sagra del Prugnolo e del Tortello si terrà a Borgo San Lorenzo (FI) dal 25 al 28 maggio e dall’1 al 4 giugno.\nDue fine settimana lunghi per assaggiare le specialità proposte dall’Associazione Mugello for Africa in collaborazione con il Carnevale Mugellano e con l’Ass. Solidarietà Missionaria Onlus. \nAppuntamento al Foro Boario\, in locali al coperto\, il giovedì sera con la pizzeria\, dal venerdì con il ristorante; la domenica oltre alla cena è anche previsto il pranzo dalle 12.30. \nIl ricavato della sagra sarà interamente devoluto per il progetto ‘Ippocrate’\, ossia per l’acquisto di medicinali.
URL:https://www.eventiintoscana.it/evento/sagra-del-prugnolo-e-del-tortello-foro-boario-borgo-san-lorenzo-firenze
LOCATION:Foro Boario\, Borgo San Lorenzo\, Toscana\, IT
CATEGORIES:Firenze,Rassegne e Sagre
ATTACH;FMTTYPE=image/jpeg:https://www.eventiintoscana.it/wp-content/uploads/2017/05/21570__prugnolo2.jpg
END:VEVENT
BEGIN:VEVENT
DTSTART;TZID=Europe/Rome:20161015T000000
DTEND;TZID=Europe/Rome:20161016T000000
DTSTAMP:20260419T134256
CREATED:20160923T080438Z
LAST-MODIFIED:20161005T114151Z
UID:219185-1476489600-1476576000@www.eventiintoscana.it
SUMMARY:Sagra della polenta e castagne - Ronta\, Borgo San Lorenzo (Firenze)
DESCRIPTION:Due fine settimana di sagra a Ronta (Borgo San Lorenzo – FI): il 15 e 16 e il 22 e 23 ottobre\nMugello Nuoto organizza la sagra che porta in tavola\, oltre a polenta e castagne\, tortelli\, specialità alla brace\, dolci\, bruciate e vinnovo\, funghi fritti… \nDove e Quando:\nappuntamentoal Campo Sportivo di Ronta il sabato a cena\, la domenica anche a pranzo dalle 12. La sagra\, in locali chiusi\, si tiene anche in caso di maltempo. \nPossibilità di sconto!\nPer gruppi superiori a dieci persone\, c’è uno sconto del 10%.
URL:https://www.eventiintoscana.it/evento/sagra-della-polenta-e-castagne-ronta-borgo-san-lorenzo-firenze
LOCATION:Ronta\, Borgo San Lorenzo\, Toscana\, IT
CATEGORIES:Firenze,Rassegne e Sagre
ATTACH;FMTTYPE=image/jpeg:https://www.eventiintoscana.it/wp-content/uploads/2016/09/17195__sagra-della-polenta-e-del-marrone_650x300.jpg
END:VEVENT
BEGIN:VEVENT
DTSTART;TZID=Europe/Rome:20160923T080000
DTEND;TZID=Europe/Rome:20161002T230000
DTSTAMP:20260419T134256
CREATED:20160926T142303Z
LAST-MODIFIED:20160926T142303Z
UID:219722-1474617600-1475449200@www.eventiintoscana.it
SUMMARY:Sagra del tortello e del porcino - Borgo San Lorenzo (FI)
DESCRIPTION:Sagra a base di tortelli e porcini a Borgo San Lorenzo\nAppuntamento al Foro Boario di Borgo San Lorenzo\, nel cuore del Mugello fiorentino: per due fine settimana di seguito\, dal venerdì alla domenica (23-25 settembre e 30 settembre – 2 ottobre)\, molte le prelibatezze in tavola\, con protagonisti assoluti il fungo porcino e i tortelli mugellani. \nLa sagra ci aspetta tutti i giorni la sera\, la domenica anche a pranzo.
URL:https://www.eventiintoscana.it/evento/sagra-del-tortello-del-porcino-borgo-san-lorenzo-fi
LOCATION:Foro Boario\, Borgo San Lorenzo \, Italia
CATEGORIES:Firenze,Rassegne e Sagre
ATTACH;FMTTYPE=image/jpeg:https://www.eventiintoscana.it/wp-content/uploads/2016/04/tortellonneee.jpg
END:VEVENT
END:VCALENDAR