BEGIN:VCALENDAR
VERSION:2.0
PRODID:-//Eventi in Toscana By Toscana Tascabile - ECPv6.15.12.2//NONSGML v1.0//EN
CALSCALE:GREGORIAN
METHOD:PUBLISH
X-WR-CALNAME:Eventi in Toscana By Toscana Tascabile
X-ORIGINAL-URL:https://www.eventiintoscana.it
X-WR-CALDESC:Eventi per Eventi in Toscana By Toscana Tascabile
REFRESH-INTERVAL;VALUE=DURATION:PT1H
X-Robots-Tag:noindex
X-PUBLISHED-TTL:PT1H
BEGIN:VTIMEZONE
TZID:Europe/Rome
BEGIN:DAYLIGHT
TZOFFSETFROM:+0100
TZOFFSETTO:+0200
TZNAME:CEST
DTSTART:20150329T010000
END:DAYLIGHT
BEGIN:STANDARD
TZOFFSETFROM:+0200
TZOFFSETTO:+0100
TZNAME:CET
DTSTART:20151025T010000
END:STANDARD
BEGIN:DAYLIGHT
TZOFFSETFROM:+0100
TZOFFSETTO:+0200
TZNAME:CEST
DTSTART:20160327T010000
END:DAYLIGHT
BEGIN:STANDARD
TZOFFSETFROM:+0200
TZOFFSETTO:+0100
TZNAME:CET
DTSTART:20161030T010000
END:STANDARD
BEGIN:DAYLIGHT
TZOFFSETFROM:+0100
TZOFFSETTO:+0200
TZNAME:CEST
DTSTART:20170326T010000
END:DAYLIGHT
BEGIN:STANDARD
TZOFFSETFROM:+0200
TZOFFSETTO:+0100
TZNAME:CET
DTSTART:20171029T010000
END:STANDARD
BEGIN:DAYLIGHT
TZOFFSETFROM:+0100
TZOFFSETTO:+0200
TZNAME:CEST
DTSTART:20180325T010000
END:DAYLIGHT
BEGIN:STANDARD
TZOFFSETFROM:+0200
TZOFFSETTO:+0100
TZNAME:CET
DTSTART:20181028T010000
END:STANDARD
END:VTIMEZONE
BEGIN:VEVENT
DTSTART;TZID=Europe/Rome:20170601T080000
DTEND;TZID=Europe/Rome:20170611T170000
DTSTAMP:20260421T134538
CREATED:20170526T084611Z
LAST-MODIFIED:20170526T143938Z
UID:241773-1496304000-1497200400@www.eventiintoscana.it
SUMMARY:Festa della bufala e tre giorni del tortello - Pian del Bichi- Montemassi (Grosseto)
DESCRIPTION:La 12ª Festa della Bufala si svolge dall’1 al 4 e dal 9 all’11 giugno in agro di Montemassi – Ribolla nel comune di Roccastrada.\nIl menù propone primi piatti con sugo di bufala\, tortelli con ricotta di bufala\, piatti freddi a base di mozzarella di bufala\, pizza\, roast beef e spezzatino di bufala\, il tutto realizzato con carne e latte provenienti rigorosamente da un allevamento locale. Inoltre tutte le sere è aperta la pizzeria. \nLa festa si svolge in un’area di campagna (agro di Montemassi – Ribolla nel comune di Roccastrada).\nAppuntamento tutte le sere a cena\, nei giorni festivi il ristorante è aperto anche a pranzo. Sono inoltre previste serate da ballo ad ingresso libero.\nPer informazioni o prenotazioni: \nMARIO 339.3829569 – DANILO 338.5962237
URL:https://www.eventiintoscana.it/evento/festa-della-bufala-tre-giorni-del-tortello
LOCATION:Ribolla-Montemassi\, Ribolla-Montemassi\, Roccastrada
CATEGORIES:Grosseto,Rassegne e Sagre
ATTACH;FMTTYPE=image/jpeg:https://www.eventiintoscana.it/wp-content/uploads/2017/05/mozzarella_650x300.jpg
END:VEVENT
BEGIN:VEVENT
DTSTART;TZID=Europe/Rome:20160807T080000
DTEND;TZID=Europe/Rome:20160821T170000
DTSTAMP:20260421T134538
CREATED:20160722T160023Z
LAST-MODIFIED:20160722T160023Z
UID:214784-1470556800-1471798800@www.eventiintoscana.it
SUMMARY:Sagra del cacciucco e della frittura di pesce - Fonteblanda (GR)
DESCRIPTION:Arriva dal 7 al 21 agosto al Campo sportivo di Fonteblanda\, nel bellissimo contesto del golfo di Talamone\, la gustosa sagra che vede come protagonisti assoluti i piatti di pesce\, in particolare il cacciucco e la frittura. \nAppuntamento tutte le sere a partire dalle 19.30 con la cena\, mentre i dopocena saranno allietati da musica dal vivo! \nLa sagra è organizzata dall’Associazione Sportiva Fonteblanda.
URL:https://www.eventiintoscana.it/evento/sagra-del-cacciucco-della-frittura-pesce-fonteblanda-gr
LOCATION:Fonteblanda\, Campo Sportivo \, Grosseto\, Italia
CATEGORIES:Grosseto,Rassegne e Sagre
ATTACH;FMTTYPE=image/jpeg:https://www.eventiintoscana.it/wp-content/uploads/2016/07/sagra-cacciucco-Fonteblanda.jpg
END:VEVENT
BEGIN:VEVENT
DTSTART;TZID=Europe/Rome:20160725T080000
DTEND;TZID=Europe/Rome:20160821T170000
DTSTAMP:20260421T134538
CREATED:20160725T090724Z
LAST-MODIFIED:20160725T092243Z
UID:214881-1469433600-1471798800@www.eventiintoscana.it
SUMMARY:Sagra della bistecca - Montieri (GR)
DESCRIPTION:Torna a Montieri (GR)\, nel Parco Comunale ‘Il Piano’\, la 43ª Sagra della bistecca organizzata dall’Associazione Calcio Montieri: appuntamento nei giorni 7\, 14\, 15 e 21 agosto. \nLa bistecca\, rigorosamente di origine e provenienza da filiera corta\, è fornita da Unicoop Tirreno Montieri. \nLa sagra prevede raduni\, intrattenimento musicale\, area pony per bambini\, esposizione di prodotti artigianali e manifatturieri locali. \nClicca QUI per leggere il calendario completo della sagra. \n  \n 
URL:https://www.eventiintoscana.it/evento/sagra-della-bistecca
LOCATION:Montieri\, Grosseto\, Italia
CATEGORIES:Grosseto,Rassegne e Sagre
ATTACH;FMTTYPE=image/jpeg:https://www.eventiintoscana.it/wp-content/uploads/2016/07/sagra-bistecca_Montieri_sito.jpg
END:VEVENT
END:VCALENDAR