BEGIN:VCALENDAR
VERSION:2.0
PRODID:-//Eventi in Toscana By Toscana Tascabile - ECPv6.15.12.2//NONSGML v1.0//EN
CALSCALE:GREGORIAN
METHOD:PUBLISH
X-ORIGINAL-URL:https://www.eventiintoscana.it
X-WR-CALDESC:Eventi per Eventi in Toscana By Toscana Tascabile
REFRESH-INTERVAL;VALUE=DURATION:PT1H
X-Robots-Tag:noindex
X-PUBLISHED-TTL:PT1H
BEGIN:VTIMEZONE
TZID:Europe/Rome
BEGIN:DAYLIGHT
TZOFFSETFROM:+0100
TZOFFSETTO:+0200
TZNAME:CEST
DTSTART:20150329T010000
END:DAYLIGHT
BEGIN:STANDARD
TZOFFSETFROM:+0200
TZOFFSETTO:+0100
TZNAME:CET
DTSTART:20151025T010000
END:STANDARD
BEGIN:DAYLIGHT
TZOFFSETFROM:+0100
TZOFFSETTO:+0200
TZNAME:CEST
DTSTART:20160327T010000
END:DAYLIGHT
BEGIN:STANDARD
TZOFFSETFROM:+0200
TZOFFSETTO:+0100
TZNAME:CET
DTSTART:20161030T010000
END:STANDARD
BEGIN:DAYLIGHT
TZOFFSETFROM:+0100
TZOFFSETTO:+0200
TZNAME:CEST
DTSTART:20170326T010000
END:DAYLIGHT
BEGIN:STANDARD
TZOFFSETFROM:+0200
TZOFFSETTO:+0100
TZNAME:CET
DTSTART:20171029T010000
END:STANDARD
END:VTIMEZONE
BEGIN:VEVENT
DTSTART;TZID=Europe/Rome:20161105T000000
DTEND;TZID=Europe/Rome:20161106T000000
DTSTAMP:20260422T051319
CREATED:20161027T084826Z
LAST-MODIFIED:20161107T085359Z
UID:222779-1478304000-1478390400@www.eventiintoscana.it
SUMMARY:Sagra del porcino e della chianina - Castelfranco di Sotto (Pisa)
DESCRIPTION:Prosegue fino al primo fine settimana d novembre la sagra che propone nel proprio menù tortelli e tagliatelle conditi con ragù di chianina e funghi porcini\, ma anche la rinomata bistecca e il roastbeef realizzati con carne chianina castelfranchese. \nAppuntamento la sera dalle 19.30\, la domenica anche a pranzo dalle 12 in struttura coperta; ampio parcheggio.
URL:https://www.eventiintoscana.it/evento/sagra-del-porcino-e-della-chianina-castelfranco-di-sotto-castelfranco-di-sotto-pisa
LOCATION:Castelfranco di Sotto\, Castelfranco di Sotto\, Toscana\, Italia
CATEGORIES:Pisa,Rassegne e Sagre
ATTACH;FMTTYPE=image/jpeg:https://www.eventiintoscana.it/wp-content/uploads/2016/10/17660__sagradelporcinoedellachianina-1.jpg
END:VEVENT
END:VCALENDAR