BEGIN:VCALENDAR
VERSION:2.0
PRODID:-//Eventi in Toscana By Toscana Tascabile - ECPv6.15.12.2//NONSGML v1.0//EN
CALSCALE:GREGORIAN
METHOD:PUBLISH
X-WR-CALNAME:Eventi in Toscana By Toscana Tascabile
X-ORIGINAL-URL:https://www.eventiintoscana.it
X-WR-CALDESC:Eventi per Eventi in Toscana By Toscana Tascabile
REFRESH-INTERVAL;VALUE=DURATION:PT1H
X-Robots-Tag:noindex
X-PUBLISHED-TTL:PT1H
BEGIN:VTIMEZONE
TZID:Europe/Rome
BEGIN:DAYLIGHT
TZOFFSETFROM:+0100
TZOFFSETTO:+0200
TZNAME:CEST
DTSTART:20190331T010000
END:DAYLIGHT
BEGIN:STANDARD
TZOFFSETFROM:+0200
TZOFFSETTO:+0100
TZNAME:CET
DTSTART:20191027T010000
END:STANDARD
BEGIN:DAYLIGHT
TZOFFSETFROM:+0100
TZOFFSETTO:+0200
TZNAME:CEST
DTSTART:20200329T010000
END:DAYLIGHT
BEGIN:STANDARD
TZOFFSETFROM:+0200
TZOFFSETTO:+0100
TZNAME:CET
DTSTART:20201025T010000
END:STANDARD
BEGIN:DAYLIGHT
TZOFFSETFROM:+0100
TZOFFSETTO:+0200
TZNAME:CEST
DTSTART:20210328T010000
END:DAYLIGHT
BEGIN:STANDARD
TZOFFSETFROM:+0200
TZOFFSETTO:+0100
TZNAME:CET
DTSTART:20211031T010000
END:STANDARD
BEGIN:DAYLIGHT
TZOFFSETFROM:+0100
TZOFFSETTO:+0200
TZNAME:CEST
DTSTART:20220327T010000
END:DAYLIGHT
BEGIN:STANDARD
TZOFFSETFROM:+0200
TZOFFSETTO:+0100
TZNAME:CET
DTSTART:20221030T010000
END:STANDARD
END:VTIMEZONE
BEGIN:VEVENT
DTSTART;TZID=Europe/Rome:20210220T083000
DTEND;TZID=Europe/Rome:20210328T190000
DTSTAMP:20260420T034946
CREATED:20210207T085214Z
LAST-MODIFIED:20210207T085214Z
UID:288715-1613809800-1616958000@www.eventiintoscana.it
SUMMARY:Sagra delle frittelle - San Donato in Collina (Bagno a Ripoli\, Firenze)
DESCRIPTION:Da sabato 20 febbraio a domenica 28 marzo tornano le frittelle di San Donato in Collina!\nSia il sabato che la domenica la produzione comincia alle 8.30 del mattino e procede fino ad esaurimento. \nLe frittelle di riso\, senza glutine\, vengono preparate al momento e vendute all’SMS di San Donato in Collina. \nE’ anche possibile prenotarle\, il venerdì per il sabato e il sabato per la domenica\, dalle 9 alle 19\, telefonando al 366.9731821. \n \nInfo: 055 699250
URL:https://www.eventiintoscana.it/evento/sagra-delle-frittelle-san-donato-in-collina-bagno-a-ripoli-firenze-2
CATEGORIES:Firenze,Rassegne e Sagre
ATTACH;FMTTYPE=image/jpeg:https://www.eventiintoscana.it/wp-content/uploads/2021/02/Sagra-delle-frittelle-san-donato-in-collina.jpg
END:VEVENT
BEGIN:VEVENT
DTSTART;TZID=Europe/Rome:20200118T080000
DTEND;TZID=Europe/Rome:20200319T170000
DTSTAMP:20260420T034946
CREATED:20200103T124434Z
LAST-MODIFIED:20200210T074316Z
UID:283861-1579334400-1584637200@www.eventiintoscana.it
SUMMARY:Sagra delle frittelle - San Donato in Collina (Bagno a Ripoli\, Firenze)
DESCRIPTION:Torna a San Donato in Collina la sagra delle frittelle\, tutti i sabati e domenica dal 18 gennaio al 15 marzo.\nSarà possibile gustare le frittelle appena sfornate\, calde e croccanti. \nAppuntamento il sabato dalle 9 alle 19\, la domenica dalle 8.30 alle 19. \nGiovedì 19 marzo apertura straordinaria in occasione della Festa di San Giuseppe.
URL:https://www.eventiintoscana.it/evento/sagra-delle-frittelle-san-donato-in-collina-bagno-a-ripoli-firenze
CATEGORIES:Firenze,Rassegne e Sagre
ATTACH;FMTTYPE=image/jpeg:https://www.eventiintoscana.it/wp-content/uploads/2020/01/29285__frittelle2.jpg
END:VEVENT
END:VCALENDAR