BEGIN:VCALENDAR
VERSION:2.0
PRODID:-//Eventi in Toscana By Toscana Tascabile - ECPv6.15.12.2//NONSGML v1.0//EN
CALSCALE:GREGORIAN
METHOD:PUBLISH
X-ORIGINAL-URL:https://www.eventiintoscana.it
X-WR-CALDESC:Eventi per Eventi in Toscana By Toscana Tascabile
REFRESH-INTERVAL;VALUE=DURATION:PT1H
X-Robots-Tag:noindex
X-PUBLISHED-TTL:PT1H
BEGIN:VTIMEZONE
TZID:Europe/Rome
BEGIN:DAYLIGHT
TZOFFSETFROM:+0100
TZOFFSETTO:+0200
TZNAME:CEST
DTSTART:20170326T010000
END:DAYLIGHT
BEGIN:STANDARD
TZOFFSETFROM:+0200
TZOFFSETTO:+0100
TZNAME:CET
DTSTART:20171029T010000
END:STANDARD
BEGIN:DAYLIGHT
TZOFFSETFROM:+0100
TZOFFSETTO:+0200
TZNAME:CEST
DTSTART:20180325T010000
END:DAYLIGHT
BEGIN:STANDARD
TZOFFSETFROM:+0200
TZOFFSETTO:+0100
TZNAME:CET
DTSTART:20181028T010000
END:STANDARD
BEGIN:DAYLIGHT
TZOFFSETFROM:+0100
TZOFFSETTO:+0200
TZNAME:CEST
DTSTART:20190331T010000
END:DAYLIGHT
BEGIN:STANDARD
TZOFFSETFROM:+0200
TZOFFSETTO:+0100
TZNAME:CET
DTSTART:20191027T010000
END:STANDARD
END:VTIMEZONE
BEGIN:VEVENT
DTSTART;TZID=Europe/Rome:20181013T080000
DTEND;TZID=Europe/Rome:20181022T230000
DTSTAMP:20260420T214159
CREATED:20181006T171553Z
LAST-MODIFIED:20181006T171553Z
UID:271744-1539417600-1540249200@www.eventiintoscana.it
SUMMARY:Sagra della polenta e castagne - Ronta\, Borgo San Lorenzo (Firenze)
DESCRIPTION:Nuovo appuntamento autunnale al Campo sportivo di Ronta con la sagra organizzata da Mugello Nuoto nei due fine settimana centrali di ottobre\, il 13-14 e 20-21: al centro del menù le castagne\, proposte anche nella versione di necci\, pasta con farina di castagne e biscotti\, e la polenta\, piatto tipico della zona.  \nA ciò si aggiungono altre prelibatezze come tortelli mugellani\, carne alla brace\, funghi fritti e vino novo.  \nAppuntamento il sabato a cena e la domenica a pranzo e a cena. I gruppi superiori a 10 persone possono avere uno sconto del 10% sul totale. \n 
URL:https://www.eventiintoscana.it/evento/sagra-della-polenta-castagne-ronta-borgo-san-lorenzo-firenze-3
LOCATION:Campo Sportivo Ronta\, Ronta\, Borgo San Lorenzo
CATEGORIES:Firenze,Rassegne e Sagre
ATTACH;FMTTYPE=image/jpeg:https://www.eventiintoscana.it/wp-content/uploads/2016/09/17132__castagneevinonovello-7.jpg
END:VEVENT
END:VCALENDAR