BEGIN:VCALENDAR
VERSION:2.0
PRODID:-//Eventi in Toscana By Toscana Tascabile - ECPv6.15.12.2//NONSGML v1.0//EN
CALSCALE:GREGORIAN
METHOD:PUBLISH
X-WR-CALNAME:Eventi in Toscana By Toscana Tascabile
X-ORIGINAL-URL:https://www.eventiintoscana.it
X-WR-CALDESC:Eventi per Eventi in Toscana By Toscana Tascabile
REFRESH-INTERVAL;VALUE=DURATION:PT1H
X-Robots-Tag:noindex
X-PUBLISHED-TTL:PT1H
BEGIN:VTIMEZONE
TZID:Europe/Rome
BEGIN:DAYLIGHT
TZOFFSETFROM:+0100
TZOFFSETTO:+0200
TZNAME:CEST
DTSTART:20180325T010000
END:DAYLIGHT
BEGIN:STANDARD
TZOFFSETFROM:+0200
TZOFFSETTO:+0100
TZNAME:CET
DTSTART:20181028T010000
END:STANDARD
BEGIN:DAYLIGHT
TZOFFSETFROM:+0100
TZOFFSETTO:+0200
TZNAME:CEST
DTSTART:20190331T010000
END:DAYLIGHT
BEGIN:STANDARD
TZOFFSETFROM:+0200
TZOFFSETTO:+0100
TZNAME:CET
DTSTART:20191027T010000
END:STANDARD
BEGIN:DAYLIGHT
TZOFFSETFROM:+0100
TZOFFSETTO:+0200
TZNAME:CEST
DTSTART:20200329T010000
END:DAYLIGHT
BEGIN:STANDARD
TZOFFSETFROM:+0200
TZOFFSETTO:+0100
TZNAME:CET
DTSTART:20201025T010000
END:STANDARD
END:VTIMEZONE
BEGIN:VEVENT
DTSTART;TZID=Europe/Rome:20190601T193000
DTEND;TZID=Europe/Rome:20190616T230000
DTSTAMP:20260419T232640
CREATED:20190601T071234Z
LAST-MODIFIED:20190616T183521Z
UID:276333-1559417400-1560726000@www.eventiintoscana.it
SUMMARY:Sagra della pastasciutta - Siena
DESCRIPTION:Arriva\, per tre fine settimana di giugno\, la sagra della pastasciutta del Circolo Volte Basse di Siena: appuntamento sabato 1 e 2 giugno\, da venerdì 7 a domenica 9 e ancora da venerdì 14 a domenica 16 giugno.\nLa sagra propone oltre 20 tipi di pasta saltata in padella e\, tutte le sere\, musica e spettacolo! \nIl programma completo nel sito indicato nel box sottostante. \nTutte le sere a cena dalle 19.30
URL:https://www.eventiintoscana.it/evento/sagra-della-pastasciutta-siena
LOCATION:Circolo Arci Volte Basse\, Siena
CATEGORIES:Rassegne e Sagre,Siena
ATTACH;FMTTYPE=image/jpeg:https://www.eventiintoscana.it/wp-content/uploads/2019/06/pasta.jpg
END:VEVENT
END:VCALENDAR