BEGIN:VCALENDAR
VERSION:2.0
PRODID:-//Eventi in Toscana By Toscana Tascabile - ECPv6.15.12.2//NONSGML v1.0//EN
CALSCALE:GREGORIAN
METHOD:PUBLISH
X-WR-CALNAME:Eventi in Toscana By Toscana Tascabile
X-ORIGINAL-URL:https://www.eventiintoscana.it
X-WR-CALDESC:Eventi per Eventi in Toscana By Toscana Tascabile
REFRESH-INTERVAL;VALUE=DURATION:PT1H
X-Robots-Tag:noindex
X-PUBLISHED-TTL:PT1H
BEGIN:VTIMEZONE
TZID:Europe/Rome
BEGIN:DAYLIGHT
TZOFFSETFROM:+0100
TZOFFSETTO:+0200
TZNAME:CEST
DTSTART:20180325T010000
END:DAYLIGHT
BEGIN:STANDARD
TZOFFSETFROM:+0200
TZOFFSETTO:+0100
TZNAME:CET
DTSTART:20181028T010000
END:STANDARD
BEGIN:DAYLIGHT
TZOFFSETFROM:+0100
TZOFFSETTO:+0200
TZNAME:CEST
DTSTART:20190331T010000
END:DAYLIGHT
BEGIN:STANDARD
TZOFFSETFROM:+0200
TZOFFSETTO:+0100
TZNAME:CET
DTSTART:20191027T010000
END:STANDARD
BEGIN:DAYLIGHT
TZOFFSETFROM:+0100
TZOFFSETTO:+0200
TZNAME:CEST
DTSTART:20200329T010000
END:DAYLIGHT
BEGIN:STANDARD
TZOFFSETFROM:+0200
TZOFFSETTO:+0100
TZNAME:CET
DTSTART:20201025T010000
END:STANDARD
END:VTIMEZONE
BEGIN:VEVENT
DTSTART;TZID=Europe/Rome:20190601T200000
DTEND;TZID=Europe/Rome:20190630T230000
DTSTAMP:20260422T222319
CREATED:20190605T142220Z
LAST-MODIFIED:20190623T204203Z
UID:276638-1559419200-1561935600@www.eventiintoscana.it
SUMMARY:Sagra della miseria - Colle val d'Elsa (Siena)
DESCRIPTION:32esima edizione per la Sagra della miseria di Colle val d’Elsa (Siena)\, che ci accompagna per tutto il mese di giugno.\nQuesti i fine settimana: 1-2\, 8-9\, 15-16\, 22-23 e 29-30 giugno. Appuntamento tutte le sere a cena dalle 20.
URL:https://www.eventiintoscana.it/evento/sagra-della-miseria-colle-val-delsa-siena
LOCATION:Luogo Senza Nome\, Piazza Santa Caterina\, Colle val d'Elsa\, Siena
CATEGORIES:Rassegne e Sagre,Siena
ATTACH;FMTTYPE=image/jpeg:https://www.eventiintoscana.it/wp-content/uploads/2019/06/sagra-della-miseria.jpg
END:VEVENT
END:VCALENDAR