BEGIN:VCALENDAR
VERSION:2.0
PRODID:-//Eventi in Toscana By Toscana Tascabile - ECPv6.15.12.2//NONSGML v1.0//EN
CALSCALE:GREGORIAN
METHOD:PUBLISH
X-ORIGINAL-URL:https://www.eventiintoscana.it
X-WR-CALDESC:Eventi per Eventi in Toscana By Toscana Tascabile
REFRESH-INTERVAL;VALUE=DURATION:PT1H
X-Robots-Tag:noindex
X-PUBLISHED-TTL:PT1H
BEGIN:VTIMEZONE
TZID:Europe/Rome
BEGIN:DAYLIGHT
TZOFFSETFROM:+0100
TZOFFSETTO:+0200
TZNAME:CEST
DTSTART:20220327T010000
END:DAYLIGHT
BEGIN:STANDARD
TZOFFSETFROM:+0200
TZOFFSETTO:+0100
TZNAME:CET
DTSTART:20221030T010000
END:STANDARD
BEGIN:DAYLIGHT
TZOFFSETFROM:+0100
TZOFFSETTO:+0200
TZNAME:CEST
DTSTART:20230326T010000
END:DAYLIGHT
BEGIN:STANDARD
TZOFFSETFROM:+0200
TZOFFSETTO:+0100
TZNAME:CET
DTSTART:20231029T010000
END:STANDARD
BEGIN:DAYLIGHT
TZOFFSETFROM:+0100
TZOFFSETTO:+0200
TZNAME:CEST
DTSTART:20240331T010000
END:DAYLIGHT
BEGIN:STANDARD
TZOFFSETFROM:+0200
TZOFFSETTO:+0100
TZNAME:CET
DTSTART:20241027T010000
END:STANDARD
END:VTIMEZONE
BEGIN:VEVENT
DTSTART;TZID=Europe/Rome:20231014T190000
DTEND;TZID=Europe/Rome:20231015T230000
DTSTAMP:20260421T233140
CREATED:20191009T082132Z
LAST-MODIFIED:20231009T082837Z
UID:279833-1697310000-1697410800@www.eventiintoscana.it
SUMMARY:Sagra della lepre e del cinghiale - Selvatelle (Pisa)
DESCRIPTION:Continua nei giorni 7-8-14-15 ottobre 2023 la tradizionale sagra della lepre e del cinghiale a Selvatelle. \nAperti ogni sabato a cena e la domenica sia pranzo che cena. \nOgni sera della festa musica dal vivo e varie attività anche giornaliere. \n>> Per il programma della sagra della lepre e del cinghiale a Selvatelle CLICCA QUI<<\nÈ possibile prenotare tramite il numero cel. 3313835268 o tramite questo  LINK \n 
URL:https://www.eventiintoscana.it/evento/sagra-della-lepre-del-cinghiale-selvatelle-pisa
LOCATION:Luogo Senza Nome\, Selvatelle (Pisa)
CATEGORIES:Pisa,Rassegne e Sagre
ATTACH;FMTTYPE=image/jpeg:https://www.eventiintoscana.it/wp-content/uploads/2018/09/32724__cinghiale_650x300.jpg
ORGANIZER;CN="Unnamed Organizzatore":MAILTO:erafest2018@gmail.com
END:VEVENT
END:VCALENDAR