BEGIN:VCALENDAR
VERSION:2.0
PRODID:-//Eventi in Toscana By Toscana Tascabile - ECPv6.15.12.2//NONSGML v1.0//EN
CALSCALE:GREGORIAN
METHOD:PUBLISH
X-WR-CALNAME:Eventi in Toscana By Toscana Tascabile
X-ORIGINAL-URL:https://www.eventiintoscana.it
X-WR-CALDESC:Eventi per Eventi in Toscana By Toscana Tascabile
REFRESH-INTERVAL;VALUE=DURATION:PT1H
X-Robots-Tag:noindex
X-PUBLISHED-TTL:PT1H
BEGIN:VTIMEZONE
TZID:Europe/Rome
BEGIN:DAYLIGHT
TZOFFSETFROM:+0100
TZOFFSETTO:+0200
TZNAME:CEST
DTSTART:20180325T010000
END:DAYLIGHT
BEGIN:STANDARD
TZOFFSETFROM:+0200
TZOFFSETTO:+0100
TZNAME:CET
DTSTART:20181028T010000
END:STANDARD
BEGIN:DAYLIGHT
TZOFFSETFROM:+0100
TZOFFSETTO:+0200
TZNAME:CEST
DTSTART:20190331T010000
END:DAYLIGHT
BEGIN:STANDARD
TZOFFSETFROM:+0200
TZOFFSETTO:+0100
TZNAME:CET
DTSTART:20191027T010000
END:STANDARD
BEGIN:DAYLIGHT
TZOFFSETFROM:+0100
TZOFFSETTO:+0200
TZNAME:CEST
DTSTART:20200329T010000
END:DAYLIGHT
BEGIN:STANDARD
TZOFFSETFROM:+0200
TZOFFSETTO:+0100
TZNAME:CET
DTSTART:20201025T010000
END:STANDARD
END:VTIMEZONE
BEGIN:VEVENT
DTSTART;TZID=Europe/Rome:20191012T190000
DTEND;TZID=Europe/Rome:20191020T230000
DTSTAMP:20260422T084744
CREATED:20191009T083438Z
LAST-MODIFIED:20191009T083438Z
UID:279845-1570906800-1571612400@www.eventiintoscana.it
SUMMARY:Sagra della castagna - Parco Danielli\, Buti (Pisa)
DESCRIPTION:Nei due fine settimana del 12-13 e 19-20 ottobre si tiene a Buti\, presso il Parco Danielli\, la Sagra della castagna.\nOltre alla castagna si potranno assaggiare tutti i suoi gustosi derivati: Frittelle\, Neccini\, (con nutella\, panna o ricotta) Castagnaccio\, Caldarroste\,e la novità saccottini con crema di castagne\, inoltre vendita di Farina e Castagne. \nStand gastronomico aperto per la Cena del sabato e a Pranzo e Cena di Domenica\, dove sarà possibile degustare\, Raviolacci\, Tagliatelle\, (fatti con farina di castagne) Polenta con funghi e tanti altri piatti tipicamente autunnali. \n \n\n\n\n\n\n\n\n\n\n\n\n 
URL:https://www.eventiintoscana.it/evento/sagra-della-castagna-buti-pisa
LOCATION:Parco Danielli\, Buti (Pisa)
CATEGORIES:Pisa,Rassegne e Sagre
ATTACH;FMTTYPE=image/jpeg:https://www.eventiintoscana.it/wp-content/uploads/2019/10/saga-castagna-buti.jpg
END:VEVENT
END:VCALENDAR