BEGIN:VCALENDAR
VERSION:2.0
PRODID:-//Eventi in Toscana By Toscana Tascabile - ECPv6.15.12.2//NONSGML v1.0//EN
CALSCALE:GREGORIAN
METHOD:PUBLISH
X-ORIGINAL-URL:https://www.eventiintoscana.it
X-WR-CALDESC:Eventi per Eventi in Toscana By Toscana Tascabile
REFRESH-INTERVAL;VALUE=DURATION:PT1H
X-Robots-Tag:noindex
X-PUBLISHED-TTL:PT1H
BEGIN:VTIMEZONE
TZID:Europe/Rome
BEGIN:DAYLIGHT
TZOFFSETFROM:+0100
TZOFFSETTO:+0200
TZNAME:CEST
DTSTART:20180325T010000
END:DAYLIGHT
BEGIN:STANDARD
TZOFFSETFROM:+0200
TZOFFSETTO:+0100
TZNAME:CET
DTSTART:20181028T010000
END:STANDARD
BEGIN:DAYLIGHT
TZOFFSETFROM:+0100
TZOFFSETTO:+0200
TZNAME:CEST
DTSTART:20190331T010000
END:DAYLIGHT
BEGIN:STANDARD
TZOFFSETFROM:+0200
TZOFFSETTO:+0100
TZNAME:CET
DTSTART:20191027T010000
END:STANDARD
BEGIN:DAYLIGHT
TZOFFSETFROM:+0100
TZOFFSETTO:+0200
TZNAME:CEST
DTSTART:20200329T010000
END:DAYLIGHT
BEGIN:STANDARD
TZOFFSETFROM:+0200
TZOFFSETTO:+0100
TZNAME:CET
DTSTART:20201025T010000
END:STANDARD
END:VTIMEZONE
BEGIN:VEVENT
DTSTART;TZID=Europe/Rome:20190720T193000
DTEND;TZID=Europe/Rome:20190721T235500
DTSTAMP:20260419T162318
CREATED:20190707T072427Z
LAST-MODIFIED:20190707T072427Z
UID:277373-1563651000-1563753300@www.eventiintoscana.it
SUMMARY:Sagra del gallo - San Casciano V.P. (Firenze)
DESCRIPTION:Sabato 20 e domenica 21 luglio appuntamento nella piazzetta del Bardella a San Casciano Val di Pesa con la nuova edizione della Sagra del gallo.\nProgramma:\nSabato 20 Luglio\nOre 19:30 Cena: antipasto\, penne all’amatriciana\, grigliata mista (carne della macelleria “FRITTELLI”) insalata e cocomero.\nAdulti 18€ con prevendita\, 20€ senza prevendita – Bambini da 5 a 10 anni: 10€ – Bambini da 0 a 5 anni: GRATIS\nore 21:00 live music con BLUE SKY\nore 22:30 SERATA LATINA con Andrea Checcucci \nDomenica 21 Luglio\nore 19 Panineria ruspante : hot dog\, hamburger\, salsiccia\, spiedini\, grigliata mista\, coccoli e patate fritte\nOre 21:30 GRANDE PACI \nPer la cena\, consigliata la prevendita.
URL:https://www.eventiintoscana.it/evento/sagra-del-gallo-san-casciano-v-p-firenze
LOCATION:Luogo Senza Nome\, piazzetta del Bardella\, San Casciano V.P. (Firenze)
CATEGORIES:Firenze,Rassegne e Sagre
ATTACH;FMTTYPE=image/jpeg:https://www.eventiintoscana.it/wp-content/uploads/2019/07/sagra-gallo-san-casciano.jpg
END:VEVENT
END:VCALENDAR