BEGIN:VCALENDAR
VERSION:2.0
PRODID:-//Eventi in Toscana By Toscana Tascabile - ECPv6.15.12.2//NONSGML v1.0//EN
CALSCALE:GREGORIAN
METHOD:PUBLISH
X-WR-CALNAME:Eventi in Toscana By Toscana Tascabile
X-ORIGINAL-URL:https://www.eventiintoscana.it
X-WR-CALDESC:Eventi per Eventi in Toscana By Toscana Tascabile
REFRESH-INTERVAL;VALUE=DURATION:PT1H
X-Robots-Tag:noindex
X-PUBLISHED-TTL:PT1H
BEGIN:VTIMEZONE
TZID:Europe/Rome
BEGIN:DAYLIGHT
TZOFFSETFROM:+0100
TZOFFSETTO:+0200
TZNAME:CEST
DTSTART:20190331T010000
END:DAYLIGHT
BEGIN:STANDARD
TZOFFSETFROM:+0200
TZOFFSETTO:+0100
TZNAME:CET
DTSTART:20191027T010000
END:STANDARD
BEGIN:DAYLIGHT
TZOFFSETFROM:+0100
TZOFFSETTO:+0200
TZNAME:CEST
DTSTART:20200329T010000
END:DAYLIGHT
BEGIN:STANDARD
TZOFFSETFROM:+0200
TZOFFSETTO:+0100
TZNAME:CET
DTSTART:20201025T010000
END:STANDARD
BEGIN:DAYLIGHT
TZOFFSETFROM:+0100
TZOFFSETTO:+0200
TZNAME:CEST
DTSTART:20210328T010000
END:DAYLIGHT
BEGIN:STANDARD
TZOFFSETFROM:+0200
TZOFFSETTO:+0100
TZNAME:CET
DTSTART:20211031T010000
END:STANDARD
END:VTIMEZONE
BEGIN:VEVENT
DTSTART;TZID=Europe/Rome:20200328T190000
DTEND;TZID=Europe/Rome:20200405T230000
DTSTAMP:20260423T052720
CREATED:20200228T103954Z
LAST-MODIFIED:20200323T103319Z
UID:285827-1585422000-1586127600@www.eventiintoscana.it
SUMMARY:---annullata--- Sagra del fritto misto - Circolo MCL\, Scarperia (Firenze)
DESCRIPTION:Nei fine settimana del 28-29 marzo e 4-5 aprile si tiene al Circolo MCL di Scarperia la Sagra del fritto misto.\nIl gran fritto farà da protagonista\, ma non solo. Il tipico tortello mugellano di patate\, accompagnato da carni alla brace\, saprà deliziare il palato. \nL’appuntamento per i golosi è al CIRCOLO MCL in Via San Martino 16 a Scarperia. \nOrari: Sabato 28 marzo dalle ore 19:00; Domenica 29 marzo dalle ore 12:00 e dalle ore 19:00\n– Sabato 4 aprile dalle ore 19:00; Domenica 5 aprile dalle ore 12:00 e dalle ore 19:00 \n*** \nInfo: Tel. 055-8468165
URL:https://www.eventiintoscana.it/evento/sagra-del-fritto-misto-circolo-mcl-scarperia-firenze
CATEGORIES:Firenze,Rassegne e Sagre
ATTACH;FMTTYPE=image/jpeg:https://www.eventiintoscana.it/wp-content/uploads/2020/02/fritto_frittura_pixabay.jpg
END:VEVENT
END:VCALENDAR