BEGIN:VCALENDAR
VERSION:2.0
PRODID:-//Eventi in Toscana By Toscana Tascabile - ECPv6.15.12.2//NONSGML v1.0//EN
CALSCALE:GREGORIAN
METHOD:PUBLISH
X-WR-CALNAME:Eventi in Toscana By Toscana Tascabile
X-ORIGINAL-URL:https://www.eventiintoscana.it
X-WR-CALDESC:Eventi per Eventi in Toscana By Toscana Tascabile
REFRESH-INTERVAL;VALUE=DURATION:PT1H
X-Robots-Tag:noindex
X-PUBLISHED-TTL:PT1H
BEGIN:VTIMEZONE
TZID:Europe/Rome
BEGIN:DAYLIGHT
TZOFFSETFROM:+0100
TZOFFSETTO:+0200
TZNAME:CEST
DTSTART:20190331T010000
END:DAYLIGHT
BEGIN:STANDARD
TZOFFSETFROM:+0200
TZOFFSETTO:+0100
TZNAME:CET
DTSTART:20191027T010000
END:STANDARD
BEGIN:DAYLIGHT
TZOFFSETFROM:+0100
TZOFFSETTO:+0200
TZNAME:CEST
DTSTART:20200329T010000
END:DAYLIGHT
BEGIN:STANDARD
TZOFFSETFROM:+0200
TZOFFSETTO:+0100
TZNAME:CET
DTSTART:20201025T010000
END:STANDARD
BEGIN:DAYLIGHT
TZOFFSETFROM:+0100
TZOFFSETTO:+0200
TZNAME:CEST
DTSTART:20210328T010000
END:DAYLIGHT
BEGIN:STANDARD
TZOFFSETFROM:+0200
TZOFFSETTO:+0100
TZNAME:CET
DTSTART:20211031T010000
END:STANDARD
END:VTIMEZONE
BEGIN:VEVENT
DTSTART;TZID=Europe/Rome:20200125T100000
DTEND;TZID=Europe/Rome:20200126T200000
DTSTAMP:20260422T063231
CREATED:20200113T153430Z
LAST-MODIFIED:20200113T153430Z
UID:283949-1579946400-1580068800@www.eventiintoscana.it
SUMMARY:Role Play Gathering - TuscanyHall\, Firenze
DESCRIPTION:Sabato 25 e domenica 26 gennaio due giornate interamente dedicate al gioco di ruolo al Tuscany Hall di Firenze. \nPer il terzo anno consecutivo\, il Role Play Gathering apre le sue porte ad ogni abitante del mondo ruolistico Italiano e non\, formando l’habitat naturale per il giocatore di ruolo di ogni tipo\, genere ed età\, in un mondo divertente di narrazione e di immaginazione da condividere con gli amici. \nOrganizzato dallo storico negozio di giochi fiorentino Stratagemma\, il Role Play Gathering vedrà la presenza di numerose realtà nazionali e internazionali del gdr mettersi a disposizione di giocatori alle prime armi\, desiderosi di avvicinarsi a questo mondo\, accanto a giocatori esperti per una due giorni (il Sabato dalle 10 di mattina alle 1 di notte\, la Domenica dalle 10 di mattina alle 20) di sessioni e dimostrazioni di gioco di ruolo. \nL’imperdibile e fondamentale appuntamento per tutti gli appassionati di gdr del panorama italiano e non solo\, conferma anche quest’anno l’ampia location del Tuscany Hall\, usualmente utilizzato anche per eventi ad ampio respiro come concerti e spettacoli di vario genere. \nLa filosofia ludica del RPG è quella di coinvolgere in una straordinaria due giorni persone di ogni età che si vogliono avvicinare al mondo dei gioco di ruolo; i genitori nerd che vogliono iniziare figli e nipoti al mondo dei giochi di ruolo in maniera semplice e giocosa\, ma senza perderne l’essenza; coloro che non conoscono i giochi di ruolo\, ne hanno sentito parlare\, e sono incuriositi dal suo utilizzo per divertirsi\, ma anche per imparare cercando spunti e suggerimenti per il Game Base Learning. Tra i vari giochi proposti ci sarà anche il noto Dungeons & Dragons in varie incarnazioni\, tra cui le storiche degli anni ’80 e ’90 e le più recenti inclusa l’ultima edizione. \nSaranno presenti autori ed editori di giochi italiani\, stand di vendita e aree dedicate alle associazioni ludiche\, oltre ai moltissimi tavoli da gioco attivi per tutta la durata della due giorni. L’ingresso è COMPLETAMENTE GRATUITO. \nPer giocare a una sessione sarà sufficiente presentarsi alla convention e comunicare direttamente in segreteria la propria preferenza tra i giochi disponibili nella fascia oraria più vicina: chi prima arriva meglio alloggia!\nOgni associazione avrà una sua segreteria di riferimento con relative proposte ludiche inerenti. \n*** \nInfo: Stratagemma Tel. 055215912 –  info@stratagemmaonline.com \nhttps://www.facebook.com/RolePlayGathering/ \n  \nTitolo: Role Play Gathering \nCosa: III Edizione dell’evento interamente dedicato al Gioco di Ruolo per adulti e bambini \nLuogo: Tuscany Hall – Via Fabrizio De André – Lungarno  Aldo Moro – FIRENZ E \nQuando: Sabato 25 e Domenica 26 Gennaio 2020 \nOrario: Sabato 10-01\, Domenica 10-20 \nIngresso: gratuito \nEnte organizzatore: Stratagemma
URL:https://www.eventiintoscana.it/evento/role-play-gathering-tuscanyhall-firenze
CATEGORIES:Fiere e Mercatini,Firenze
ATTACH;FMTTYPE=image/jpeg:https://www.eventiintoscana.it/wp-content/uploads/2020/01/Role-Play-Gathering-Firenze.jpg
END:VEVENT
END:VCALENDAR