BEGIN:VCALENDAR
VERSION:2.0
PRODID:-//Eventi in Toscana By Toscana Tascabile - ECPv6.15.12.2//NONSGML v1.0//EN
CALSCALE:GREGORIAN
METHOD:PUBLISH
X-WR-CALNAME:Eventi in Toscana By Toscana Tascabile
X-ORIGINAL-URL:https://www.eventiintoscana.it
X-WR-CALDESC:Eventi per Eventi in Toscana By Toscana Tascabile
REFRESH-INTERVAL;VALUE=DURATION:PT1H
X-Robots-Tag:noindex
X-PUBLISHED-TTL:PT1H
BEGIN:VTIMEZONE
TZID:Europe/Rome
BEGIN:DAYLIGHT
TZOFFSETFROM:+0100
TZOFFSETTO:+0200
TZNAME:CEST
DTSTART:20180325T010000
END:DAYLIGHT
BEGIN:STANDARD
TZOFFSETFROM:+0200
TZOFFSETTO:+0100
TZNAME:CET
DTSTART:20181028T010000
END:STANDARD
BEGIN:DAYLIGHT
TZOFFSETFROM:+0100
TZOFFSETTO:+0200
TZNAME:CEST
DTSTART:20190331T010000
END:DAYLIGHT
BEGIN:STANDARD
TZOFFSETFROM:+0200
TZOFFSETTO:+0100
TZNAME:CET
DTSTART:20191027T010000
END:STANDARD
BEGIN:DAYLIGHT
TZOFFSETFROM:+0100
TZOFFSETTO:+0200
TZNAME:CEST
DTSTART:20200329T010000
END:DAYLIGHT
BEGIN:STANDARD
TZOFFSETFROM:+0200
TZOFFSETTO:+0100
TZNAME:CET
DTSTART:20201025T010000
END:STANDARD
END:VTIMEZONE
BEGIN:VEVENT
DTSTART;TZID=Europe/Rome:20190607T180000
DTEND;TZID=Europe/Rome:20190609T235500
DTSTAMP:20260419T164300
CREATED:20190523T083010Z
LAST-MODIFIED:20190605T153611Z
UID:276043-1559930400-1560124500@www.eventiintoscana.it
SUMMARY:RockBurger 2019 - Rigomagno (Sinalunga\, Siena)
DESCRIPTION:Da venerdì 7 a domenica 9 giugno a Rigomagno torna il Rockburger\, tre giorni in cui mangiare ottimi hamburger farciti\, bere buona birra e ballare grazie ai gruppi rock che si alternano sul palco.\nGli stand gastronomici\, che propongono hamburger di chianina\, patatine fritte e birra\, aprono alle ore 20. \nTutte le serate musicali sono rigorosamente ad ingresso libero. Questo il programma: \nVenerdì 7 giugno\nOre 21.30 > MONKEY SHOT \nSabato 8 giugno\nOre 21.00 > GREEN CLOUDS\nOre 22.30 > ELLEMONO BAND \nDomenica 9 giugno\nOre 20.30 > DUSTY ROADS\nOre 22.00 > BAD HUT \n***Le birre del RockBurger \nRIEGELE PRIVAT (Germania) – Presente al Rockburger 2019 la birra tedesca più premiata e apprezzata al mondo\, prodotta dalla Brauhaus Riegele\, premio miglior birrificio 2017! Dal colore giallo oro\, questa birra a bassa fermentazione (5.2% gradi alcolici)\, saprà conquistarvi col suo gusto maltato e luppolato senza eccessi\, con sentori erbacei e il suo amaro persistente ma gradevole\, si presenta limpida e con una schiuma fine e persistente.  Prodotta ancora oggi con antichi metodi di ammostamento\, la Riegele Privat è una birra non pastorizzata. \n\nSCHMUCKER HEFEWEIZEN (Germania) – Birra tedesca stile Weiss ad alta fermentazione\, gradi alcolici 5%.  Prodotta con malto d’orzo e frumento secondo l’antica tradizione tedesca\, questa birra vanta\, tra gli altri\, il Premio Aureo 2010\, conferitole dalla Società Tedesca per l’Agricoltura\, come birra di alta qualità! Dal colore biondo carico e con la classica opalescenza dovuta ai lieviti in sospensione. l malto di frumento le dona un delicato\, e tipico\, aroma di banana. I luppoli selezionati le conferiscono una nota discreta e delicata\, la schiuma\, tipica delle birre Weiss\, è voluminosa e spumosa. Questa prestigiosa birra\, da pochissimo sul mercato italiano\, è la grande novità di quest’anno e state certi che non vi deluderà! \n\nAFFLIGEM BLONDE e AFFLIGEM ROUGE!  – Due doppie malto prodotte nell’abbazia di Affligem dal 1074\, seguendo ancora la ricetta originale\, sono tra le più antiche birre d’abbazia! La Affligem Blonde (Belgio) è una Birra doppio malto d’abbazia ad alta fermentazione\, gradi alcolici 6\,7%.  Dal colore oro carico\, presenta un ottimo equilibrio tra il malto e il luppolo\, si avvertono note di caramello\, pera e spezie\, la schiuma è abbondante\, bianca e compatta. \nLa Affligem Rouge (Belgio) è una Birra doppio malto d’abbazia ad alta fermentazione\, gradi alcolici 6\,7%.  Dal colore rosso ambrato\, in bocca porta un gusto maltato leggermente dolce dato dal malto caramellato\, un particolare lievito le conferisce un’aroma floreale\, la schiuma è bianca\, fine e compatta.
URL:https://www.eventiintoscana.it/evento/rockburger-2019-rigomagno-sinalunga-siena-2
LOCATION:Luogo Senza Nome\, Rigomagno (Sinalunga\, Siena)
CATEGORIES:Rassegne e Sagre,Siena
ATTACH;FMTTYPE=image/jpeg:https://www.eventiintoscana.it/wp-content/uploads/2019/05/Rigomagno-rockburger.jpg
END:VEVENT
END:VCALENDAR