BEGIN:VCALENDAR
VERSION:2.0
PRODID:-//Eventi in Toscana By Toscana Tascabile - ECPv6.15.12.2//NONSGML v1.0//EN
CALSCALE:GREGORIAN
METHOD:PUBLISH
X-WR-CALNAME:Eventi in Toscana By Toscana Tascabile
X-ORIGINAL-URL:https://www.eventiintoscana.it
X-WR-CALDESC:Eventi per Eventi in Toscana By Toscana Tascabile
REFRESH-INTERVAL;VALUE=DURATION:PT1H
X-Robots-Tag:noindex
X-PUBLISHED-TTL:PT1H
BEGIN:VTIMEZONE
TZID:Europe/Rome
BEGIN:DAYLIGHT
TZOFFSETFROM:+0100
TZOFFSETTO:+0200
TZNAME:CEST
DTSTART:20180325T010000
END:DAYLIGHT
BEGIN:STANDARD
TZOFFSETFROM:+0200
TZOFFSETTO:+0100
TZNAME:CET
DTSTART:20181028T010000
END:STANDARD
BEGIN:DAYLIGHT
TZOFFSETFROM:+0100
TZOFFSETTO:+0200
TZNAME:CEST
DTSTART:20190331T010000
END:DAYLIGHT
BEGIN:STANDARD
TZOFFSETFROM:+0200
TZOFFSETTO:+0100
TZNAME:CET
DTSTART:20191027T010000
END:STANDARD
BEGIN:DAYLIGHT
TZOFFSETFROM:+0100
TZOFFSETTO:+0200
TZNAME:CEST
DTSTART:20200329T010000
END:DAYLIGHT
BEGIN:STANDARD
TZOFFSETFROM:+0200
TZOFFSETTO:+0100
TZNAME:CET
DTSTART:20201025T010000
END:STANDARD
END:VTIMEZONE
BEGIN:VEVENT
DTSTART;TZID=Europe/Rome:20191020T080000
DTEND;TZID=Europe/Rome:20191020T200000
DTSTAMP:20260422T001822
CREATED:20191001T142158Z
LAST-MODIFIED:20191001T142158Z
UID:279478-1571558400-1571601600@www.eventiintoscana.it
SUMMARY:Rionalissima - V.le Fanti\, Firenze
DESCRIPTION:Torna anche quest’anno domenica 20 ottobre Rionalissima\, la festa mercato degli ambulanti fiorentini.\nRionalissima\, che si svolge in Zona Stadio\, è organizzata dal gruppo dirigente di A.N.V.A Confesercenti e si compone di n. 300 operatori concessionari di posteggio sui vari mercati rionali della città. \nOrmai un evento “cult” per chi ama frequentare i mercati della città.
URL:https://www.eventiintoscana.it/evento/rionalissima-v-le-fanti-firenze
LOCATION:Luogo Senza Nome\, Viale Manfredo Fanti\, Firenze
CATEGORIES:Fiere e Mercatini,Firenze
ATTACH;FMTTYPE=image/jpeg:https://www.eventiintoscana.it/wp-content/uploads/2017/10/25147__rionalissima.jpg
ORGANIZER;CN="Confesercenti Firenze":MAILTO:info@confesercenti.fi.it 
END:VEVENT
END:VCALENDAR