BEGIN:VCALENDAR
VERSION:2.0
PRODID:-//Eventi in Toscana By Toscana Tascabile - ECPv6.15.12.2//NONSGML v1.0//EN
CALSCALE:GREGORIAN
METHOD:PUBLISH
X-ORIGINAL-URL:https://www.eventiintoscana.it
X-WR-CALDESC:Eventi per Eventi in Toscana By Toscana Tascabile
REFRESH-INTERVAL;VALUE=DURATION:PT1H
X-Robots-Tag:noindex
X-PUBLISHED-TTL:PT1H
BEGIN:VTIMEZONE
TZID:Europe/Rome
BEGIN:DAYLIGHT
TZOFFSETFROM:+0100
TZOFFSETTO:+0200
TZNAME:CEST
DTSTART:20200329T010000
END:DAYLIGHT
BEGIN:STANDARD
TZOFFSETFROM:+0200
TZOFFSETTO:+0100
TZNAME:CET
DTSTART:20201025T010000
END:STANDARD
BEGIN:DAYLIGHT
TZOFFSETFROM:+0100
TZOFFSETTO:+0200
TZNAME:CEST
DTSTART:20210328T010000
END:DAYLIGHT
BEGIN:STANDARD
TZOFFSETFROM:+0200
TZOFFSETTO:+0100
TZNAME:CET
DTSTART:20211031T010000
END:STANDARD
BEGIN:DAYLIGHT
TZOFFSETFROM:+0100
TZOFFSETTO:+0200
TZNAME:CEST
DTSTART:20220327T010000
END:DAYLIGHT
BEGIN:STANDARD
TZOFFSETFROM:+0200
TZOFFSETTO:+0100
TZNAME:CET
DTSTART:20221030T010000
END:STANDARD
END:VTIMEZONE
BEGIN:VEVENT
DTSTART;VALUE=DATE:20210118
DTEND;VALUE=DATE:20210215
DTSTAMP:20260420T215656
CREATED:20210121T144238Z
LAST-MODIFIED:20210227T101025Z
UID:288570-1610928000-1613347199@www.eventiintoscana.it
SUMMARY:Riapertura dei Musei di Prato - Prato
DESCRIPTION:Da  lunedì 18 gennaio sono riaperti anche i Musei di Prato con ingresso gratuito per le prime due settimane\, salvo la mostra temporaneaProtext! del  Museo Pecci a prezzo ridotto.\nResteranno chiusi sabato e domenica\, secondo le nuove decisioni governative. \nCentro per l’Arte Contemporanea Luigi Pecci\, Museo del Tessuto\, Museo di Palazzo Pretorio e Musei Diocesani (esclusi gli affreschi del Lippi in Cattedrale) torneranno ad accogliere  il pubblico  rendendo nuovamente visibili le collezioni  permanenti e le mostre temporanee\, ciascuno osservando gli orari e i giorni di chiusura ordinari\, definiti prima  dell’ultima chiusura. \nCentro per l’Arte Contemporanea Luigi Pecci\nOrario: 12:00-20:00 \nChiuso: lunedì – martedì \nwww.centropecci.it \nMuseo del Tessuto\nDa martedì a giovedì: 10:00-15:00 \nVenerdì: 10:00-19:00 \nChiuso: lunedì \nwww.museodeltessuto.it \nMuseo di Palazzo Pretorio\nOrario: 10:30-18:30 \nChiuso: martedì \nwww.palazzopretorio.prato.it \nMusei Diocesani\nOrario: 12:00-17:00 \nChiuso: martedì \nwww.diocesiprato.it
URL:https://www.eventiintoscana.it/evento/riapertura-dei-musei-di-prato-prato
CATEGORIES:Mostra d'Arte,Prato
ATTACH;FMTTYPE=image/jpeg:https://www.eventiintoscana.it/wp-content/uploads/2021/01/Palazzo-Pretorio-si-prepara-alla-riapertura.jpg
END:VEVENT
END:VCALENDAR