BEGIN:VCALENDAR
VERSION:2.0
PRODID:-//Eventi in Toscana By Toscana Tascabile - ECPv6.15.12.2//NONSGML v1.0//EN
CALSCALE:GREGORIAN
METHOD:PUBLISH
X-WR-CALNAME:Eventi in Toscana By Toscana Tascabile
X-ORIGINAL-URL:https://www.eventiintoscana.it
X-WR-CALDESC:Eventi per Eventi in Toscana By Toscana Tascabile
REFRESH-INTERVAL;VALUE=DURATION:PT1H
X-Robots-Tag:noindex
X-PUBLISHED-TTL:PT1H
BEGIN:VTIMEZONE
TZID:Europe/Rome
BEGIN:DAYLIGHT
TZOFFSETFROM:+0100
TZOFFSETTO:+0200
TZNAME:CEST
DTSTART:20150329T010000
END:DAYLIGHT
BEGIN:STANDARD
TZOFFSETFROM:+0200
TZOFFSETTO:+0100
TZNAME:CET
DTSTART:20151025T010000
END:STANDARD
BEGIN:DAYLIGHT
TZOFFSETFROM:+0100
TZOFFSETTO:+0200
TZNAME:CEST
DTSTART:20160327T010000
END:DAYLIGHT
BEGIN:STANDARD
TZOFFSETFROM:+0200
TZOFFSETTO:+0100
TZNAME:CET
DTSTART:20161030T010000
END:STANDARD
BEGIN:DAYLIGHT
TZOFFSETFROM:+0100
TZOFFSETTO:+0200
TZNAME:CEST
DTSTART:20170326T010000
END:DAYLIGHT
BEGIN:STANDARD
TZOFFSETFROM:+0200
TZOFFSETTO:+0100
TZNAME:CET
DTSTART:20171029T010000
END:STANDARD
END:VTIMEZONE
BEGIN:VEVENT
DTSTART;TZID=Europe/Rome:20160729T180000
DTEND;TZID=Europe/Rome:20160729T230000
DTSTAMP:20260421T230159
CREATED:20160720T162328Z
LAST-MODIFIED:20160720T162328Z
UID:214535-1469815200-1469833200@www.eventiintoscana.it
SUMMARY:Pokémon Go: 1° raduno fiorentino - Fattoria di Maiano\, Firenze
DESCRIPTION:Appuntamento venerdì 29 luglio alle 18 alla Fattoria di Maiano per il primo raduno fiorentino di Pokémon GO\, il gioco virtuale per smartphone diventato fenomeno sociale in pochi giorni anche in Italia dopo il lancio dell’applicazione lo scorso 15 luglio. \nLa bellissima Fattoria di Maiano\, sulle colline di Firenze\, apre così le porte del suo parco botanico: dalle 18 l’accesso sarà libero per potersi addentrare nel bosco della Fattoria e mettersi sulle tracce dei Pokémon che si mescoleranno agli asini\, i cavalli e le oche della Fattoria.
URL:https://www.eventiintoscana.it/evento/pokemon-go-1-raduno-fiorentino-fattoria-maiano-firenze
LOCATION:Fattoria di Maiano\, Via Benedetto da Maiano 11\, Fiesole\, Italia
CATEGORIES:Firenze
ATTACH;FMTTYPE=image/jpeg:https://www.eventiintoscana.it/wp-content/uploads/2016/07/pokemon.jpg
END:VEVENT
END:VCALENDAR