BEGIN:VCALENDAR
VERSION:2.0
PRODID:-//Eventi in Toscana By Toscana Tascabile - ECPv6.15.12.2//NONSGML v1.0//EN
CALSCALE:GREGORIAN
METHOD:PUBLISH
X-ORIGINAL-URL:https://www.eventiintoscana.it
X-WR-CALDESC:Eventi per Eventi in Toscana By Toscana Tascabile
REFRESH-INTERVAL;VALUE=DURATION:PT1H
X-Robots-Tag:noindex
X-PUBLISHED-TTL:PT1H
BEGIN:VTIMEZONE
TZID:Europe/Rome
BEGIN:DAYLIGHT
TZOFFSETFROM:+0100
TZOFFSETTO:+0200
TZNAME:CEST
DTSTART:20180325T010000
END:DAYLIGHT
BEGIN:STANDARD
TZOFFSETFROM:+0200
TZOFFSETTO:+0100
TZNAME:CET
DTSTART:20181028T010000
END:STANDARD
BEGIN:DAYLIGHT
TZOFFSETFROM:+0100
TZOFFSETTO:+0200
TZNAME:CEST
DTSTART:20190331T010000
END:DAYLIGHT
BEGIN:STANDARD
TZOFFSETFROM:+0200
TZOFFSETTO:+0100
TZNAME:CET
DTSTART:20191027T010000
END:STANDARD
BEGIN:DAYLIGHT
TZOFFSETFROM:+0100
TZOFFSETTO:+0200
TZNAME:CEST
DTSTART:20200329T010000
END:DAYLIGHT
BEGIN:STANDARD
TZOFFSETFROM:+0200
TZOFFSETTO:+0100
TZNAME:CET
DTSTART:20201025T010000
END:STANDARD
END:VTIMEZONE
BEGIN:VEVENT
DTSTART;TZID=Europe/Rome:20191224T180000
DTEND;TZID=Europe/Rome:20191227T230000
DTSTAMP:20260419T185403
CREATED:20191213T145028Z
LAST-MODIFIED:20191213T145028Z
UID:282676-1577210400-1577487600@www.eventiintoscana.it
SUMMARY:Presepe vivente - Equi Terme (Fivizzano - Massa-Carrara)
DESCRIPTION:Dal 24 al 27 dicembre si tengono le rappresentazioni del Presepe vivente di Equi Terme.\nNella notte della Vigilia di Natale alle ore 24:00 sarà possibile partecipare alla Santa Messa nella Chiesa Parrocchiale. \nIl percorso ha una durata media stimata tra 40 e 60 minuti. \nIl percorso è agevole e adatto a tutti\, ma\, dovendo passeggiare per le stradine di un antico borgo\, si raccomanda di indossare calzature comode per le possibili irregolarità del suolo. Inoltre non è adatto per passeggini e/o carrozzine. \nAl di fuori del percorso saranno presenti stand gastronomici con prodotti tipici locali. \nI servizi igienici sono collocati all’ingresso e all’uscita del percorso. \nL’evento si terrà anche in caso di pioggia. \nOrari: \n24 dicembre ore 20:30-23:30 \n25\, 26 e 27 dicembre ore 18:00-21:00
URL:https://www.eventiintoscana.it/evento/presepe-vivente-equi-terme-fivizzano-massa-carrara
CATEGORIES:Feste e Folklore,Massa e Carrara
ATTACH;FMTTYPE=image/jpeg:https://www.eventiintoscana.it/wp-content/uploads/2019/12/presepe-vivente-equi-terme.jpg
END:VEVENT
END:VCALENDAR