BEGIN:VCALENDAR
VERSION:2.0
PRODID:-//Eventi in Toscana By Toscana Tascabile - ECPv6.15.12.2//NONSGML v1.0//EN
CALSCALE:GREGORIAN
METHOD:PUBLISH
X-ORIGINAL-URL:https://www.eventiintoscana.it
X-WR-CALDESC:Eventi per Eventi in Toscana By Toscana Tascabile
REFRESH-INTERVAL;VALUE=DURATION:PT1H
X-Robots-Tag:noindex
X-PUBLISHED-TTL:PT1H
BEGIN:VTIMEZONE
TZID:Europe/Rome
BEGIN:DAYLIGHT
TZOFFSETFROM:+0100
TZOFFSETTO:+0200
TZNAME:CEST
DTSTART:20160327T010000
END:DAYLIGHT
BEGIN:STANDARD
TZOFFSETFROM:+0200
TZOFFSETTO:+0100
TZNAME:CET
DTSTART:20161030T010000
END:STANDARD
BEGIN:DAYLIGHT
TZOFFSETFROM:+0100
TZOFFSETTO:+0200
TZNAME:CEST
DTSTART:20170326T010000
END:DAYLIGHT
BEGIN:STANDARD
TZOFFSETFROM:+0200
TZOFFSETTO:+0100
TZNAME:CET
DTSTART:20171029T010000
END:STANDARD
BEGIN:DAYLIGHT
TZOFFSETFROM:+0100
TZOFFSETTO:+0200
TZNAME:CEST
DTSTART:20180325T010000
END:DAYLIGHT
BEGIN:STANDARD
TZOFFSETFROM:+0200
TZOFFSETTO:+0100
TZNAME:CET
DTSTART:20181028T010000
END:STANDARD
END:VTIMEZONE
BEGIN:VEVENT
DTSTART;TZID=Europe/Rome:20170708T080000
DTEND;TZID=Europe/Rome:20170708T170000
DTSTAMP:20260423T050409
CREATED:20170705T110728Z
LAST-MODIFIED:20170705T110728Z
UID:245481-1499500800-1499533200@www.eventiintoscana.it
SUMMARY:Presentazione del libro 'Io sono l'imperatore' - Marina di Pietrasanta (LU)
DESCRIPTION:Il romanzo “Io sono l’imperatore” di Stefano Conti\, ex docente dell’università di Siena\, viene presentato sabato 8 luglio a Marina di Pietrasanta alle ore 21.
URL:https://www.eventiintoscana.it/evento/presentazione-del-libro-limperatore-marina-pietrasanta-lu
LOCATION:Giardini di Marina Eventi\, Tonfano\, Marina di Pietrasanta
CATEGORIES:Lucca,Mostra d'Arte
ATTACH;FMTTYPE=image/jpeg:https://www.eventiintoscana.it/wp-content/uploads/2017/06/16545__libri_650x300.jpeg
END:VEVENT
END:VCALENDAR