BEGIN:VCALENDAR
VERSION:2.0
PRODID:-//Eventi in Toscana By Toscana Tascabile - ECPv6.15.12.2//NONSGML v1.0//EN
CALSCALE:GREGORIAN
METHOD:PUBLISH
X-ORIGINAL-URL:https://www.eventiintoscana.it
X-WR-CALDESC:Eventi per Eventi in Toscana By Toscana Tascabile
REFRESH-INTERVAL;VALUE=DURATION:PT1H
X-Robots-Tag:noindex
X-PUBLISHED-TTL:PT1H
BEGIN:VTIMEZONE
TZID:Europe/Rome
BEGIN:DAYLIGHT
TZOFFSETFROM:+0100
TZOFFSETTO:+0200
TZNAME:CEST
DTSTART:20180325T010000
END:DAYLIGHT
BEGIN:STANDARD
TZOFFSETFROM:+0200
TZOFFSETTO:+0100
TZNAME:CET
DTSTART:20181028T010000
END:STANDARD
BEGIN:DAYLIGHT
TZOFFSETFROM:+0100
TZOFFSETTO:+0200
TZNAME:CEST
DTSTART:20190331T010000
END:DAYLIGHT
BEGIN:STANDARD
TZOFFSETFROM:+0200
TZOFFSETTO:+0100
TZNAME:CET
DTSTART:20191027T010000
END:STANDARD
BEGIN:DAYLIGHT
TZOFFSETFROM:+0100
TZOFFSETTO:+0200
TZNAME:CEST
DTSTART:20200329T010000
END:DAYLIGHT
BEGIN:STANDARD
TZOFFSETFROM:+0200
TZOFFSETTO:+0100
TZNAME:CET
DTSTART:20201025T010000
END:STANDARD
END:VTIMEZONE
BEGIN:VEVENT
DTSTART;TZID=Europe/Rome:20191231T220000
DTEND;TZID=Europe/Rome:20191231T235900
DTSTAMP:20260420T190419
CREATED:20191205T153555Z
LAST-MODIFIED:20191205T153638Z
UID:282189-1577829600-1577836740@www.eventiintoscana.it
SUMMARY:Benvenuto 2020! Escursione/Ciaspolata alle prime ore dell'anno - Passo della Calla\, Pratovecchio Stia (Arezzo)
DESCRIPTION:Martedì 31 dicembre dalle 22 alle 01 si tiene al Passo della Calla la VI Edizione della Tradizionale ciaspolata/escursione del 31 Dicembre per salutare l’arrivo del 2020 e brindare  in altura godendosi lo spettacolo dei festeggiamenti nella Valle dal silenzio delle cime del Parco Nazionale.\nQuest’anno\, a disposizione dei partecipanti\, ci sarà anche il Rifugio della Calla ( sul passo omonimo e di fronte al nostro punto di ritrovo): un suggestivo angolo attrezzato con tutti comfort per trascorrere la nottata in altura. \nRitrovo ore 21\,45 al parcheggio auto del Passo della Calla (sp 310 di collegamento tra Romagna e Toscana ) \nPrenotazione obbligatoria a prenotazioni@altertrek.it\nindicando\nnominativo\,\nnumero di partecipanti\ne recapito \ncosto € 25\,00 a persona ( servizio guida ambientale escursionistica iscritta AIGAE) Panettone e pandoro e brindisi sono offerti dalla guida. \n**Possibilità di noleggio ciaspole in caso di innevamento sufficiente** costo a parte. \n*** \nInfo: www.altertrek.it – 320 067 6766
URL:https://www.eventiintoscana.it/evento/benvenuto-2020-escursione-ciaspolata-alle-prime-ore-dellanno-passo-della-calla-pratovecchio-stia-arezzo
CATEGORIES:arezzo,Natura e Sport
ATTACH;FMTTYPE=image/jpeg:https://www.eventiintoscana.it/wp-content/uploads/2019/12/benvenuto-2020-ciaspolata-altertrek.jpg
END:VEVENT
END:VCALENDAR