BEGIN:VCALENDAR
VERSION:2.0
PRODID:-//Eventi in Toscana By Toscana Tascabile - ECPv6.15.12.2//NONSGML v1.0//EN
CALSCALE:GREGORIAN
METHOD:PUBLISH
X-ORIGINAL-URL:https://www.eventiintoscana.it
X-WR-CALDESC:Eventi per Eventi in Toscana By Toscana Tascabile
REFRESH-INTERVAL;VALUE=DURATION:PT1H
X-Robots-Tag:noindex
X-PUBLISHED-TTL:PT1H
BEGIN:VTIMEZONE
TZID:Europe/Rome
BEGIN:DAYLIGHT
TZOFFSETFROM:+0100
TZOFFSETTO:+0200
TZNAME:CEST
DTSTART:20180325T010000
END:DAYLIGHT
BEGIN:STANDARD
TZOFFSETFROM:+0200
TZOFFSETTO:+0100
TZNAME:CET
DTSTART:20181028T010000
END:STANDARD
BEGIN:DAYLIGHT
TZOFFSETFROM:+0100
TZOFFSETTO:+0200
TZNAME:CEST
DTSTART:20190331T010000
END:DAYLIGHT
BEGIN:STANDARD
TZOFFSETFROM:+0200
TZOFFSETTO:+0100
TZNAME:CET
DTSTART:20191027T010000
END:STANDARD
BEGIN:DAYLIGHT
TZOFFSETFROM:+0100
TZOFFSETTO:+0200
TZNAME:CEST
DTSTART:20200329T010000
END:DAYLIGHT
BEGIN:STANDARD
TZOFFSETFROM:+0200
TZOFFSETTO:+0100
TZNAME:CET
DTSTART:20201025T010000
END:STANDARD
BEGIN:DAYLIGHT
TZOFFSETFROM:+0100
TZOFFSETTO:+0200
TZNAME:CEST
DTSTART:20210328T010000
END:DAYLIGHT
BEGIN:STANDARD
TZOFFSETFROM:+0200
TZOFFSETTO:+0100
TZNAME:CET
DTSTART:20211031T010000
END:STANDARD
BEGIN:DAYLIGHT
TZOFFSETFROM:+0100
TZOFFSETTO:+0200
TZNAME:CEST
DTSTART:20220327T010000
END:DAYLIGHT
BEGIN:STANDARD
TZOFFSETFROM:+0200
TZOFFSETTO:+0100
TZNAME:CET
DTSTART:20221030T010000
END:STANDARD
END:VTIMEZONE
BEGIN:VEVENT
DTSTART;TZID=Europe/Rome:20210126T100000
DTEND;TZID=Europe/Rome:20210901T200000
DTSTAMP:20260424T151858
CREATED:20210129T125413Z
LAST-MODIFIED:20210630T142029Z
UID:288648-1611655200-1630526400@www.eventiintoscana.it
SUMMARY:I Love Lego - PALP - Palazzo Pretorio\, Pontedera (Pisa)
DESCRIPTION:E’ prorogata fino al 1° settembre la mostra I love Lego al Palazzo Pretorio di Pontedera.\nUna divertente mostra per grandi e piccoli e un’occasione imperdibile per tutti gli appassionati di quei mattoncini Lego che ogni anno fanno giocare oltre 100 milioni di persone.\nCon oltre 1.000.000 di mattoncini assemblabili\, in un caleidoscopio di colori e costruzioni\, la mostra racconta l’incredibile evoluzione di quello che\, da giocattolo tra i più comuni e conosciuti\, si è trasformato negli anni in vera e propria opera d’arte. \nVere costruzioni di architettura e ingegneria\, decine di metri quadrati di scenari interamente realizzati con mattoncini LEGO® andranno a comporre città moderne e monumenti antichi: dalla città contemporanea ideale alle avventure leggendarie dei pirati\, dai paesaggi medievali agli splendori dell’Antica Roma\, ricostruiti e minuziosamente progettati coi moduli più famosi al mondo. \nMilioni di mattoncini ma non solo: in mostra anche 6 fantastici diorami costruiti grazie alla collaborazione di un gruppo di appassionati collezionisti; speciali installazioni in partnership con la pagina umoristica “Legolize”; 12 oli ispirati a grandi capolavori della storia dell’arte reinterpretati e trasformati in ‘uomini lego’ dall’artista contemporaneo Stefano Bolcato. \nInfine\, a dare il benvenuto ai visitatori nella piazza\, l’opera ‘Testa di LEGO’ di Marco Lodola. Proprio quest’ultima luminosa e sorprendente opera\, che resterà definitivamente a Pontedera\, è stata pensata da Alberto Bartalini come naturale collegamento con la mostra. \n‘I Love Lego’ è promossa dalla Fondazione per la Cultura Pontedera in collaborazione con il Comune di Pontedera\, PALP e Arte Per Non Dormire\, organizzata da Piuma in collaborazione con Arthemisia. La mostra fa parte del progetto “Arte Per Non Dormire – Pontedera ed Oltre XXI Secolo”\, l’ampio progetto di arte contemporanea per la regia di Alberto Bartalini. \nFortemente consigliata la prenotazione\, anche su www.ticket.it. Obbligo di mascherina e distanziamento. \nOrario: dal martedì al venerdì 10-19.15\, sabato\, domenica e festivi ore10-20 solo su prenotazione on line su www.ticket.it/legopontedera \nI Love Lego’ è promossa dalla Fondazione per la Cultura Pontedera in collaborazione con il Comune di Pontedera\, PALP e Arte Per Non Dormire\, organizzata da Piuma in collaborazione con Arthemisia. La mostra fa parte del progetto “Arte Per Non Dormire – Pontedera ed Oltre XXI Secolo”\, l’ampio progetto di arte contemporanea per la regia di Alberto Bartalini.
URL:https://www.eventiintoscana.it/evento/i-love-lego-palp-palazzo-pretorio-pontedera-pisa
LOCATION:PALP – Palazzo Pretorio\, Piazza Curtatone e Montanara\, Pontedera\, Toscana\, 56025\, Italia
CATEGORIES:Mostre d'Arte,Pisa
ATTACH;FMTTYPE=image/jpeg:https://www.eventiintoscana.it/wp-content/uploads/2021/02/42364__LEGO3793copia.jpg
END:VEVENT
BEGIN:VEVENT
DTSTART;TZID=Europe/Rome:20191214T100000
DTEND;TZID=Europe/Rome:20191215T200000
DTSTAMP:20260424T151858
CREATED:20191210T174217Z
LAST-MODIFIED:20191210T174217Z
UID:282600-1576317600-1576440000@www.eventiintoscana.it
SUMMARY:La magia del Natale - Villa Crastan\, Pontedera (Pisa)
DESCRIPTION:Sabato 14 e domenica 15 dicembre appuntamento a Villa Crastan\, a Pontedera\, per vivere La magia del Natale.\nEvento di Beneficenza con ingresso ad offerta libera \nSarà possibile dare la letterina a Babbo Natale oppure scriverla nella sua casa insieme ai suoi elfi\, nonchè fare una foto con il Babbo. \nSabato 14 e Domenica 15 Dicembre \n\nOrario 10:00 13:00 – 15:00 20:00\nVilla Crastan – via Stazione Vecchia\, 3 – Pontedera\n\nInterventi musicali\nSabato 14 dicembre: \n\nOre 16:00: Coro Voci bianche accompagnato dalla JuniOrchestra dell’Accademia Musicale Pontedera\nOre 18:00: coro natalizio a cura di Fiorella Ekwueme\, Eleonora Pesacane\, Eleonora Tognetti\, Andrea Rita Bacci\n\nDomenica 15 dicembre: \n\nOre 17:00: Accademia Musicale Glenn Gould
URL:https://www.eventiintoscana.it/evento/la-magia-del-natale-villa-crastan-pontedera-pisa
LOCATION:Toscana
CATEGORIES:Feste e Folklore,Pisa
ATTACH;FMTTYPE=image/jpeg:https://www.eventiintoscana.it/wp-content/uploads/2019/12/la-magia-del-natale-pontedera.jpg
END:VEVENT
END:VCALENDAR