BEGIN:VCALENDAR
VERSION:2.0
PRODID:-//Eventi in Toscana By Toscana Tascabile - ECPv6.15.12.2//NONSGML v1.0//EN
CALSCALE:GREGORIAN
METHOD:PUBLISH
X-WR-CALNAME:Eventi in Toscana By Toscana Tascabile
X-ORIGINAL-URL:https://www.eventiintoscana.it
X-WR-CALDESC:Eventi per Eventi in Toscana By Toscana Tascabile
REFRESH-INTERVAL;VALUE=DURATION:PT1H
X-Robots-Tag:noindex
X-PUBLISHED-TTL:PT1H
BEGIN:VTIMEZONE
TZID:Europe/Rome
BEGIN:DAYLIGHT
TZOFFSETFROM:+0100
TZOFFSETTO:+0200
TZNAME:CEST
DTSTART:20220327T010000
END:DAYLIGHT
BEGIN:STANDARD
TZOFFSETFROM:+0200
TZOFFSETTO:+0100
TZNAME:CET
DTSTART:20221030T010000
END:STANDARD
BEGIN:DAYLIGHT
TZOFFSETFROM:+0100
TZOFFSETTO:+0200
TZNAME:CEST
DTSTART:20230326T010000
END:DAYLIGHT
BEGIN:STANDARD
TZOFFSETFROM:+0200
TZOFFSETTO:+0100
TZNAME:CET
DTSTART:20231029T010000
END:STANDARD
BEGIN:DAYLIGHT
TZOFFSETFROM:+0100
TZOFFSETTO:+0200
TZNAME:CEST
DTSTART:20240331T010000
END:DAYLIGHT
BEGIN:STANDARD
TZOFFSETFROM:+0200
TZOFFSETTO:+0100
TZNAME:CET
DTSTART:20241027T010000
END:STANDARD
END:VTIMEZONE
BEGIN:VEVENT
DTSTART;TZID=Europe/Rome:20230401T100000
DTEND;TZID=Europe/Rome:20230402T200000
DTSTAMP:20260423T081239
CREATED:20230228T110754Z
LAST-MODIFIED:20230331T092719Z
UID:236130-1680343200-1680465600@www.eventiintoscana.it
SUMMARY:Pinocchio Ciok - San Miniato Basso (Pisa)
DESCRIPTION:Sabato 1 e domenica 2 aprile 2023 prosegue l’appuntamento alla Casa Culturale di San Miniato Basso con Pinocchio Ciok. \nDue week end interamente dedicati alla degustazione e alla vendita di cioccolato e prodotti tipici. \nAi banchini dedicati al cioccolato si affianca anche un mercatino dell’artigianato\, oltre ad attività e divertimenti pensati appositamente per i bambini\, che potranno cimentarsi in un laboratorio per la decorazione delle uova di cioccolato. \nOrari: \nil sabato pomeriggio dalle 15 e la domenica dalle 10 di mattino e fino alle 20. \n\nFonte: Sito web San Miniato Promozione
URL:https://www.eventiintoscana.it/evento/pinocchio-ciok-san-miniato-basso-pisa
CATEGORIES:Pisa,Rassegne e Sagre
ATTACH;FMTTYPE=image/jpeg:https://www.eventiintoscana.it/wp-content/uploads/2017/03/Pinocchio-Ciok.jpg
END:VEVENT
END:VCALENDAR