BEGIN:VCALENDAR
VERSION:2.0
PRODID:-//Eventi in Toscana By Toscana Tascabile - ECPv6.15.12.2//NONSGML v1.0//EN
CALSCALE:GREGORIAN
METHOD:PUBLISH
X-WR-CALNAME:Eventi in Toscana By Toscana Tascabile
X-ORIGINAL-URL:https://www.eventiintoscana.it
X-WR-CALDESC:Eventi per Eventi in Toscana By Toscana Tascabile
REFRESH-INTERVAL;VALUE=DURATION:PT1H
X-Robots-Tag:noindex
X-PUBLISHED-TTL:PT1H
BEGIN:VTIMEZONE
TZID:Europe/Rome
BEGIN:DAYLIGHT
TZOFFSETFROM:+0100
TZOFFSETTO:+0200
TZNAME:CEST
DTSTART:20200329T010000
END:DAYLIGHT
BEGIN:STANDARD
TZOFFSETFROM:+0200
TZOFFSETTO:+0100
TZNAME:CET
DTSTART:20201025T010000
END:STANDARD
BEGIN:DAYLIGHT
TZOFFSETFROM:+0100
TZOFFSETTO:+0200
TZNAME:CEST
DTSTART:20210328T010000
END:DAYLIGHT
BEGIN:STANDARD
TZOFFSETFROM:+0200
TZOFFSETTO:+0100
TZNAME:CET
DTSTART:20211031T010000
END:STANDARD
BEGIN:DAYLIGHT
TZOFFSETFROM:+0100
TZOFFSETTO:+0200
TZNAME:CEST
DTSTART:20220327T010000
END:DAYLIGHT
BEGIN:STANDARD
TZOFFSETFROM:+0200
TZOFFSETTO:+0100
TZNAME:CET
DTSTART:20221030T010000
END:STANDARD
END:VTIMEZONE
BEGIN:VEVENT
DTSTART;VALUE=DATE:20210201
DTEND;VALUE=DATE:20210301
DTSTAMP:20260420T021620
CREATED:20210202T104221Z
LAST-MODIFIED:20210202T104221Z
UID:288691-1612137600-1614556799@www.eventiintoscana.it
SUMMARY:Il febbraio di Pietrasanta tra devozione\, cultura e gastronomia - Pietrasanta (Lucca)
DESCRIPTION:#Pietrasanta365: San Biagio tra fede e gusto\, benedizione della gola\, menu nei ristoranti\, tour nelle pasticcerie ed il ritorno dell’arte e dei musei.\nFesta senza fiera ma festa sarà di fede\, gusto e cultura a Pietrasanta per il santo patrono San Biagio. \nNel rispetto del DPCM e di tutte le normative anti-contagio\, il Comune di Pietrasanta è riuscito con il concreto sostegno delle attività commerciali e del territorio ad organizzare e promuovere le celebrazioni del Santo Patrono della Gola che ricorre il 3 febbraio. \nFebbraio è storicamente\, per la città di Pietrasanta\, il mese del martire a cui vengono attribuiti molti miracoli. Il più noto è certamente l’aver salvato con una benedizione un bambino che stava soffocando dopo aver inghiottito una lisca di pesce. \nSecondo la leggenda il miracolo avvenne proprio mentre il santo\, già condannato\, veniva condotto al martirio. Una scena che l’arte ha reso immortale nelle tele di Giuseppe Bacchini risalente al secolo XVIII e di Giovanni Tommasi presenti proprio all’interno del Duomo di San Martino. \nE’ una reliquia del Santo Patrono\, custodita nel busto settecentesco nel Duomo di San Martino\, a richiamare da tutta la Versilia\, ed oltre\, tanti fedeli che in occasione delle celebrazioni che si tengono ogni anno il 3 ed il 4 febbraio\, arrivano a Pietrasanta per la benedizione della gola. \nSono quattro le liturgie in programma durante la due giorni di celebrazioni: mercoledì 3 febbraio alle ore 11.00 e alle ore 18.00 e giovedì 4 febbraio alle ore 9.00 e alle ore 17.00. E’ possibile ottenere la benedizione della gola\, che quest’anno avverrà a distanza\, nei momenti in cui non si celebra la liturgia. \nIl Duomo di San Martino sarà aperto al pubblico mercoledì 3 dalle ore 8.00 alle ore 12.30 e dalle 15.00 alle 19.00 mentre giovedì 4 febbraio dalle 9.00 alle 12.30 e dalle 15.00 alle 18.00. \nSono tante le iniziative che hanno “resistito” in tempo di pandemia attraverso le quali l’amministrazione comunale per il coordinamento dell’assessorato agli eventi e alle manifestazioni vuole sostenere le attività del territorio dopo mesi molto duri. \nPer una settimana\, dal 1 al 7 febbraio\, ristoranti e pasticcerie proporranno menu speciali e dolci tipici. La brochure digitale completa\, con tutti i menu\, è consultabile cliccando qui. \nAll’iniziativa hanno aderito per i menu speciali Arte & Gourmet\, Pinocchio\, La Volpe e L’Uva\, Filippo a Casa Tua\, Trattoria Gatto Nero\, Ristorante Il Posto\, Ristorante Enoteca Alex\, Ristorante La Martinatica\, Ristorante Il Peposo\, Il Ristorante dell’Hotel Nuova Sabrina. Hanno aderito al tour della dolcezza Pasticceria Simonelli\, Pasticceria Il Duomo\, Yuri & Alice Bakery\, Pasticceria Marietto\, Pasticceria Caffè Versilia\, Pasticceria Il Gabbiano\, Pasticceria La Margherita\, Pasticceria La Perla. \nSan Biagio è\, per la prima volta\, anche in musica con il concerto in streaming promosso dalla Fondazione Versiliana dalla Chiesa di S. Agostino con Michael Guttman e l’orchestra d’archi dell’istituto superiori musica Luigi Boccherini per le coreografie firmate da Adria Ferrali su Tamara Fragale. Il concerto è trasmesso mercoledì 3 febbraio alle ore 17.15 su NoiTv ed in diretta Facebook sui canali ufficiali del Comune di Pietrasanta e Fondazione Versiliana. \nCon la Toscana in zona gialla hanno riaperto dal 26 gennaio anche il Museo dei Bozzetti e la Casa Museo Carducci nella frazione di Valdicastello insieme alle sale espositive del complesso del S. Agostino con la mostra dei maestri scultori della ceramica Bertozzi & Casoni ed i nuovi allestimenti della Sala delle Grasce con le tele di Andrea Belcastro e la Sala del San Leone (da venerdì 29 gennaio al 14 febbraio) che ospita i bronzi dell’artista Harry Marinsky. \nInfo: \n\n\n\nwww.facebook.com/comunedi.pietrasanta \nwww.comune.pietrasanta.lu.it
URL:https://www.eventiintoscana.it/evento/il-febbraio-di-pietrasanta-tra-devozione-cultura-e-gastronomia-pietrasanta-lucca
CATEGORIES:Feste e Folklore,Lucca
ATTACH;FMTTYPE=image/jpeg:https://www.eventiintoscana.it/wp-content/uploads/2021/02/Pietrasanta.jpg
END:VEVENT
END:VCALENDAR